{"text_format":"1","workbook":"xlsx","n_sheets":3,"sheets":["Ingresar DATOS","CUADRO INFORMATIVO","Proceso"],"not_rendered":{"charts":0,"images":0,"macros":1,"external_links":0,"defined_names":0,"comments":0,"pivot_tables":0},"unopened":[],"bounds":{"document_bytes":16777216,"sheet_cells":100000,"rows_first":2000,"rows_last":500,"rows_between":2000,"halvings":0,"cell_chars":16384,"cell_head_chars":4096},"cells_cut":0,"cells_raw":0,"read":"whole","date_system":"1900"}

{"sheet":"Ingresar DATOS","index":0,"n_rows":322,"n_cols":5,"rows_kept":322,"cut":false,"hidden":false,"merged":[[321,0,321,4]]}
[]
["PUNTO","NORTE","ESTE","COTA","DESCRIPCION"]
[]
[]
[]
[]
[]
[]
[]
[]
[]
[]
[]
[]
[]
[]
[]
[]
[]
[]
[]
[]
[]
[]
[]
[]
[]
[]
[]
[]
[]
[]
[]
[]
[]
[]
[]
[]
[]
[]
[]
[]
[]
[]
[]
[]
[]
[]
[]
[]
[]
[]
[]
[]
[]
[]
[]
[]
[]
[]
[]
[]
[]
[]
[]
[]
[]
[]
[]
[]
[]
[]
[]
[]
[]
[]
[]
[]
[]
[]
[]
[]
[]
[]
[]
[]
[]
[]
[]
[]
[]
[]
[]
[]
[]
[]
[]
[]
[]
[]
[]
[]
[]
[]
[]
[]
[]
[]
[]
[]
[]
[]
[]
[]
[]
[]
[]
[]
[]
[]
[]
[]
[]
[]
[]
[]
[]
[]
[]
[]
[]
[]
[]
[]
[]
[]
[]
[]
[]
[]
[]
[]
[]
[]
[]
[]
[]
[]
[]
[]
[]
[]
[]
[]
[]
[]
[]
[]
[]
[]
[]
[]
[]
[]
[]
[]
[]
[]
[]
[]
[]
[]
[]
[]
[]
[]
[]
[]
[]
[]
[]
[]
[]
[]
[]
[]
[]
[]
[]
[]
[]
[]
[]
[]
[]
[]
[]
[]
[]
[]
[]
[]
[]
[]
[]
[]
[]
[]
[]
[]
[]
[]
[]
[]
[]
[]
[]
[]
[]
[]
[]
[]
[]
[]
[]
[]
[]
[]
[]
[]
[]
[]
[]
[]
[]
[]
[]
[]
[]
[]
[]
[]
[]
[]
[]
[]
[]
[]
[]
[]
[]
[]
[]
[]
[]
[]
[]
[]
[]
[]
[]
[]
[]
[]
[]
[]
[]
[]
[]
[]
[]
[]
[]
[]
[]
[]
[]
[]
[]
[]
[]
[]
[]
[]
[]
[]
[]
[]
[]
[]
[]
[]
[]
[]
[]
[]
[]
[]
[]
[]
[]
[]
[]
[]
[]
[]
[]
[]
[]
[]
[]
[]
[]
[]
[]
[]
[]
[]
[]
[]
[]
["www.m-tyc.com"]

{"sheet":"CUADRO INFORMATIVO","index":1,"n_rows":322,"n_cols":8,"rows_kept":322,"cut":false,"hidden":false,"merged":[[2,1,2,2],[2,6,2,7],[1,1,1,7],[2,3,3,3],[2,4,3,4],[2,5,3,5]]}
[]
[null,"CUADRO INFORMATIVO DEL PREDIO"]
[null,"LADO",null,"RUMBO","DISTANCIA","V","COORDENADAS"]
[null,"EST","PV",null,null,null,"NORTE","ESTE"]
[null,null,null,null,null,null,{"$f":"IFERROR(IF(F5=0,\" \",VLOOKUP(F5,'Ingresar DATOS'!$A$3:$C$320,2,FALSE)),\" \")","v":" "},{"$f":"IFERROR(IF(F5=0,\" \",VLOOKUP(F5,'Ingresar DATOS'!$A$3:$C$320,3,FALSE)),\" \")","v":" "}]
[null,{"$f":"IF(F6<>0,F5,\" \")","v":" "},{"$f":"IF(F6<>0,F6,\" \")","v":" "},{"$f":"IFERROR(VLOOKUP(B6,Proceso!$A$2:$R$319,18,),\" \")","v":" "},{"$f":"IFERROR(VLOOKUP(B6,Proceso!$A$2:$F$319,6,),\" \")","v":" "},null,{"$f":"IFERROR(IF(F6=0,\" \",VLOOKUP(F6,'Ingresar DATOS'!$A$3:$C$320,2,FALSE)),\" \")","v":" "},{"$f":"IFERROR(IF(F6=0,\" \",VLOOKUP(F6,'Ingresar DATOS'!$A$3:$C$320,3,FALSE)),\" \")","v":" "}]
[null,{"$f":"IF(F7<>0,F6,\" \")","v":" "},{"$f":"IF(F7<>0,F7,\" \")","v":" "},{"$f":"IFERROR(VLOOKUP(B7,Proceso!$A$2:$R$319,18,),\" \")","v":" "},{"$f":"IFERROR(VLOOKUP(B7,Proceso!$A$2:$F$319,6,),\" \")","v":" "},null,{"$f":"IFERROR(IF(F7=0,\" \",VLOOKUP(F7,'Ingresar DATOS'!$A$3:$C$320,2,FALSE)),\" \")","v":" "},{"$f":"IFERROR(IF(F7=0,\" \",VLOOKUP(F7,'Ingresar DATOS'!$A$3:$C$320,3,FALSE)),\" \")","v":" "}]
[null," "," ",{"$f":"IFERROR(VLOOKUP(B8,Proceso!$A$2:$R$319,18,),\" \")","v":" "},{"$f":"IFERROR(VLOOKUP(B8,Proceso!$A$2:$F$319,6,),\" \")","v":" "},null,{"$f":"IFERROR(IF(F8=0,\" \",VLOOKUP(F8,'Ingresar DATOS'!$A$3:$C$320,2,FALSE)),\" \")","v":" "},{"$f":"IFERROR(IF(F8=0,\" \",VLOOKUP(F8,'Ingresar DATOS'!$A$3:$C$320,3,FALSE)),\" \")","v":" "}]
[null," "," ",{"$f":"IFERROR(VLOOKUP(B9,Proceso!$A$2:$R$319,18,),\" \")","v":" "},{"$f":"IFERROR(VLOOKUP(B9,Proceso!$A$2:$F$319,6,),\" \")","v":" "},null,{"$f":"IFERROR(IF(F9=0,\" \",VLOOKUP(F9,'Ingresar DATOS'!$A$3:$C$320,2,FALSE)),\" \")","v":" "},{"$f":"IFERROR(IF(F9=0,\" \",VLOOKUP(F9,'Ingresar DATOS'!$A$3:$C$320,3,FALSE)),\" \")","v":" "}]
[null," "," ",{"$f":"IFERROR(VLOOKUP(B10,Proceso!$A$2:$R$319,18,),\" \")","v":" "},{"$f":"IFERROR(VLOOKUP(B10,Proceso!$A$2:$F$319,6,),\" \")","v":" "},null,{"$f":"IFERROR(IF(F10=0,\" \",VLOOKUP(F10,'Ingresar DATOS'!$A$3:$C$320,2,FALSE)),\" \")","v":" "},{"$f":"IFERROR(IF(F10=0,\" \",VLOOKUP(F10,'Ingresar DATOS'!$A$3:$C$320,3,FALSE)),\" \")","v":" "}]
[null," "," ",{"$f":"IFERROR(VLOOKUP(B11,Proceso!$A$2:$R$319,18,),\" \")","v":" "},{"$f":"IFERROR(VLOOKUP(B11,Proceso!$A$2:$F$319,6,),\" \")","v":" "},null,{"$f":"IFERROR(IF(F11=0,\" \",VLOOKUP(F11,'Ingresar DATOS'!$A$3:$C$320,2,FALSE)),\" \")","v":" "},{"$f":"IFERROR(IF(F11=0,\" \",VLOOKUP(F11,'Ingresar DATOS'!$A$3:$C$320,3,FALSE)),\" \")","v":" "}]
[null," "," ",{"$f":"IFERROR(VLOOKUP(B12,Proceso!$A$2:$R$319,18,),\" \")","v":" "},{"$f":"IFERROR(VLOOKUP(B12,Proceso!$A$2:$F$319,6,),\" \")","v":" "},null,{"$f":"IFERROR(IF(F12=0,\" \",VLOOKUP(F12,'Ingresar DATOS'!$A$3:$C$320,2,FALSE)),\" \")","v":" "},{"$f":"IFERROR(IF(F12=0,\" \",VLOOKUP(F12,'Ingresar DATOS'!$A$3:$C$320,3,FALSE)),\" \")","v":" "}]
[null," "," ",{"$f":"IFERROR(VLOOKUP(B13,Proceso!$A$2:$R$319,18,),\" \")","v":" "},{"$f":"IFERROR(VLOOKUP(B13,Proceso!$A$2:$F$319,6,),\" \")","v":" "},null,{"$f":"IFERROR(IF(F13=0,\" \",VLOOKUP(F13,'Ingresar DATOS'!$A$3:$C$320,2,FALSE)),\" \")","v":" "},{"$f":"IFERROR(IF(F13=0,\" \",VLOOKUP(F13,'Ingresar DATOS'!$A$3:$C$320,3,FALSE)),\" \")","v":" "}]
[null," "," ",{"$f":"IFERROR(VLOOKUP(B14,Proceso!$A$2:$R$319,18,),\" \")","v":" "},{"$f":"IFERROR(VLOOKUP(B14,Proceso!$A$2:$F$319,6,),\" \")","v":" "},null,{"$f":"IFERROR(IF(F14=0,\" \",VLOOKUP(F14,'Ingresar DATOS'!$A$3:$C$320,2,FALSE)),\" \")","v":" "},{"$f":"IFERROR(IF(F14=0,\" \",VLOOKUP(F14,'Ingresar DATOS'!$A$3:$C$320,3,FALSE)),\" \")","v":" "}]
[null," "," ",{"$f":"IFERROR(VLOOKUP(B15,Proceso!$A$2:$R$319,18,),\" \")","v":" "},{"$f":"IFERROR(VLOOKUP(B15,Proceso!$A$2:$F$319,6,),\" \")","v":" "},null,{"$f":"IFERROR(IF(F15=0,\" \",VLOOKUP(F15,'Ingresar DATOS'!$A$3:$C$320,2,FALSE)),\" \")","v":" "},{"$f":"IFERROR(IF(F15=0,\" \",VLOOKUP(F15,'Ingresar DATOS'!$A$3:$C$320,3,FALSE)),\" \")","v":" "}]
[null," "," ",{"$f":"IFERROR(VLOOKUP(B16,Proceso!$A$2:$R$319,18,),\" \")","v":" "},{"$f":"IFERROR(VLOOKUP(B16,Proceso!$A$2:$F$319,6,),\" \")","v":" "},null,{"$f":"IFERROR(IF(F16=0,\" \",VLOOKUP(F16,'Ingresar DATOS'!$A$3:$C$320,2,FALSE)),\" \")","v":" "},{"$f":"IFERROR(IF(F16=0,\" \",VLOOKUP(F16,'Ingresar DATOS'!$A$3:$C$320,3,FALSE)),\" \")","v":" "}]
[null," "," ",{"$f":"IFERROR(VLOOKUP(B17,Proceso!$A$2:$R$319,18,),\" \")","v":" "},{"$f":"IFERROR(VLOOKUP(B17,Proceso!$A$2:$F$319,6,),\" \")","v":" "},null,{"$f":"IFERROR(IF(F17=0,\" \",VLOOKUP(F17,'Ingresar DATOS'!$A$3:$C$320,2,FALSE)),\" \")","v":" "},{"$f":"IFERROR(IF(F17=0,\" \",VLOOKUP(F17,'Ingresar DATOS'!$A$3:$C$320,3,FALSE)),\" \")","v":" "}]
[null," "," ",{"$f":"IFERROR(VLOOKUP(B18,Proceso!$A$2:$R$319,18,),\" \")","v":" "},{"$f":"IFERROR(VLOOKUP(B18,Proceso!$A$2:$F$319,6,),\" \")","v":" "},null,{"$f":"IFERROR(IF(F18=0,\" \",VLOOKUP(F18,'Ingresar DATOS'!$A$3:$C$320,2,FALSE)),\" \")","v":" "},{"$f":"IFERROR(IF(F18=0,\" \",VLOOKUP(F18,'Ingresar DATOS'!$A$3:$C$320,3,FALSE)),\" \")","v":" "}]
[null," "," ",{"$f":"IFERROR(VLOOKUP(B19,Proceso!$A$2:$R$319,18,),\" \")","v":" "},{"$f":"IFERROR(VLOOKUP(B19,Proceso!$A$2:$F$319,6,),\" \")","v":" "},null,{"$f":"IFERROR(IF(F19=0,\" \",VLOOKUP(F19,'Ingresar DATOS'!$A$3:$C$320,2,FALSE)),\" \")","v":" "},{"$f":"IFERROR(IF(F19=0,\" \",VLOOKUP(F19,'Ingresar DATOS'!$A$3:$C$320,3,FALSE)),\" \")","v":" "}]
[null," "," ",{"$f":"IFERROR(VLOOKUP(B20,Proceso!$A$2:$R$319,18,),\" \")","v":" "},{"$f":"IFERROR(VLOOKUP(B20,Proceso!$A$2:$F$319,6,),\" \")","v":" "},null,{"$f":"IFERROR(IF(F20=0,\" \",VLOOKUP(F20,'Ingresar DATOS'!$A$3:$C$320,2,FALSE)),\" \")","v":" "},{"$f":"IFERROR(IF(F20=0,\" \",VLOOKUP(F20,'Ingresar DATOS'!$A$3:$C$320,3,FALSE)),\" \")","v":" "}]
[null," "," ",{"$f":"IFERROR(VLOOKUP(B21,Proceso!$A$2:$R$319,18,),\" \")","v":" "},{"$f":"IFERROR(VLOOKUP(B21,Proceso!$A$2:$F$319,6,),\" \")","v":" "},null,{"$f":"IFERROR(IF(F21=0,\" \",VLOOKUP(F21,'Ingresar DATOS'!$A$3:$C$320,2,FALSE)),\" \")","v":" "},{"$f":"IFERROR(IF(F21=0,\" \",VLOOKUP(F21,'Ingresar DATOS'!$A$3:$C$320,3,FALSE)),\" \")","v":" "}]
[null," "," ",{"$f":"IFERROR(VLOOKUP(B22,Proceso!$A$2:$R$319,18,),\" \")","v":" "},{"$f":"IFERROR(VLOOKUP(B22,Proceso!$A$2:$F$319,6,),\" \")","v":" "},null,{"$f":"IFERROR(IF(F22=0,\" \",VLOOKUP(F22,'Ingresar DATOS'!$A$3:$C$320,2,FALSE)),\" \")","v":" "},{"$f":"IFERROR(IF(F22=0,\" \",VLOOKUP(F22,'Ingresar DATOS'!$A$3:$C$320,3,FALSE)),\" \")","v":" "}]
[null," "," ",{"$f":"IFERROR(VLOOKUP(B23,Proceso!$A$2:$R$319,18,),\" \")","v":" "},{"$f":"IFERROR(VLOOKUP(B23,Proceso!$A$2:$F$319,6,),\" \")","v":" "},null,{"$f":"IFERROR(IF(F23=0,\" \",VLOOKUP(F23,'Ingresar DATOS'!$A$3:$C$320,2,FALSE)),\" \")","v":" "},{"$f":"IFERROR(IF(F23=0,\" \",VLOOKUP(F23,'Ingresar DATOS'!$A$3:$C$320,3,FALSE)),\" \")","v":" "}]
[null," "," ",{"$f":"IFERROR(VLOOKUP(B24,Proceso!$A$2:$R$319,18,),\" \")","v":" "},{"$f":"IFERROR(VLOOKUP(B24,Proceso!$A$2:$F$319,6,),\" \")","v":" "},null,{"$f":"IFERROR(IF(F24=0,\" \",VLOOKUP(F24,'Ingresar DATOS'!$A$3:$C$320,2,FALSE)),\" \")","v":" "},{"$f":"IFERROR(IF(F24=0,\" \",VLOOKUP(F24,'Ingresar DATOS'!$A$3:$C$320,3,FALSE)),\" \")","v":" "}]
[null," "," ",{"$f":"IFERROR(VLOOKUP(B25,Proceso!$A$2:$R$319,18,),\" \")","v":" "},{"$f":"IFERROR(VLOOKUP(B25,Proceso!$A$2:$F$319,6,),\" \")","v":" "},null,{"$f":"IFERROR(IF(F25=0,\" \",VLOOKUP(F25,'Ingresar DATOS'!$A$3:$C$320,2,FALSE)),\" \")","v":" "},{"$f":"IFERROR(IF(F25=0,\" \",VLOOKUP(F25,'Ingresar DATOS'!$A$3:$C$320,3,FALSE)),\" \")","v":" "}]
[null," "," ",{"$f":"IFERROR(VLOOKUP(B26,Proceso!$A$2:$R$319,18,),\" \")","v":" "},{"$f":"IFERROR(VLOOKUP(B26,Proceso!$A$2:$F$319,6,),\" \")","v":" "},null,{"$f":"IFERROR(IF(F26=0,\" \",VLOOKUP(F26,'Ingresar DATOS'!$A$3:$C$320,2,FALSE)),\" \")","v":" "},{"$f":"IFERROR(IF(F26=0,\" \",VLOOKUP(F26,'Ingresar DATOS'!$A$3:$C$320,3,FALSE)),\" \")","v":" "}]
[null," "," ",{"$f":"IFERROR(VLOOKUP(B27,Proceso!$A$2:$R$319,18,),\" \")","v":" "},{"$f":"IFERROR(VLOOKUP(B27,Proceso!$A$2:$F$319,6,),\" \")","v":" "},null,{"$f":"IFERROR(IF(F27=0,\" \",VLOOKUP(F27,'Ingresar DATOS'!$A$3:$C$320,2,FALSE)),\" \")","v":" "},{"$f":"IFERROR(IF(F27=0,\" \",VLOOKUP(F27,'Ingresar DATOS'!$A$3:$C$320,3,FALSE)),\" \")","v":" "}]
[null," "," ",{"$f":"IFERROR(VLOOKUP(B28,Proceso!$A$2:$R$319,18,),\" \")","v":" "},{"$f":"IFERROR(VLOOKUP(B28,Proceso!$A$2:$F$319,6,),\" \")","v":" "},null,{"$f":"IFERROR(IF(F28=0,\" \",VLOOKUP(F28,'Ingresar DATOS'!$A$3:$C$320,2,FALSE)),\" \")","v":" "},{"$f":"IFERROR(IF(F28=0,\" \",VLOOKUP(F28,'Ingresar DATOS'!$A$3:$C$320,3,FALSE)),\" \")","v":" "}]
[null," "," ",{"$f":"IFERROR(VLOOKUP(B29,Proceso!$A$2:$R$319,18,),\" \")","v":" "},{"$f":"IFERROR(VLOOKUP(B29,Proceso!$A$2:$F$319,6,),\" \")","v":" "},null,{"$f":"IFERROR(IF(F29=0,\" \",VLOOKUP(F29,'Ingresar DATOS'!$A$3:$C$320,2,FALSE)),\" \")","v":" "},{"$f":"IFERROR(IF(F29=0,\" \",VLOOKUP(F29,'Ingresar DATOS'!$A$3:$C$320,3,FALSE)),\" \")","v":" "}]
[null," "," ",{"$f":"IFERROR(VLOOKUP(B30,Proceso!$A$2:$R$319,18,),\" \")","v":" "},{"$f":"IFERROR(VLOOKUP(B30,Proceso!$A$2:$F$319,6,),\" \")","v":" "},null,{"$f":"IFERROR(IF(F30=0,\" \",VLOOKUP(F30,'Ingresar DATOS'!$A$3:$C$320,2,FALSE)),\" \")","v":" "},{"$f":"IFERROR(IF(F30=0,\" \",VLOOKUP(F30,'Ingresar DATOS'!$A$3:$C$320,3,FALSE)),\" \")","v":" "}]
[null," "," ",{"$f":"IFERROR(VLOOKUP(B31,Proceso!$A$2:$R$319,18,),\" \")","v":" "},{"$f":"IFERROR(VLOOKUP(B31,Proceso!$A$2:$F$319,6,),\" \")","v":" "},null,{"$f":"IFERROR(IF(F31=0,\" \",VLOOKUP(F31,'Ingresar DATOS'!$A$3:$C$320,2,FALSE)),\" \")","v":" "},{"$f":"IFERROR(IF(F31=0,\" \",VLOOKUP(F31,'Ingresar DATOS'!$A$3:$C$320,3,FALSE)),\" \")","v":" "}]
[null," "," ",{"$f":"IFERROR(VLOOKUP(B32,Proceso!$A$2:$R$319,18,),\" \")","v":" "},{"$f":"IFERROR(VLOOKUP(B32,Proceso!$A$2:$F$319,6,),\" \")","v":" "},null,{"$f":"IFERROR(IF(F32=0,\" \",VLOOKUP(F32,'Ingresar DATOS'!$A$3:$C$320,2,FALSE)),\" \")","v":" "},{"$f":"IFERROR(IF(F32=0,\" \",VLOOKUP(F32,'Ingresar DATOS'!$A$3:$C$320,3,FALSE)),\" \")","v":" "}]
[null," "," ",{"$f":"IFERROR(VLOOKUP(B33,Proceso!$A$2:$R$319,18,),\" \")","v":" "},{"$f":"IFERROR(VLOOKUP(B33,Proceso!$A$2:$F$319,6,),\" \")","v":" "},null,{"$f":"IFERROR(IF(F33=0,\" \",VLOOKUP(F33,'Ingresar DATOS'!$A$3:$C$320,2,FALSE)),\" \")","v":" "},{"$f":"IFERROR(IF(F33=0,\" \",VLOOKUP(F33,'Ingresar DATOS'!$A$3:$C$320,3,FALSE)),\" \")","v":" "}]
[null," "," ",{"$f":"IFERROR(VLOOKUP(B34,Proceso!$A$2:$R$319,18,),\" \")","v":" "},{"$f":"IFERROR(VLOOKUP(B34,Proceso!$A$2:$F$319,6,),\" \")","v":" "},null,{"$f":"IFERROR(IF(F34=0,\" \",VLOOKUP(F34,'Ingresar DATOS'!$A$3:$C$320,2,FALSE)),\" \")","v":" "},{"$f":"IFERROR(IF(F34=0,\" \",VLOOKUP(F34,'Ingresar DATOS'!$A$3:$C$320,3,FALSE)),\" \")","v":" "}]
[null," "," ",{"$f":"IFERROR(VLOOKUP(B35,Proceso!$A$2:$R$319,18,),\" \")","v":" "},{"$f":"IFERROR(VLOOKUP(B35,Proceso!$A$2:$F$319,6,),\" \")","v":" "},null,{"$f":"IFERROR(IF(F35=0,\" \",VLOOKUP(F35,'Ingresar DATOS'!$A$3:$C$320,2,FALSE)),\" \")","v":" "},{"$f":"IFERROR(IF(F35=0,\" \",VLOOKUP(F35,'Ingresar DATOS'!$A$3:$C$320,3,FALSE)),\" \")","v":" "}]
[null," "," ",{"$f":"IFERROR(VLOOKUP(B36,Proceso!$A$2:$R$319,18,),\" \")","v":" "},{"$f":"IFERROR(VLOOKUP(B36,Proceso!$A$2:$F$319,6,),\" \")","v":" "},null,{"$f":"IFERROR(IF(F36=0,\" \",VLOOKUP(F36,'Ingresar DATOS'!$A$3:$C$320,2,FALSE)),\" \")","v":" "},{"$f":"IFERROR(IF(F36=0,\" \",VLOOKUP(F36,'Ingresar DATOS'!$A$3:$C$320,3,FALSE)),\" \")","v":" "}]
[null," "," ",{"$f":"IFERROR(VLOOKUP(B37,Proceso!$A$2:$R$319,18,),\" \")","v":" "},{"$f":"IFERROR(VLOOKUP(B37,Proceso!$A$2:$F$319,6,),\" \")","v":" "},null,{"$f":"IFERROR(IF(F37=0,\" \",VLOOKUP(F37,'Ingresar DATOS'!$A$3:$C$320,2,FALSE)),\" \")","v":" "},{"$f":"IFERROR(IF(F37=0,\" \",VLOOKUP(F37,'Ingresar DATOS'!$A$3:$C$320,3,FALSE)),\" \")","v":" "}]
[null," "," ",{"$f":"IFERROR(VLOOKUP(B38,Proceso!$A$2:$R$319,18,),\" \")","v":" "},{"$f":"IFERROR(VLOOKUP(B38,Proceso!$A$2:$F$319,6,),\" \")","v":" "},null,{"$f":"IFERROR(IF(F38=0,\" \",VLOOKUP(F38,'Ingresar DATOS'!$A$3:$C$320,2,FALSE)),\" \")","v":" "},{"$f":"IFERROR(IF(F38=0,\" \",VLOOKUP(F38,'Ingresar DATOS'!$A$3:$C$320,3,FALSE)),\" \")","v":" "}]
[null," "," ",{"$f":"IFERROR(VLOOKUP(B39,Proceso!$A$2:$R$319,18,),\" \")","v":" "},{"$f":"IFERROR(VLOOKUP(B39,Proceso!$A$2:$F$319,6,),\" \")","v":" "},null,{"$f":"IFERROR(IF(F39=0,\" \",VLOOKUP(F39,'Ingresar DATOS'!$A$3:$C$320,2,FALSE)),\" \")","v":" "},{"$f":"IFERROR(IF(F39=0,\" \",VLOOKUP(F39,'Ingresar DATOS'!$A$3:$C$320,3,FALSE)),\" \")","v":" "}]
[null," "," ",{"$f":"IFERROR(VLOOKUP(B40,Proceso!$A$2:$R$319,18,),\" \")","v":" "},{"$f":"IFERROR(VLOOKUP(B40,Proceso!$A$2:$F$319,6,),\" \")","v":" "},null,{"$f":"IFERROR(IF(F40=0,\" \",VLOOKUP(F40,'Ingresar DATOS'!$A$3:$C$320,2,FALSE)),\" \")","v":" "},{"$f":"IFERROR(IF(F40=0,\" \",VLOOKUP(F40,'Ingresar DATOS'!$A$3:$C$320,3,FALSE)),\" \")","v":" "}]
[null," "," ",{"$f":"IFERROR(VLOOKUP(B41,Proceso!$A$2:$R$319,18,),\" \")","v":" "},{"$f":"IFERROR(VLOOKUP(B41,Proceso!$A$2:$F$319,6,),\" \")","v":" "},null,{"$f":"IFERROR(IF(F41=0,\" \",VLOOKUP(F41,'Ingresar DATOS'!$A$3:$C$320,2,FALSE)),\" \")","v":" "},{"$f":"IFERROR(IF(F41=0,\" \",VLOOKUP(F41,'Ingresar DATOS'!$A$3:$C$320,3,FALSE)),\" \")","v":" "}]
[null," "," ",{"$f":"IFERROR(VLOOKUP(B42,Proceso!$A$2:$R$319,18,),\" \")","v":" "},{"$f":"IFERROR(VLOOKUP(B42,Proceso!$A$2:$F$319,6,),\" \")","v":" "},null,{"$f":"IFERROR(IF(F42=0,\" \",VLOOKUP(F42,'Ingresar DATOS'!$A$3:$C$320,2,FALSE)),\" \")","v":" "},{"$f":"IFERROR(IF(F42=0,\" \",VLOOKUP(F42,'Ingresar DATOS'!$A$3:$C$320,3,FALSE)),\" \")","v":" "}]
[null," "," ",{"$f":"IFERROR(VLOOKUP(B43,Proceso!$A$2:$R$319,18,),\" \")","v":" "},{"$f":"IFERROR(VLOOKUP(B43,Proceso!$A$2:$F$319,6,),\" \")","v":" "},null,{"$f":"IFERROR(IF(F43=0,\" \",VLOOKUP(F43,'Ingresar DATOS'!$A$3:$C$320,2,FALSE)),\" \")","v":" "},{"$f":"IFERROR(IF(F43=0,\" \",VLOOKUP(F43,'Ingresar DATOS'!$A$3:$C$320,3,FALSE)),\" \")","v":" "}]
[null," "," ",{"$f":"IFERROR(VLOOKUP(B44,Proceso!$A$2:$R$319,18,),\" \")","v":" "},{"$f":"IFERROR(VLOOKUP(B44,Proceso!$A$2:$F$319,6,),\" \")","v":" "},null,{"$f":"IFERROR(IF(F44=0,\" \",VLOOKUP(F44,'Ingresar DATOS'!$A$3:$C$320,2,FALSE)),\" \")","v":" "},{"$f":"IFERROR(IF(F44=0,\" \",VLOOKUP(F44,'Ingresar DATOS'!$A$3:$C$320,3,FALSE)),\" \")","v":" "}]
[null," "," ",{"$f":"IFERROR(VLOOKUP(B45,Proceso!$A$2:$R$319,18,),\" \")","v":" "},{"$f":"IFERROR(VLOOKUP(B45,Proceso!$A$2:$F$319,6,),\" \")","v":" "},null,{"$f":"IFERROR(IF(F45=0,\" \",VLOOKUP(F45,'Ingresar DATOS'!$A$3:$C$320,2,FALSE)),\" \")","v":" "},{"$f":"IFERROR(IF(F45=0,\" \",VLOOKUP(F45,'Ingresar DATOS'!$A$3:$C$320,3,FALSE)),\" \")","v":" "}]
[null," "," ",{"$f":"IFERROR(VLOOKUP(B46,Proceso!$A$2:$R$319,18,),\" \")","v":" "},{"$f":"IFERROR(VLOOKUP(B46,Proceso!$A$2:$F$319,6,),\" \")","v":" "},null,{"$f":"IFERROR(IF(F46=0,\" \",VLOOKUP(F46,'Ingresar DATOS'!$A$3:$C$320,2,FALSE)),\" \")","v":" "},{"$f":"IFERROR(IF(F46=0,\" \",VLOOKUP(F46,'Ingresar DATOS'!$A$3:$C$320,3,FALSE)),\" \")","v":" "}]
[null," "," ",{"$f":"IFERROR(VLOOKUP(B47,Proceso!$A$2:$R$319,18,),\" \")","v":" "},{"$f":"IFERROR(VLOOKUP(B47,Proceso!$A$2:$F$319,6,),\" \")","v":" "},null,{"$f":"IFERROR(IF(F47=0,\" \",VLOOKUP(F47,'Ingresar DATOS'!$A$3:$C$320,2,FALSE)),\" \")","v":" "},{"$f":"IFERROR(IF(F47=0,\" \",VLOOKUP(F47,'Ingresar DATOS'!$A$3:$C$320,3,FALSE)),\" \")","v":" "}]
[null," "," ",{"$f":"IFERROR(VLOOKUP(B48,Proceso!$A$2:$R$319,18,),\" \")","v":" "},{"$f":"IFERROR(VLOOKUP(B48,Proceso!$A$2:$F$319,6,),\" \")","v":" "},null,{"$f":"IFERROR(IF(F48=0,\" \",VLOOKUP(F48,'Ingresar DATOS'!$A$3:$C$320,2,FALSE)),\" \")","v":" "},{"$f":"IFERROR(IF(F48=0,\" \",VLOOKUP(F48,'Ingresar DATOS'!$A$3:$C$320,3,FALSE)),\" \")","v":" "}]
[null," "," ",{"$f":"IFERROR(VLOOKUP(B49,Proceso!$A$2:$R$319,18,),\" \")","v":" "},{"$f":"IFERROR(VLOOKUP(B49,Proceso!$A$2:$F$319,6,),\" \")","v":" "},null,{"$f":"IFERROR(IF(F49=0,\" \",VLOOKUP(F49,'Ingresar DATOS'!$A$3:$C$320,2,FALSE)),\" \")","v":" "},{"$f":"IFERROR(IF(F49=0,\" \",VLOOKUP(F49,'Ingresar DATOS'!$A$3:$C$320,3,FALSE)),\" \")","v":" "}]
[null," "," ",{"$f":"IFERROR(VLOOKUP(B50,Proceso!$A$2:$R$319,18,),\" \")","v":" "},{"$f":"IFERROR(VLOOKUP(B50,Proceso!$A$2:$F$319,6,),\" \")","v":" "},null,{"$f":"IFERROR(IF(F50=0,\" \",VLOOKUP(F50,'Ingresar DATOS'!$A$3:$C$320,2,FALSE)),\" \")","v":" "},{"$f":"IFERROR(IF(F50=0,\" \",VLOOKUP(F50,'Ingresar DATOS'!$A$3:$C$320,3,FALSE)),\" \")","v":" "}]
[null," "," ",{"$f":"IFERROR(VLOOKUP(B51,Proceso!$A$2:$R$319,18,),\" \")","v":" "},{"$f":"IFERROR(VLOOKUP(B51,Proceso!$A$2:$F$319,6,),\" \")","v":" "},null,{"$f":"IFERROR(IF(F51=0,\" \",VLOOKUP(F51,'Ingresar DATOS'!$A$3:$C$320,2,FALSE)),\" \")","v":" "},{"$f":"IFERROR(IF(F51=0,\" \",VLOOKUP(F51,'Ingresar DATOS'!$A$3:$C$320,3,FALSE)),\" \")","v":" "}]
[null," "," ",{"$f":"IFERROR(VLOOKUP(B52,Proceso!$A$2:$R$319,18,),\" \")","v":" "},{"$f":"IFERROR(VLOOKUP(B52,Proceso!$A$2:$F$319,6,),\" \")","v":" "},null,{"$f":"IFERROR(IF(F52=0,\" \",VLOOKUP(F52,'Ingresar DATOS'!$A$3:$C$320,2,FALSE)),\" \")","v":" "},{"$f":"IFERROR(IF(F52=0,\" \",VLOOKUP(F52,'Ingresar DATOS'!$A$3:$C$320,3,FALSE)),\" \")","v":" "}]
[null," "," ",{"$f":"IFERROR(VLOOKUP(B53,Proceso!$A$2:$R$319,18,),\" \")","v":" "},{"$f":"IFERROR(VLOOKUP(B53,Proceso!$A$2:$F$319,6,),\" \")","v":" "},null,{"$f":"IFERROR(IF(F53=0,\" \",VLOOKUP(F53,'Ingresar DATOS'!$A$3:$C$320,2,FALSE)),\" \")","v":" "},{"$f":"IFERROR(IF(F53=0,\" \",VLOOKUP(F53,'Ingresar DATOS'!$A$3:$C$320,3,FALSE)),\" \")","v":" "}]
[null," "," ",{"$f":"IFERROR(VLOOKUP(B54,Proceso!$A$2:$R$319,18,),\" \")","v":" "},{"$f":"IFERROR(VLOOKUP(B54,Proceso!$A$2:$F$319,6,),\" \")","v":" "},null,{"$f":"IFERROR(IF(F54=0,\" \",VLOOKUP(F54,'Ingresar DATOS'!$A$3:$C$320,2,FALSE)),\" \")","v":" "},{"$f":"IFERROR(IF(F54=0,\" \",VLOOKUP(F54,'Ingresar DATOS'!$A$3:$C$320,3,FALSE)),\" \")","v":" "}]
[null," "," ",{"$f":"IFERROR(VLOOKUP(B55,Proceso!$A$2:$R$319,18,),\" \")","v":" "},{"$f":"IFERROR(VLOOKUP(B55,Proceso!$A$2:$F$319,6,),\" \")","v":" "},null,{"$f":"IFERROR(IF(F55=0,\" \",VLOOKUP(F55,'Ingresar DATOS'!$A$3:$C$320,2,FALSE)),\" \")","v":" "},{"$f":"IFERROR(IF(F55=0,\" \",VLOOKUP(F55,'Ingresar DATOS'!$A$3:$C$320,3,FALSE)),\" \")","v":" "}]
[null," "," ",{"$f":"IFERROR(VLOOKUP(B56,Proceso!$A$2:$R$319,18,),\" \")","v":" "},{"$f":"IFERROR(VLOOKUP(B56,Proceso!$A$2:$F$319,6,),\" \")","v":" "},null,{"$f":"IFERROR(IF(F56=0,\" \",VLOOKUP(F56,'Ingresar DATOS'!$A$3:$C$320,2,FALSE)),\" \")","v":" "},{"$f":"IFERROR(IF(F56=0,\" \",VLOOKUP(F56,'Ingresar DATOS'!$A$3:$C$320,3,FALSE)),\" \")","v":" "}]
[null," "," ",{"$f":"IFERROR(VLOOKUP(B57,Proceso!$A$2:$R$319,18,),\" \")","v":" "},{"$f":"IFERROR(VLOOKUP(B57,Proceso!$A$2:$F$319,6,),\" \")","v":" "},null,{"$f":"IFERROR(IF(F57=0,\" \",VLOOKUP(F57,'Ingresar DATOS'!$A$3:$C$320,2,FALSE)),\" \")","v":" "},{"$f":"IFERROR(IF(F57=0,\" \",VLOOKUP(F57,'Ingresar DATOS'!$A$3:$C$320,3,FALSE)),\" \")","v":" "}]
[null," "," ",{"$f":"IFERROR(VLOOKUP(B58,Proceso!$A$2:$R$319,18,),\" \")","v":" "},{"$f":"IFERROR(VLOOKUP(B58,Proceso!$A$2:$F$319,6,),\" \")","v":" "},null,{"$f":"IFERROR(IF(F58=0,\" \",VLOOKUP(F58,'Ingresar DATOS'!$A$3:$C$320,2,FALSE)),\" \")","v":" "},{"$f":"IFERROR(IF(F58=0,\" \",VLOOKUP(F58,'Ingresar DATOS'!$A$3:$C$320,3,FALSE)),\" \")","v":" "}]
[null," "," ",{"$f":"IFERROR(VLOOKUP(B59,Proceso!$A$2:$R$319,18,),\" \")","v":" "},{"$f":"IFERROR(VLOOKUP(B59,Proceso!$A$2:$F$319,6,),\" \")","v":" "},null,{"$f":"IFERROR(IF(F59=0,\" \",VLOOKUP(F59,'Ingresar DATOS'!$A$3:$C$320,2,FALSE)),\" \")","v":" "},{"$f":"IFERROR(IF(F59=0,\" \",VLOOKUP(F59,'Ingresar DATOS'!$A$3:$C$320,3,FALSE)),\" \")","v":" "}]
[null," "," ",{"$f":"IFERROR(VLOOKUP(B60,Proceso!$A$2:$R$319,18,),\" \")","v":" "},{"$f":"IFERROR(VLOOKUP(B60,Proceso!$A$2:$F$319,6,),\" \")","v":" "},null,{"$f":"IFERROR(IF(F60=0,\" \",VLOOKUP(F60,'Ingresar DATOS'!$A$3:$C$320,2,FALSE)),\" \")","v":" "},{"$f":"IFERROR(IF(F60=0,\" \",VLOOKUP(F60,'Ingresar DATOS'!$A$3:$C$320,3,FALSE)),\" \")","v":" "}]
[null," "," ",{"$f":"IFERROR(VLOOKUP(B61,Proceso!$A$2:$R$319,18,),\" \")","v":" "},{"$f":"IFERROR(VLOOKUP(B61,Proceso!$A$2:$F$319,6,),\" \")","v":" "},null,{"$f":"IFERROR(IF(F61=0,\" \",VLOOKUP(F61,'Ingresar DATOS'!$A$3:$C$320,2,FALSE)),\" \")","v":" "},{"$f":"IFERROR(IF(F61=0,\" \",VLOOKUP(F61,'Ingresar DATOS'!$A$3:$C$320,3,FALSE)),\" \")","v":" "}]
[null," "," ",{"$f":"IFERROR(VLOOKUP(B62,Proceso!$A$2:$R$319,18,),\" \")","v":" "},{"$f":"IFERROR(VLOOKUP(B62,Proceso!$A$2:$F$319,6,),\" \")","v":" "},null,{"$f":"IFERROR(IF(F62=0,\" \",VLOOKUP(F62,'Ingresar DATOS'!$A$3:$C$320,2,FALSE)),\" \")","v":" "},{"$f":"IFERROR(IF(F62=0,\" \",VLOOKUP(F62,'Ingresar DATOS'!$A$3:$C$320,3,FALSE)),\" \")","v":" "}]
[null," "," ",{"$f":"IFERROR(VLOOKUP(B63,Proceso!$A$2:$R$319,18,),\" \")","v":" "},{"$f":"IFERROR(VLOOKUP(B63,Proceso!$A$2:$F$319,6,),\" \")","v":" "},null,{"$f":"IFERROR(IF(F63=0,\" \",VLOOKUP(F63,'Ingresar DATOS'!$A$3:$C$320,2,FALSE)),\" \")","v":" "},{"$f":"IFERROR(IF(F63=0,\" \",VLOOKUP(F63,'Ingresar DATOS'!$A$3:$C$320,3,FALSE)),\" \")","v":" "}]
[null," "," ",{"$f":"IFERROR(VLOOKUP(B64,Proceso!$A$2:$R$319,18,),\" \")","v":" "},{"$f":"IFERROR(VLOOKUP(B64,Proceso!$A$2:$F$319,6,),\" \")","v":" "},null,{"$f":"IFERROR(IF(F64=0,\" \",VLOOKUP(F64,'Ingresar DATOS'!$A$3:$C$320,2,FALSE)),\" \")","v":" "},{"$f":"IFERROR(IF(F64=0,\" \",VLOOKUP(F64,'Ingresar DATOS'!$A$3:$C$320,3,FALSE)),\" \")","v":" "}]
[null," "," ",{"$f":"IFERROR(VLOOKUP(B65,Proceso!$A$2:$R$319,18,),\" \")","v":" "},{"$f":"IFERROR(VLOOKUP(B65,Proceso!$A$2:$F$319,6,),\" \")","v":" "},null,{"$f":"IFERROR(IF(F65=0,\" \",VLOOKUP(F65,'Ingresar DATOS'!$A$3:$C$320,2,FALSE)),\" \")","v":" "},{"$f":"IFERROR(IF(F65=0,\" \",VLOOKUP(F65,'Ingresar DATOS'!$A$3:$C$320,3,FALSE)),\" \")","v":" "}]
[null," "," ",{"$f":"IFERROR(VLOOKUP(B66,Proceso!$A$2:$R$319,18,),\" \")","v":" "},{"$f":"IFERROR(VLOOKUP(B66,Proceso!$A$2:$F$319,6,),\" \")","v":" "},null,{"$f":"IFERROR(IF(F66=0,\" \",VLOOKUP(F66,'Ingresar DATOS'!$A$3:$C$320,2,FALSE)),\" \")","v":" "},{"$f":"IFERROR(IF(F66=0,\" \",VLOOKUP(F66,'Ingresar DATOS'!$A$3:$C$320,3,FALSE)),\" \")","v":" "}]
[null," "," ",{"$f":"IFERROR(VLOOKUP(B67,Proceso!$A$2:$R$319,18,),\" \")","v":" "},{"$f":"IFERROR(VLOOKUP(B67,Proceso!$A$2:$F$319,6,),\" \")","v":" "},null,{"$f":"IFERROR(IF(F67=0,\" \",VLOOKUP(F67,'Ingresar DATOS'!$A$3:$C$320,2,FALSE)),\" \")","v":" "},{"$f":"IFERROR(IF(F67=0,\" \",VLOOKUP(F67,'Ingresar DATOS'!$A$3:$C$320,3,FALSE)),\" \")","v":" "}]
[null," "," ",{"$f":"IFERROR(VLOOKUP(B68,Proceso!$A$2:$R$319,18,),\" \")","v":" "},{"$f":"IFERROR(VLOOKUP(B68,Proceso!$A$2:$F$319,6,),\" \")","v":" "},null,{"$f":"IFERROR(IF(F68=0,\" \",VLOOKUP(F68,'Ingresar DATOS'!$A$3:$C$320,2,FALSE)),\" \")","v":" "},{"$f":"IFERROR(IF(F68=0,\" \",VLOOKUP(F68,'Ingresar DATOS'!$A$3:$C$320,3,FALSE)),\" \")","v":" "}]
[null," "," ",{"$f":"IFERROR(VLOOKUP(B69,Proceso!$A$2:$R$319,18,),\" \")","v":" "},{"$f":"IFERROR(VLOOKUP(B69,Proceso!$A$2:$F$319,6,),\" \")","v":" "},null,{"$f":"IFERROR(IF(F69=0,\" \",VLOOKUP(F69,'Ingresar DATOS'!$A$3:$C$320,2,FALSE)),\" \")","v":" "},{"$f":"IFERROR(IF(F69=0,\" \",VLOOKUP(F69,'Ingresar DATOS'!$A$3:$C$320,3,FALSE)),\" \")","v":" "}]
[null," "," ",{"$f":"IFERROR(VLOOKUP(B70,Proceso!$A$2:$R$319,18,),\" \")","v":" "},{"$f":"IFERROR(VLOOKUP(B70,Proceso!$A$2:$F$319,6,),\" \")","v":" "},null,{"$f":"IFERROR(IF(F70=0,\" \",VLOOKUP(F70,'Ingresar DATOS'!$A$3:$C$320,2,FALSE)),\" \")","v":" "},{"$f":"IFERROR(IF(F70=0,\" \",VLOOKUP(F70,'Ingresar DATOS'!$A$3:$C$320,3,FALSE)),\" \")","v":" "}]
[null,{"$f":"IF(F71<>0,F70,\" \")","v":" "},{"$f":"IF(F71<>0,F71,\" \")","v":" "},{"$f":"IFERROR(VLOOKUP(B71,Proceso!$A$2:$R$319,18,),\" \")","v":" "},{"$f":"IFERROR(VLOOKUP(B71,Proceso!$A$2:$F$319,6,),\" \")","v":" "},null,{"$f":"IFERROR(IF(F71=0,\" \",VLOOKUP(F71,'Ingresar DATOS'!$A$3:$C$320,2,FALSE)),\" \")","v":" "},{"$f":"IFERROR(IF(F71=0,\" \",VLOOKUP(F71,'Ingresar DATOS'!$A$3:$C$320,3,FALSE)),\" \")","v":" "}]
[null," "," ",{"$f":"IFERROR(VLOOKUP(B72,Proceso!$A$2:$R$319,18,),\" \")","v":" "},{"$f":"IFERROR(VLOOKUP(B72,Proceso!$A$2:$F$319,6,),\" \")","v":" "},null,{"$f":"IFERROR(IF(F72=0,\" \",VLOOKUP(F72,'Ingresar DATOS'!$A$3:$C$320,2,FALSE)),\" \")","v":" "},{"$f":"IFERROR(IF(F72=0,\" \",VLOOKUP(F72,'Ingresar DATOS'!$A$3:$C$320,3,FALSE)),\" \")","v":" "}]
[null," "," ",{"$f":"IFERROR(VLOOKUP(B73,Proceso!$A$2:$R$319,18,),\" \")","v":" "},{"$f":"IFERROR(VLOOKUP(B73,Proceso!$A$2:$F$319,6,),\" \")","v":" "},null,{"$f":"IFERROR(IF(F73=0,\" \",VLOOKUP(F73,'Ingresar DATOS'!$A$3:$C$320,2,FALSE)),\" \")","v":" "},{"$f":"IFERROR(IF(F73=0,\" \",VLOOKUP(F73,'Ingresar DATOS'!$A$3:$C$320,3,FALSE)),\" \")","v":" "}]
[null," "," ",{"$f":"IFERROR(VLOOKUP(B74,Proceso!$A$2:$R$319,18,),\" \")","v":" "},{"$f":"IFERROR(VLOOKUP(B74,Proceso!$A$2:$F$319,6,),\" \")","v":" "},null,{"$f":"IFERROR(IF(F74=0,\" \",VLOOKUP(F74,'Ingresar DATOS'!$A$3:$C$320,2,FALSE)),\" \")","v":" "},{"$f":"IFERROR(IF(F74=0,\" \",VLOOKUP(F74,'Ingresar DATOS'!$A$3:$C$320,3,FALSE)),\" \")","v":" "}]
[null," "," ",{"$f":"IFERROR(VLOOKUP(B75,Proceso!$A$2:$R$319,18,),\" \")","v":" "},{"$f":"IFERROR(VLOOKUP(B75,Proceso!$A$2:$F$319,6,),\" \")","v":" "},null,{"$f":"IFERROR(IF(F75=0,\" \",VLOOKUP(F75,'Ingresar DATOS'!$A$3:$C$320,2,FALSE)),\" \")","v":" "},{"$f":"IFERROR(IF(F75=0,\" \",VLOOKUP(F75,'Ingresar DATOS'!$A$3:$C$320,3,FALSE)),\" \")","v":" "}]
[null," "," ",{"$f":"IFERROR(VLOOKUP(B76,Proceso!$A$2:$R$319,18,),\" \")","v":" "},{"$f":"IFERROR(VLOOKUP(B76,Proceso!$A$2:$F$319,6,),\" \")","v":" "},null,{"$f":"IFERROR(IF(F76=0,\" \",VLOOKUP(F76,'Ingresar DATOS'!$A$3:$C$320,2,FALSE)),\" \")","v":" "},{"$f":"IFERROR(IF(F76=0,\" \",VLOOKUP(F76,'Ingresar DATOS'!$A$3:$C$320,3,FALSE)),\" \")","v":" "}]
[null," "," ",{"$f":"IFERROR(VLOOKUP(B77,Proceso!$A$2:$R$319,18,),\" \")","v":" "},{"$f":"IFERROR(VLOOKUP(B77,Proceso!$A$2:$F$319,6,),\" \")","v":" "},null,{"$f":"IFERROR(IF(F77=0,\" \",VLOOKUP(F77,'Ingresar DATOS'!$A$3:$C$320,2,FALSE)),\" \")","v":" "},{"$f":"IFERROR(IF(F77=0,\" \",VLOOKUP(F77,'Ingresar DATOS'!$A$3:$C$320,3,FALSE)),\" \")","v":" "}]
[null," "," ",{"$f":"IFERROR(VLOOKUP(B78,Proceso!$A$2:$R$319,18,),\" \")","v":" "},{"$f":"IFERROR(VLOOKUP(B78,Proceso!$A$2:$F$319,6,),\" \")","v":" "},null,{"$f":"IFERROR(IF(F78=0,\" \",VLOOKUP(F78,'Ingresar DATOS'!$A$3:$C$320,2,FALSE)),\" \")","v":" "},{"$f":"IFERROR(IF(F78=0,\" \",VLOOKUP(F78,'Ingresar DATOS'!$A$3:$C$320,3,FALSE)),\" \")","v":" "}]
[null," "," ",{"$f":"IFERROR(VLOOKUP(B79,Proceso!$A$2:$R$319,18,),\" \")","v":" "},{"$f":"IFERROR(VLOOKUP(B79,Proceso!$A$2:$F$319,6,),\" \")","v":" "},null,{"$f":"IFERROR(IF(F79=0,\" \",VLOOKUP(F79,'Ingresar DATOS'!$A$3:$C$320,2,FALSE)),\" \")","v":" "},{"$f":"IFERROR(IF(F79=0,\" \",VLOOKUP(F79,'Ingresar DATOS'!$A$3:$C$320,3,FALSE)),\" \")","v":" "}]
[null," "," ",{"$f":"IFERROR(VLOOKUP(B80,Proceso!$A$2:$R$319,18,),\" \")","v":" "},{"$f":"IFERROR(VLOOKUP(B80,Proceso!$A$2:$F$319,6,),\" \")","v":" "},null,{"$f":"IFERROR(IF(F80=0,\" \",VLOOKUP(F80,'Ingresar DATOS'!$A$3:$C$320,2,FALSE)),\" \")","v":" "},{"$f":"IFERROR(IF(F80=0,\" \",VLOOKUP(F80,'Ingresar DATOS'!$A$3:$C$320,3,FALSE)),\" \")","v":" "}]
[null," "," ",{"$f":"IFERROR(VLOOKUP(B81,Proceso!$A$2:$R$319,18,),\" \")","v":" "},{"$f":"IFERROR(VLOOKUP(B81,Proceso!$A$2:$F$319,6,),\" \")","v":" "},null,{"$f":"IFERROR(IF(F81=0,\" \",VLOOKUP(F81,'Ingresar DATOS'!$A$3:$C$320,2,FALSE)),\" \")","v":" "},{"$f":"IFERROR(IF(F81=0,\" \",VLOOKUP(F81,'Ingresar DATOS'!$A$3:$C$320,3,FALSE)),\" \")","v":" "}]
[null," "," ",{"$f":"IFERROR(VLOOKUP(B82,Proceso!$A$2:$R$319,18,),\" \")","v":" "},{"$f":"IFERROR(VLOOKUP(B82,Proceso!$A$2:$F$319,6,),\" \")","v":" "},null,{"$f":"IFERROR(IF(F82=0,\" \",VLOOKUP(F82,'Ingresar DATOS'!$A$3:$C$320,2,FALSE)),\" \")","v":" "},{"$f":"IFERROR(IF(F82=0,\" \",VLOOKUP(F82,'Ingresar DATOS'!$A$3:$C$320,3,FALSE)),\" \")","v":" "}]
[null," "," ",{"$f":"IFERROR(VLOOKUP(B83,Proceso!$A$2:$R$319,18,),\" \")","v":" "},{"$f":"IFERROR(VLOOKUP(B83,Proceso!$A$2:$F$319,6,),\" \")","v":" "},null,{"$f":"IFERROR(IF(F83=0,\" \",VLOOKUP(F83,'Ingresar DATOS'!$A$3:$C$320,2,FALSE)),\" \")","v":" "},{"$f":"IFERROR(IF(F83=0,\" \",VLOOKUP(F83,'Ingresar DATOS'!$A$3:$C$320,3,FALSE)),\" \")","v":" "}]
[null," "," ",{"$f":"IFERROR(VLOOKUP(B84,Proceso!$A$2:$R$319,18,),\" \")","v":" "},{"$f":"IFERROR(VLOOKUP(B84,Proceso!$A$2:$F$319,6,),\" \")","v":" "},null,{"$f":"IFERROR(IF(F84=0,\" \",VLOOKUP(F84,'Ingresar DATOS'!$A$3:$C$320,2,FALSE)),\" \")","v":" "},{"$f":"IFERROR(IF(F84=0,\" \",VLOOKUP(F84,'Ingresar DATOS'!$A$3:$C$320,3,FALSE)),\" \")","v":" "}]
[null," "," ",{"$f":"IFERROR(VLOOKUP(B85,Proceso!$A$2:$R$319,18,),\" \")","v":" "},{"$f":"IFERROR(VLOOKUP(B85,Proceso!$A$2:$F$319,6,),\" \")","v":" "},null,{"$f":"IFERROR(IF(F85=0,\" \",VLOOKUP(F85,'Ingresar DATOS'!$A$3:$C$320,2,FALSE)),\" \")","v":" "},{"$f":"IFERROR(IF(F85=0,\" \",VLOOKUP(F85,'Ingresar DATOS'!$A$3:$C$320,3,FALSE)),\" \")","v":" "}]
[null," "," ",{"$f":"IFERROR(VLOOKUP(B86,Proceso!$A$2:$R$319,18,),\" \")","v":" "},{"$f":"IFERROR(VLOOKUP(B86,Proceso!$A$2:$F$319,6,),\" \")","v":" "},null,{"$f":"IFERROR(IF(F86=0,\" \",VLOOKUP(F86,'Ingresar DATOS'!$A$3:$C$320,2,FALSE)),\" \")","v":" "},{"$f":"IFERROR(IF(F86=0,\" \",VLOOKUP(F86,'Ingresar DATOS'!$A$3:$C$320,3,FALSE)),\" \")","v":" "}]
[null," "," ",{"$f":"IFERROR(VLOOKUP(B87,Proceso!$A$2:$R$319,18,),\" \")","v":" "},{"$f":"IFERROR(VLOOKUP(B87,Proceso!$A$2:$F$319,6,),\" \")","v":" "},null,{"$f":"IFERROR(IF(F87=0,\" \",VLOOKUP(F87,'Ingresar DATOS'!$A$3:$C$320,2,FALSE)),\" \")","v":" "},{"$f":"IFERROR(IF(F87=0,\" \",VLOOKUP(F87,'Ingresar DATOS'!$A$3:$C$320,3,FALSE)),\" \")","v":" "}]
[null," "," ",{"$f":"IFERROR(VLOOKUP(B88,Proceso!$A$2:$R$319,18,),\" \")","v":" "},{"$f":"IFERROR(VLOOKUP(B88,Proceso!$A$2:$F$319,6,),\" \")","v":" "},null,{"$f":"IFERROR(IF(F88=0,\" \",VLOOKUP(F88,'Ingresar DATOS'!$A$3:$C$320,2,FALSE)),\" \")","v":" "},{"$f":"IFERROR(IF(F88=0,\" \",VLOOKUP(F88,'Ingresar DATOS'!$A$3:$C$320,3,FALSE)),\" \")","v":" "}]
[null," "," ",{"$f":"IFERROR(VLOOKUP(B89,Proceso!$A$2:$R$319,18,),\" \")","v":" "},{"$f":"IFERROR(VLOOKUP(B89,Proceso!$A$2:$F$319,6,),\" \")","v":" "},null,{"$f":"IFERROR(IF(F89=0,\" \",VLOOKUP(F89,'Ingresar DATOS'!$A$3:$C$320,2,FALSE)),\" \")","v":" "},{"$f":"IFERROR(IF(F89=0,\" \",VLOOKUP(F89,'Ingresar DATOS'!$A$3:$C$320,3,FALSE)),\" \")","v":" "}]
[null," "," ",{"$f":"IFERROR(VLOOKUP(B90,Proceso!$A$2:$R$319,18,),\" \")","v":" "},{"$f":"IFERROR(VLOOKUP(B90,Proceso!$A$2:$F$319,6,),\" \")","v":" "},null,{"$f":"IFERROR(IF(F90=0,\" \",VLOOKUP(F90,'Ingresar DATOS'!$A$3:$C$320,2,FALSE)),\" \")","v":" "},{"$f":"IFERROR(IF(F90=0,\" \",VLOOKUP(F90,'Ingresar DATOS'!$A$3:$C$320,3,FALSE)),\" \")","v":" "}]
[null," "," ",{"$f":"IFERROR(VLOOKUP(B91,Proceso!$A$2:$R$319,18,),\" \")","v":" "},{"$f":"IFERROR(VLOOKUP(B91,Proceso!$A$2:$F$319,6,),\" \")","v":" "},null,{"$f":"IFERROR(IF(F91=0,\" \",VLOOKUP(F91,'Ingresar DATOS'!$A$3:$C$320,2,FALSE)),\" \")","v":" "},{"$f":"IFERROR(IF(F91=0,\" \",VLOOKUP(F91,'Ingresar DATOS'!$A$3:$C$320,3,FALSE)),\" \")","v":" "}]
[null," "," ",{"$f":"IFERROR(VLOOKUP(B92,Proceso!$A$2:$R$319,18,),\" \")","v":" "},{"$f":"IFERROR(VLOOKUP(B92,Proceso!$A$2:$F$319,6,),\" \")","v":" "},null,{"$f":"IFERROR(IF(F92=0,\" \",VLOOKUP(F92,'Ingresar DATOS'!$A$3:$C$320,2,FALSE)),\" \")","v":" "},{"$f":"IFERROR(IF(F92=0,\" \",VLOOKUP(F92,'Ingresar DATOS'!$A$3:$C$320,3,FALSE)),\" \")","v":" "}]
[null," "," ",{"$f":"IFERROR(VLOOKUP(B93,Proceso!$A$2:$R$319,18,),\" \")","v":" "},{"$f":"IFERROR(VLOOKUP(B93,Proceso!$A$2:$F$319,6,),\" \")","v":" "},null,{"$f":"IFERROR(IF(F93=0,\" \",VLOOKUP(F93,'Ingresar DATOS'!$A$3:$C$320,2,FALSE)),\" \")","v":" "},{"$f":"IFERROR(IF(F93=0,\" \",VLOOKUP(F93,'Ingresar DATOS'!$A$3:$C$320,3,FALSE)),\" \")","v":" "}]
[null," "," ",{"$f":"IFERROR(VLOOKUP(B94,Proceso!$A$2:$R$319,18,),\" \")","v":" "},{"$f":"IFERROR(VLOOKUP(B94,Proceso!$A$2:$F$319,6,),\" \")","v":" "},null,{"$f":"IFERROR(IF(F94=0,\" \",VLOOKUP(F94,'Ingresar DATOS'!$A$3:$C$320,2,FALSE)),\" \")","v":" "},{"$f":"IFERROR(IF(F94=0,\" \",VLOOKUP(F94,'Ingresar DATOS'!$A$3:$C$320,3,FALSE)),\" \")","v":" "}]
[null," "," ",{"$f":"IFERROR(VLOOKUP(B95,Proceso!$A$2:$R$319,18,),\" \")","v":" "},{"$f":"IFERROR(VLOOKUP(B95,Proceso!$A$2:$F$319,6,),\" \")","v":" "},null,{"$f":"IFERROR(IF(F95=0,\" \",VLOOKUP(F95,'Ingresar DATOS'!$A$3:$C$320,2,FALSE)),\" \")","v":" "},{"$f":"IFERROR(IF(F95=0,\" \",VLOOKUP(F95,'Ingresar DATOS'!$A$3:$C$320,3,FALSE)),\" \")","v":" "}]
[null," "," ",{"$f":"IFERROR(VLOOKUP(B96,Proceso!$A$2:$R$319,18,),\" \")","v":" "},{"$f":"IFERROR(VLOOKUP(B96,Proceso!$A$2:$F$319,6,),\" \")","v":" "},null,{"$f":"IFERROR(IF(F96=0,\" \",VLOOKUP(F96,'Ingresar DATOS'!$A$3:$C$320,2,FALSE)),\" \")","v":" "},{"$f":"IFERROR(IF(F96=0,\" \",VLOOKUP(F96,'Ingresar DATOS'!$A$3:$C$320,3,FALSE)),\" \")","v":" "}]
[null," "," ",{"$f":"IFERROR(VLOOKUP(B97,Proceso!$A$2:$R$319,18,),\" \")","v":" "},{"$f":"IFERROR(VLOOKUP(B97,Proceso!$A$2:$F$319,6,),\" \")","v":" "},null,{"$f":"IFERROR(IF(F97=0,\" \",VLOOKUP(F97,'Ingresar DATOS'!$A$3:$C$320,2,FALSE)),\" \")","v":" "},{"$f":"IFERROR(IF(F97=0,\" \",VLOOKUP(F97,'Ingresar DATOS'!$A$3:$C$320,3,FALSE)),\" \")","v":" "}]
[null," "," ",{"$f":"IFERROR(VLOOKUP(B98,Proceso!$A$2:$R$319,18,),\" \")","v":" "},{"$f":"IFERROR(VLOOKUP(B98,Proceso!$A$2:$F$319,6,),\" \")","v":" "},null,{"$f":"IFERROR(IF(F98=0,\" \",VLOOKUP(F98,'Ingresar DATOS'!$A$3:$C$320,2,FALSE)),\" \")","v":" "},{"$f":"IFERROR(IF(F98=0,\" \",VLOOKUP(F98,'Ingresar DATOS'!$A$3:$C$320,3,FALSE)),\" \")","v":" "}]
[null," "," ",{"$f":"IFERROR(VLOOKUP(B99,Proceso!$A$2:$R$319,18,),\" \")","v":" "},{"$f":"IFERROR(VLOOKUP(B99,Proceso!$A$2:$F$319,6,),\" \")","v":" "},null,{"$f":"IFERROR(IF(F99=0,\" \",VLOOKUP(F99,'Ingresar DATOS'!$A$3:$C$320,2,FALSE)),\" \")","v":" "},{"$f":"IFERROR(IF(F99=0,\" \",VLOOKUP(F99,'Ingresar DATOS'!$A$3:$C$320,3,FALSE)),\" \")","v":" "}]
[null," "," ",{"$f":"IFERROR(VLOOKUP(B100,Proceso!$A$2:$R$319,18,),\" \")","v":" "},{"$f":"IFERROR(VLOOKUP(B100,Proceso!$A$2:$F$319,6,),\" \")","v":" "},null,{"$f":"IFERROR(IF(F100=0,\" \",VLOOKUP(F100,'Ingresar DATOS'!$A$3:$C$320,2,FALSE)),\" \")","v":" "},{"$f":"IFERROR(IF(F100=0,\" \",VLOOKUP(F100,'Ingresar DATOS'!$A$3:$C$320,3,FALSE)),\" \")","v":" "}]
[null," "," ",{"$f":"IFERROR(VLOOKUP(B101,Proceso!$A$2:$R$319,18,),\" \")","v":" "},{"$f":"IFERROR(VLOOKUP(B101,Proceso!$A$2:$F$319,6,),\" \")","v":" "},null,{"$f":"IFERROR(IF(F101=0,\" \",VLOOKUP(F101,'Ingresar DATOS'!$A$3:$C$320,2,FALSE)),\" \")","v":" "},{"$f":"IFERROR(IF(F101=0,\" \",VLOOKUP(F101,'Ingresar DATOS'!$A$3:$C$320,3,FALSE)),\" \")","v":" "}]
[null," "," ",{"$f":"IFERROR(VLOOKUP(B102,Proceso!$A$2:$R$319,18,),\" \")","v":" "},{"$f":"IFERROR(VLOOKUP(B102,Proceso!$A$2:$F$319,6,),\" \")","v":" "},null,{"$f":"IFERROR(IF(F102=0,\" \",VLOOKUP(F102,'Ingresar DATOS'!$A$3:$C$320,2,FALSE)),\" \")","v":" "},{"$f":"IFERROR(IF(F102=0,\" \",VLOOKUP(F102,'Ingresar DATOS'!$A$3:$C$320,3,FALSE)),\" \")","v":" "}]
[null," "," ",{"$f":"IFERROR(VLOOKUP(B103,Proceso!$A$2:$R$319,18,),\" \")","v":" "},{"$f":"IFERROR(VLOOKUP(B103,Proceso!$A$2:$F$319,6,),\" \")","v":" "},null,{"$f":"IFERROR(IF(F103=0,\" \",VLOOKUP(F103,'Ingresar DATOS'!$A$3:$C$320,2,FALSE)),\" \")","v":" "},{"$f":"IFERROR(IF(F103=0,\" \",VLOOKUP(F103,'Ingresar DATOS'!$A$3:$C$320,3,FALSE)),\" \")","v":" "}]
[null," "," ",{"$f":"IFERROR(VLOOKUP(B104,Proceso!$A$2:$R$319,18,),\" \")","v":" "},{"$f":"IFERROR(VLOOKUP(B104,Proceso!$A$2:$F$319,6,),\" \")","v":" "},null,{"$f":"IFERROR(IF(F104=0,\" \",VLOOKUP(F104,'Ingresar DATOS'!$A$3:$C$320,2,FALSE)),\" \")","v":" "},{"$f":"IFERROR(IF(F104=0,\" \",VLOOKUP(F104,'Ingresar DATOS'!$A$3:$C$320,3,FALSE)),\" \")","v":" "}]
[null," "," ",{"$f":"IFERROR(VLOOKUP(B105,Proceso!$A$2:$R$319,18,),\" \")","v":" "},{"$f":"IFERROR(VLOOKUP(B105,Proceso!$A$2:$F$319,6,),\" \")","v":" "},null,{"$f":"IFERROR(IF(F105=0,\" \",VLOOKUP(F105,'Ingresar DATOS'!$A$3:$C$320,2,FALSE)),\" \")","v":" "},{"$f":"IFERROR(IF(F105=0,\" \",VLOOKUP(F105,'Ingresar DATOS'!$A$3:$C$320,3,FALSE)),\" \")","v":" "}]
[null," "," ",{"$f":"IFERROR(VLOOKUP(B106,Proceso!$A$2:$R$319,18,),\" \")","v":" "},{"$f":"IFERROR(VLOOKUP(B106,Proceso!$A$2:$F$319,6,),\" \")","v":" "},null,{"$f":"IFERROR(IF(F106=0,\" \",VLOOKUP(F106,'Ingresar DATOS'!$A$3:$C$320,2,FALSE)),\" \")","v":" "},{"$f":"IFERROR(IF(F106=0,\" \",VLOOKUP(F106,'Ingresar DATOS'!$A$3:$C$320,3,FALSE)),\" \")","v":" "}]
[null," "," ",{"$f":"IFERROR(VLOOKUP(B107,Proceso!$A$2:$R$319,18,),\" \")","v":" "},{"$f":"IFERROR(VLOOKUP(B107,Proceso!$A$2:$F$319,6,),\" \")","v":" "},null,{"$f":"IFERROR(IF(F107=0,\" \",VLOOKUP(F107,'Ingresar DATOS'!$A$3:$C$320,2,FALSE)),\" \")","v":" "},{"$f":"IFERROR(IF(F107=0,\" \",VLOOKUP(F107,'Ingresar DATOS'!$A$3:$C$320,3,FALSE)),\" \")","v":" "}]
[null," "," ",{"$f":"IFERROR(VLOOKUP(B108,Proceso!$A$2:$R$319,18,),\" \")","v":" "},{"$f":"IFERROR(VLOOKUP(B108,Proceso!$A$2:$F$319,6,),\" \")","v":" "},null,{"$f":"IFERROR(IF(F108=0,\" \",VLOOKUP(F108,'Ingresar DATOS'!$A$3:$C$320,2,FALSE)),\" \")","v":" "},{"$f":"IFERROR(IF(F108=0,\" \",VLOOKUP(F108,'Ingresar DATOS'!$A$3:$C$320,3,FALSE)),\" \")","v":" "}]
[null," "," ",{"$f":"IFERROR(VLOOKUP(B109,Proceso!$A$2:$R$319,18,),\" \")","v":" "},{"$f":"IFERROR(VLOOKUP(B109,Proceso!$A$2:$F$319,6,),\" \")","v":" "},null,{"$f":"IFERROR(IF(F109=0,\" \",VLOOKUP(F109,'Ingresar DATOS'!$A$3:$C$320,2,FALSE)),\" \")","v":" "},{"$f":"IFERROR(IF(F109=0,\" \",VLOOKUP(F109,'Ingresar DATOS'!$A$3:$C$320,3,FALSE)),\" \")","v":" "}]
[null," "," ",{"$f":"IFERROR(VLOOKUP(B110,Proceso!$A$2:$R$319,18,),\" \")","v":" "},{"$f":"IFERROR(VLOOKUP(B110,Proceso!$A$2:$F$319,6,),\" \")","v":" "},null,{"$f":"IFERROR(IF(F110=0,\" \",VLOOKUP(F110,'Ingresar DATOS'!$A$3:$C$320,2,FALSE)),\" \")","v":" "},{"$f":"IFERROR(IF(F110=0,\" \",VLOOKUP(F110,'Ingresar DATOS'!$A$3:$C$320,3,FALSE)),\" \")","v":" "}]
[null," "," ",{"$f":"IFERROR(VLOOKUP(B111,Proceso!$A$2:$R$319,18,),\" \")","v":" "},{"$f":"IFERROR(VLOOKUP(B111,Proceso!$A$2:$F$319,6,),\" \")","v":" "},null,{"$f":"IFERROR(IF(F111=0,\" \",VLOOKUP(F111,'Ingresar DATOS'!$A$3:$C$320,2,FALSE)),\" \")","v":" "},{"$f":"IFERROR(IF(F111=0,\" \",VLOOKUP(F111,'Ingresar DATOS'!$A$3:$C$320,3,FALSE)),\" \")","v":" "}]
[null," "," ",{"$f":"IFERROR(VLOOKUP(B112,Proceso!$A$2:$R$319,18,),\" \")","v":" "},{"$f":"IFERROR(VLOOKUP(B112,Proceso!$A$2:$F$319,6,),\" \")","v":" "},null,{"$f":"IFERROR(IF(F112=0,\" \",VLOOKUP(F112,'Ingresar DATOS'!$A$3:$C$320,2,FALSE)),\" \")","v":" "},{"$f":"IFERROR(IF(F112=0,\" \",VLOOKUP(F112,'Ingresar DATOS'!$A$3:$C$320,3,FALSE)),\" \")","v":" "}]
[null," "," ",{"$f":"IFERROR(VLOOKUP(B113,Proceso!$A$2:$R$319,18,),\" \")","v":" "},{"$f":"IFERROR(VLOOKUP(B113,Proceso!$A$2:$F$319,6,),\" \")","v":" "},null,{"$f":"IFERROR(IF(F113=0,\" \",VLOOKUP(F113,'Ingresar DATOS'!$A$3:$C$320,2,FALSE)),\" \")","v":" "},{"$f":"IFERROR(IF(F113=0,\" \",VLOOKUP(F113,'Ingresar DATOS'!$A$3:$C$320,3,FALSE)),\" \")","v":" "}]
[null," "," ",{"$f":"IFERROR(VLOOKUP(B114,Proceso!$A$2:$R$319,18,),\" \")","v":" "},{"$f":"IFERROR(VLOOKUP(B114,Proceso!$A$2:$F$319,6,),\" \")","v":" "},null,{"$f":"IFERROR(IF(F114=0,\" \",VLOOKUP(F114,'Ingresar DATOS'!$A$3:$C$320,2,FALSE)),\" \")","v":" "},{"$f":"IFERROR(IF(F114=0,\" \",VLOOKUP(F114,'Ingresar DATOS'!$A$3:$C$320,3,FALSE)),\" \")","v":" "}]
[null," "," ",{"$f":"IFERROR(VLOOKUP(B115,Proceso!$A$2:$R$319,18,),\" \")","v":" "},{"$f":"IFERROR(VLOOKUP(B115,Proceso!$A$2:$F$319,6,),\" \")","v":" "},null,{"$f":"IFERROR(IF(F115=0,\" \",VLOOKUP(F115,'Ingresar DATOS'!$A$3:$C$320,2,FALSE)),\" \")","v":" "},{"$f":"IFERROR(IF(F115=0,\" \",VLOOKUP(F115,'Ingresar DATOS'!$A$3:$C$320,3,FALSE)),\" \")","v":" "}]
[null," "," ",{"$f":"IFERROR(VLOOKUP(B116,Proceso!$A$2:$R$319,18,),\" \")","v":" "},{"$f":"IFERROR(VLOOKUP(B116,Proceso!$A$2:$F$319,6,),\" \")","v":" "},null,{"$f":"IFERROR(IF(F116=0,\" \",VLOOKUP(F116,'Ingresar DATOS'!$A$3:$C$320,2,FALSE)),\" \")","v":" "},{"$f":"IFERROR(IF(F116=0,\" \",VLOOKUP(F116,'Ingresar DATOS'!$A$3:$C$320,3,FALSE)),\" \")","v":" "}]
[null," "," ",{"$f":"IFERROR(VLOOKUP(B117,Proceso!$A$2:$R$319,18,),\" \")","v":" "},{"$f":"IFERROR(VLOOKUP(B117,Proceso!$A$2:$F$319,6,),\" \")","v":" "},null,{"$f":"IFERROR(IF(F117=0,\" \",VLOOKUP(F117,'Ingresar DATOS'!$A$3:$C$320,2,FALSE)),\" \")","v":" "},{"$f":"IFERROR(IF(F117=0,\" \",VLOOKUP(F117,'Ingresar DATOS'!$A$3:$C$320,3,FALSE)),\" \")","v":" "}]
[null," "," ",{"$f":"IFERROR(VLOOKUP(B118,Proceso!$A$2:$R$319,18,),\" \")","v":" "},{"$f":"IFERROR(VLOOKUP(B118,Proceso!$A$2:$F$319,6,),\" \")","v":" "},null,{"$f":"IFERROR(IF(F118=0,\" \",VLOOKUP(F118,'Ingresar DATOS'!$A$3:$C$320,2,FALSE)),\" \")","v":" "},{"$f":"IFERROR(IF(F118=0,\" \",VLOOKUP(F118,'Ingresar DATOS'!$A$3:$C$320,3,FALSE)),\" \")","v":" "}]
[null," "," ",{"$f":"IFERROR(VLOOKUP(B119,Proceso!$A$2:$R$319,18,),\" \")","v":" "},{"$f":"IFERROR(VLOOKUP(B119,Proceso!$A$2:$F$319,6,),\" \")","v":" "},null,{"$f":"IFERROR(IF(F119=0,\" \",VLOOKUP(F119,'Ingresar DATOS'!$A$3:$C$320,2,FALSE)),\" \")","v":" "},{"$f":"IFERROR(IF(F119=0,\" \",VLOOKUP(F119,'Ingresar DATOS'!$A$3:$C$320,3,FALSE)),\" \")","v":" "}]
[null," "," ",{"$f":"IFERROR(VLOOKUP(B120,Proceso!$A$2:$R$319,18,),\" \")","v":" "},{"$f":"IFERROR(VLOOKUP(B120,Proceso!$A$2:$F$319,6,),\" \")","v":" "},null,{"$f":"IFERROR(IF(F120=0,\" \",VLOOKUP(F120,'Ingresar DATOS'!$A$3:$C$320,2,FALSE)),\" \")","v":" "},{"$f":"IFERROR(IF(F120=0,\" \",VLOOKUP(F120,'Ingresar DATOS'!$A$3:$C$320,3,FALSE)),\" \")","v":" "}]
[null," "," ",{"$f":"IFERROR(VLOOKUP(B121,Proceso!$A$2:$R$319,18,),\" \")","v":" "},{"$f":"IFERROR(VLOOKUP(B121,Proceso!$A$2:$F$319,6,),\" \")","v":" "},null,{"$f":"IFERROR(IF(F121=0,\" \",VLOOKUP(F121,'Ingresar DATOS'!$A$3:$C$320,2,FALSE)),\" \")","v":" "},{"$f":"IFERROR(IF(F121=0,\" \",VLOOKUP(F121,'Ingresar DATOS'!$A$3:$C$320,3,FALSE)),\" \")","v":" "}]
[null," "," ",{"$f":"IFERROR(VLOOKUP(B122,Proceso!$A$2:$R$319,18,),\" \")","v":" "},{"$f":"IFERROR(VLOOKUP(B122,Proceso!$A$2:$F$319,6,),\" \")","v":" "},null,{"$f":"IFERROR(IF(F122=0,\" \",VLOOKUP(F122,'Ingresar DATOS'!$A$3:$C$320,2,FALSE)),\" \")","v":" "},{"$f":"IFERROR(IF(F122=0,\" \",VLOOKUP(F122,'Ingresar DATOS'!$A$3:$C$320,3,FALSE)),\" \")","v":" "}]
[null," "," ",{"$f":"IFERROR(VLOOKUP(B123,Proceso!$A$2:$R$319,18,),\" \")","v":" "},{"$f":"IFERROR(VLOOKUP(B123,Proceso!$A$2:$F$319,6,),\" \")","v":" "},null,{"$f":"IFERROR(IF(F123=0,\" \",VLOOKUP(F123,'Ingresar DATOS'!$A$3:$C$320,2,FALSE)),\" \")","v":" "},{"$f":"IFERROR(IF(F123=0,\" \",VLOOKUP(F123,'Ingresar DATOS'!$A$3:$C$320,3,FALSE)),\" \")","v":" "}]
[null," "," ",{"$f":"IFERROR(VLOOKUP(B124,Proceso!$A$2:$R$319,18,),\" \")","v":" "},{"$f":"IFERROR(VLOOKUP(B124,Proceso!$A$2:$F$319,6,),\" \")","v":" "},null,{"$f":"IFERROR(IF(F124=0,\" \",VLOOKUP(F124,'Ingresar DATOS'!$A$3:$C$320,2,FALSE)),\" \")","v":" "},{"$f":"IFERROR(IF(F124=0,\" \",VLOOKUP(F124,'Ingresar DATOS'!$A$3:$C$320,3,FALSE)),\" \")","v":" "}]
[null," "," ",{"$f":"IFERROR(VLOOKUP(B125,Proceso!$A$2:$R$319,18,),\" \")","v":" "},{"$f":"IFERROR(VLOOKUP(B125,Proceso!$A$2:$F$319,6,),\" \")","v":" "},null,{"$f":"IFERROR(IF(F125=0,\" \",VLOOKUP(F125,'Ingresar DATOS'!$A$3:$C$320,2,FALSE)),\" \")","v":" "},{"$f":"IFERROR(IF(F125=0,\" \",VLOOKUP(F125,'Ingresar DATOS'!$A$3:$C$320,3,FALSE)),\" \")","v":" "}]
[null," "," ",{"$f":"IFERROR(VLOOKUP(B126,Proceso!$A$2:$R$319,18,),\" \")","v":" "},{"$f":"IFERROR(VLOOKUP(B126,Proceso!$A$2:$F$319,6,),\" \")","v":" "},null,{"$f":"IFERROR(IF(F126=0,\" \",VLOOKUP(F126,'Ingresar DATOS'!$A$3:$C$320,2,FALSE)),\" \")","v":" "},{"$f":"IFERROR(IF(F126=0,\" \",VLOOKUP(F126,'Ingresar DATOS'!$A$3:$C$320,3,FALSE)),\" \")","v":" "}]
[null," "," ",{"$f":"IFERROR(VLOOKUP(B127,Proceso!$A$2:$R$319,18,),\" \")","v":" "},{"$f":"IFERROR(VLOOKUP(B127,Proceso!$A$2:$F$319,6,),\" \")","v":" "},null,{"$f":"IFERROR(IF(F127=0,\" \",VLOOKUP(F127,'Ingresar DATOS'!$A$3:$C$320,2,FALSE)),\" \")","v":" "},{"$f":"IFERROR(IF(F127=0,\" \",VLOOKUP(F127,'Ingresar DATOS'!$A$3:$C$320,3,FALSE)),\" \")","v":" "}]
[null," "," ",{"$f":"IFERROR(VLOOKUP(B128,Proceso!$A$2:$R$319,18,),\" \")","v":" "},{"$f":"IFERROR(VLOOKUP(B128,Proceso!$A$2:$F$319,6,),\" \")","v":" "},null,{"$f":"IFERROR(IF(F128=0,\" \",VLOOKUP(F128,'Ingresar DATOS'!$A$3:$C$320,2,FALSE)),\" \")","v":" "},{"$f":"IFERROR(IF(F128=0,\" \",VLOOKUP(F128,'Ingresar DATOS'!$A$3:$C$320,3,FALSE)),\" \")","v":" "}]
[null," "," ",{"$f":"IFERROR(VLOOKUP(B129,Proceso!$A$2:$R$319,18,),\" \")","v":" "},{"$f":"IFERROR(VLOOKUP(B129,Proceso!$A$2:$F$319,6,),\" \")","v":" "},null,{"$f":"IFERROR(IF(F129=0,\" \",VLOOKUP(F129,'Ingresar DATOS'!$A$3:$C$320,2,FALSE)),\" \")","v":" "},{"$f":"IFERROR(IF(F129=0,\" \",VLOOKUP(F129,'Ingresar DATOS'!$A$3:$C$320,3,FALSE)),\" \")","v":" "}]
[null," "," ",{"$f":"IFERROR(VLOOKUP(B130,Proceso!$A$2:$R$319,18,),\" \")","v":" "},{"$f":"IFERROR(VLOOKUP(B130,Proceso!$A$2:$F$319,6,),\" \")","v":" "},null,{"$f":"IFERROR(IF(F130=0,\" \",VLOOKUP(F130,'Ingresar DATOS'!$A$3:$C$320,2,FALSE)),\" \")","v":" "},{"$f":"IFERROR(IF(F130=0,\" \",VLOOKUP(F130,'Ingresar DATOS'!$A$3:$C$320,3,FALSE)),\" \")","v":" "}]
[null," "," ",{"$f":"IFERROR(VLOOKUP(B131,Proceso!$A$2:$R$319,18,),\" \")","v":" "},{"$f":"IFERROR(VLOOKUP(B131,Proceso!$A$2:$F$319,6,),\" \")","v":" "},null,{"$f":"IFERROR(IF(F131=0,\" \",VLOOKUP(F131,'Ingresar DATOS'!$A$3:$C$320,2,FALSE)),\" \")","v":" "},{"$f":"IFERROR(IF(F131=0,\" \",VLOOKUP(F131,'Ingresar DATOS'!$A$3:$C$320,3,FALSE)),\" \")","v":" "}]
[null," "," ",{"$f":"IFERROR(VLOOKUP(B132,Proceso!$A$2:$R$319,18,),\" \")","v":" "},{"$f":"IFERROR(VLOOKUP(B132,Proceso!$A$2:$F$319,6,),\" \")","v":" "},null,{"$f":"IFERROR(IF(F132=0,\" \",VLOOKUP(F132,'Ingresar DATOS'!$A$3:$C$320,2,FALSE)),\" \")","v":" "},{"$f":"IFERROR(IF(F132=0,\" \",VLOOKUP(F132,'Ingresar DATOS'!$A$3:$C$320,3,FALSE)),\" \")","v":" "}]
[null," "," ",{"$f":"IFERROR(VLOOKUP(B133,Proceso!$A$2:$R$319,18,),\" \")","v":" "},{"$f":"IFERROR(VLOOKUP(B133,Proceso!$A$2:$F$319,6,),\" \")","v":" "},null,{"$f":"IFERROR(IF(F133=0,\" \",VLOOKUP(F133,'Ingresar DATOS'!$A$3:$C$320,2,FALSE)),\" \")","v":" "},{"$f":"IFERROR(IF(F133=0,\" \",VLOOKUP(F133,'Ingresar DATOS'!$A$3:$C$320,3,FALSE)),\" \")","v":" "}]
[null," "," ",{"$f":"IFERROR(VLOOKUP(B134,Proceso!$A$2:$R$319,18,),\" \")","v":" "},{"$f":"IFERROR(VLOOKUP(B134,Proceso!$A$2:$F$319,6,),\" \")","v":" "},null,{"$f":"IFERROR(IF(F134=0,\" \",VLOOKUP(F134,'Ingresar DATOS'!$A$3:$C$320,2,FALSE)),\" \")","v":" "},{"$f":"IFERROR(IF(F134=0,\" \",VLOOKUP(F134,'Ingresar DATOS'!$A$3:$C$320,3,FALSE)),\" \")","v":" "}]
[null,{"$f":"IF(F135<>0,F134,\" \")","v":" "},{"$f":"IF(F135<>0,F135,\" \")","v":" "},{"$f":"IFERROR(VLOOKUP(B135,Proceso!$A$2:$R$319,18,),\" \")","v":" "},{"$f":"IFERROR(VLOOKUP(B135,Proceso!$A$2:$F$319,6,),\" \")","v":" "},null,{"$f":"IFERROR(IF(F135=0,\" \",VLOOKUP(F135,'Ingresar DATOS'!$A$3:$C$320,2,FALSE)),\" \")","v":" "},{"$f":"IFERROR(IF(F135=0,\" \",VLOOKUP(F135,'Ingresar DATOS'!$A$3:$C$320,3,FALSE)),\" \")","v":" "}]
[null," "," ",{"$f":"IFERROR(VLOOKUP(B136,Proceso!$A$2:$R$319,18,),\" \")","v":" "},{"$f":"IFERROR(VLOOKUP(B136,Proceso!$A$2:$F$319,6,),\" \")","v":" "},null,{"$f":"IFERROR(IF(F136=0,\" \",VLOOKUP(F136,'Ingresar DATOS'!$A$3:$C$320,2,FALSE)),\" \")","v":" "},{"$f":"IFERROR(IF(F136=0,\" \",VLOOKUP(F136,'Ingresar DATOS'!$A$3:$C$320,3,FALSE)),\" \")","v":" "}]
[null," "," ",{"$f":"IFERROR(VLOOKUP(B137,Proceso!$A$2:$R$319,18,),\" \")","v":" "},{"$f":"IFERROR(VLOOKUP(B137,Proceso!$A$2:$F$319,6,),\" \")","v":" "},null,{"$f":"IFERROR(IF(F137=0,\" \",VLOOKUP(F137,'Ingresar DATOS'!$A$3:$C$320,2,FALSE)),\" \")","v":" "},{"$f":"IFERROR(IF(F137=0,\" \",VLOOKUP(F137,'Ingresar DATOS'!$A$3:$C$320,3,FALSE)),\" \")","v":" "}]
[null," "," ",{"$f":"IFERROR(VLOOKUP(B138,Proceso!$A$2:$R$319,18,),\" \")","v":" "},{"$f":"IFERROR(VLOOKUP(B138,Proceso!$A$2:$F$319,6,),\" \")","v":" "},null,{"$f":"IFERROR(IF(F138=0,\" \",VLOOKUP(F138,'Ingresar DATOS'!$A$3:$C$320,2,FALSE)),\" \")","v":" "},{"$f":"IFERROR(IF(F138=0,\" \",VLOOKUP(F138,'Ingresar DATOS'!$A$3:$C$320,3,FALSE)),\" \")","v":" "}]
[null," "," ",{"$f":"IFERROR(VLOOKUP(B139,Proceso!$A$2:$R$319,18,),\" \")","v":" "},{"$f":"IFERROR(VLOOKUP(B139,Proceso!$A$2:$F$319,6,),\" \")","v":" "},null,{"$f":"IFERROR(IF(F139=0,\" \",VLOOKUP(F139,'Ingresar DATOS'!$A$3:$C$320,2,FALSE)),\" \")","v":" "},{"$f":"IFERROR(IF(F139=0,\" \",VLOOKUP(F139,'Ingresar DATOS'!$A$3:$C$320,3,FALSE)),\" \")","v":" "}]
[null," "," ",{"$f":"IFERROR(VLOOKUP(B140,Proceso!$A$2:$R$319,18,),\" \")","v":" "},{"$f":"IFERROR(VLOOKUP(B140,Proceso!$A$2:$F$319,6,),\" \")","v":" "},null,{"$f":"IFERROR(IF(F140=0,\" \",VLOOKUP(F140,'Ingresar DATOS'!$A$3:$C$320,2,FALSE)),\" \")","v":" "},{"$f":"IFERROR(IF(F140=0,\" \",VLOOKUP(F140,'Ingresar DATOS'!$A$3:$C$320,3,FALSE)),\" \")","v":" "}]
[null," "," ",{"$f":"IFERROR(VLOOKUP(B141,Proceso!$A$2:$R$319,18,),\" \")","v":" "},{"$f":"IFERROR(VLOOKUP(B141,Proceso!$A$2:$F$319,6,),\" \")","v":" "},null,{"$f":"IFERROR(IF(F141=0,\" \",VLOOKUP(F141,'Ingresar DATOS'!$A$3:$C$320,2,FALSE)),\" \")","v":" "},{"$f":"IFERROR(IF(F141=0,\" \",VLOOKUP(F141,'Ingresar DATOS'!$A$3:$C$320,3,FALSE)),\" \")","v":" "}]
[null," "," ",{"$f":"IFERROR(VLOOKUP(B142,Proceso!$A$2:$R$319,18,),\" \")","v":" "},{"$f":"IFERROR(VLOOKUP(B142,Proceso!$A$2:$F$319,6,),\" \")","v":" "},null,{"$f":"IFERROR(IF(F142=0,\" \",VLOOKUP(F142,'Ingresar DATOS'!$A$3:$C$320,2,FALSE)),\" \")","v":" "},{"$f":"IFERROR(IF(F142=0,\" \",VLOOKUP(F142,'Ingresar DATOS'!$A$3:$C$320,3,FALSE)),\" \")","v":" "}]
[null," "," ",{"$f":"IFERROR(VLOOKUP(B143,Proceso!$A$2:$R$319,18,),\" \")","v":" "},{"$f":"IFERROR(VLOOKUP(B143,Proceso!$A$2:$F$319,6,),\" \")","v":" "},null,{"$f":"IFERROR(IF(F143=0,\" \",VLOOKUP(F143,'Ingresar DATOS'!$A$3:$C$320,2,FALSE)),\" \")","v":" "},{"$f":"IFERROR(IF(F143=0,\" \",VLOOKUP(F143,'Ingresar DATOS'!$A$3:$C$320,3,FALSE)),\" \")","v":" "}]
[null," "," ",{"$f":"IFERROR(VLOOKUP(B144,Proceso!$A$2:$R$319,18,),\" \")","v":" "},{"$f":"IFERROR(VLOOKUP(B144,Proceso!$A$2:$F$319,6,),\" \")","v":" "},null,{"$f":"IFERROR(IF(F144=0,\" \",VLOOKUP(F144,'Ingresar DATOS'!$A$3:$C$320,2,FALSE)),\" \")","v":" "},{"$f":"IFERROR(IF(F144=0,\" \",VLOOKUP(F144,'Ingresar DATOS'!$A$3:$C$320,3,FALSE)),\" \")","v":" "}]
[null," "," ",{"$f":"IFERROR(VLOOKUP(B145,Proceso!$A$2:$R$319,18,),\" \")","v":" "},{"$f":"IFERROR(VLOOKUP(B145,Proceso!$A$2:$F$319,6,),\" \")","v":" "},null,{"$f":"IFERROR(IF(F145=0,\" \",VLOOKUP(F145,'Ingresar DATOS'!$A$3:$C$320,2,FALSE)),\" \")","v":" "},{"$f":"IFERROR(IF(F145=0,\" \",VLOOKUP(F145,'Ingresar DATOS'!$A$3:$C$320,3,FALSE)),\" \")","v":" "}]
[null," "," ",{"$f":"IFERROR(VLOOKUP(B146,Proceso!$A$2:$R$319,18,),\" \")","v":" "},{"$f":"IFERROR(VLOOKUP(B146,Proceso!$A$2:$F$319,6,),\" \")","v":" "},null,{"$f":"IFERROR(IF(F146=0,\" \",VLOOKUP(F146,'Ingresar DATOS'!$A$3:$C$320,2,FALSE)),\" \")","v":" "},{"$f":"IFERROR(IF(F146=0,\" \",VLOOKUP(F146,'Ingresar DATOS'!$A$3:$C$320,3,FALSE)),\" \")","v":" "}]
[null," "," ",{"$f":"IFERROR(VLOOKUP(B147,Proceso!$A$2:$R$319,18,),\" \")","v":" "},{"$f":"IFERROR(VLOOKUP(B147,Proceso!$A$2:$F$319,6,),\" \")","v":" "},null,{"$f":"IFERROR(IF(F147=0,\" \",VLOOKUP(F147,'Ingresar DATOS'!$A$3:$C$320,2,FALSE)),\" \")","v":" "},{"$f":"IFERROR(IF(F147=0,\" \",VLOOKUP(F147,'Ingresar DATOS'!$A$3:$C$320,3,FALSE)),\" \")","v":" "}]
[null," "," ",{"$f":"IFERROR(VLOOKUP(B148,Proceso!$A$2:$R$319,18,),\" \")","v":" "},{"$f":"IFERROR(VLOOKUP(B148,Proceso!$A$2:$F$319,6,),\" \")","v":" "},null,{"$f":"IFERROR(IF(F148=0,\" \",VLOOKUP(F148,'Ingresar DATOS'!$A$3:$C$320,2,FALSE)),\" \")","v":" "},{"$f":"IFERROR(IF(F148=0,\" \",VLOOKUP(F148,'Ingresar DATOS'!$A$3:$C$320,3,FALSE)),\" \")","v":" "}]
[null," "," ",{"$f":"IFERROR(VLOOKUP(B149,Proceso!$A$2:$R$319,18,),\" \")","v":" "},{"$f":"IFERROR(VLOOKUP(B149,Proceso!$A$2:$F$319,6,),\" \")","v":" "},null,{"$f":"IFERROR(IF(F149=0,\" \",VLOOKUP(F149,'Ingresar DATOS'!$A$3:$C$320,2,FALSE)),\" \")","v":" "},{"$f":"IFERROR(IF(F149=0,\" \",VLOOKUP(F149,'Ingresar DATOS'!$A$3:$C$320,3,FALSE)),\" \")","v":" "}]
[null," "," ",{"$f":"IFERROR(VLOOKUP(B150,Proceso!$A$2:$R$319,18,),\" \")","v":" "},{"$f":"IFERROR(VLOOKUP(B150,Proceso!$A$2:$F$319,6,),\" \")","v":" "},null,{"$f":"IFERROR(IF(F150=0,\" \",VLOOKUP(F150,'Ingresar DATOS'!$A$3:$C$320,2,FALSE)),\" \")","v":" "},{"$f":"IFERROR(IF(F150=0,\" \",VLOOKUP(F150,'Ingresar DATOS'!$A$3:$C$320,3,FALSE)),\" \")","v":" "}]
[null," "," ",{"$f":"IFERROR(VLOOKUP(B151,Proceso!$A$2:$R$319,18,),\" \")","v":" "},{"$f":"IFERROR(VLOOKUP(B151,Proceso!$A$2:$F$319,6,),\" \")","v":" "},null,{"$f":"IFERROR(IF(F151=0,\" \",VLOOKUP(F151,'Ingresar DATOS'!$A$3:$C$320,2,FALSE)),\" \")","v":" "},{"$f":"IFERROR(IF(F151=0,\" \",VLOOKUP(F151,'Ingresar DATOS'!$A$3:$C$320,3,FALSE)),\" \")","v":" "}]
[null," "," ",{"$f":"IFERROR(VLOOKUP(B152,Proceso!$A$2:$R$319,18,),\" \")","v":" "},{"$f":"IFERROR(VLOOKUP(B152,Proceso!$A$2:$F$319,6,),\" \")","v":" "},null,{"$f":"IFERROR(IF(F152=0,\" \",VLOOKUP(F152,'Ingresar DATOS'!$A$3:$C$320,2,FALSE)),\" \")","v":" "},{"$f":"IFERROR(IF(F152=0,\" \",VLOOKUP(F152,'Ingresar DATOS'!$A$3:$C$320,3,FALSE)),\" \")","v":" "}]
[null," "," ",{"$f":"IFERROR(VLOOKUP(B153,Proceso!$A$2:$R$319,18,),\" \")","v":" "},{"$f":"IFERROR(VLOOKUP(B153,Proceso!$A$2:$F$319,6,),\" \")","v":" "},null,{"$f":"IFERROR(IF(F153=0,\" \",VLOOKUP(F153,'Ingresar DATOS'!$A$3:$C$320,2,FALSE)),\" \")","v":" "},{"$f":"IFERROR(IF(F153=0,\" \",VLOOKUP(F153,'Ingresar DATOS'!$A$3:$C$320,3,FALSE)),\" \")","v":" "}]
[null," "," ",{"$f":"IFERROR(VLOOKUP(B154,Proceso!$A$2:$R$319,18,),\" \")","v":" "},{"$f":"IFERROR(VLOOKUP(B154,Proceso!$A$2:$F$319,6,),\" \")","v":" "},null,{"$f":"IFERROR(IF(F154=0,\" \",VLOOKUP(F154,'Ingresar DATOS'!$A$3:$C$320,2,FALSE)),\" \")","v":" "},{"$f":"IFERROR(IF(F154=0,\" \",VLOOKUP(F154,'Ingresar DATOS'!$A$3:$C$320,3,FALSE)),\" \")","v":" "}]
[null," "," ",{"$f":"IFERROR(VLOOKUP(B155,Proceso!$A$2:$R$319,18,),\" \")","v":" "},{"$f":"IFERROR(VLOOKUP(B155,Proceso!$A$2:$F$319,6,),\" \")","v":" "},null,{"$f":"IFERROR(IF(F155=0,\" \",VLOOKUP(F155,'Ingresar DATOS'!$A$3:$C$320,2,FALSE)),\" \")","v":" "},{"$f":"IFERROR(IF(F155=0,\" \",VLOOKUP(F155,'Ingresar DATOS'!$A$3:$C$320,3,FALSE)),\" \")","v":" "}]
[null," "," ",{"$f":"IFERROR(VLOOKUP(B156,Proceso!$A$2:$R$319,18,),\" \")","v":" "},{"$f":"IFERROR(VLOOKUP(B156,Proceso!$A$2:$F$319,6,),\" \")","v":" "},null,{"$f":"IFERROR(IF(F156=0,\" \",VLOOKUP(F156,'Ingresar DATOS'!$A$3:$C$320,2,FALSE)),\" \")","v":" "},{"$f":"IFERROR(IF(F156=0,\" \",VLOOKUP(F156,'Ingresar DATOS'!$A$3:$C$320,3,FALSE)),\" \")","v":" "}]
[null," "," ",{"$f":"IFERROR(VLOOKUP(B157,Proceso!$A$2:$R$319,18,),\" \")","v":" "},{"$f":"IFERROR(VLOOKUP(B157,Proceso!$A$2:$F$319,6,),\" \")","v":" "},null,{"$f":"IFERROR(IF(F157=0,\" \",VLOOKUP(F157,'Ingresar DATOS'!$A$3:$C$320,2,FALSE)),\" \")","v":" "},{"$f":"IFERROR(IF(F157=0,\" \",VLOOKUP(F157,'Ingresar DATOS'!$A$3:$C$320,3,FALSE)),\" \")","v":" "}]
[null," "," ",{"$f":"IFERROR(VLOOKUP(B158,Proceso!$A$2:$R$319,18,),\" \")","v":" "},{"$f":"IFERROR(VLOOKUP(B158,Proceso!$A$2:$F$319,6,),\" \")","v":" "},null,{"$f":"IFERROR(IF(F158=0,\" \",VLOOKUP(F158,'Ingresar DATOS'!$A$3:$C$320,2,FALSE)),\" \")","v":" "},{"$f":"IFERROR(IF(F158=0,\" \",VLOOKUP(F158,'Ingresar DATOS'!$A$3:$C$320,3,FALSE)),\" \")","v":" "}]
[null," "," ",{"$f":"IFERROR(VLOOKUP(B159,Proceso!$A$2:$R$319,18,),\" \")","v":" "},{"$f":"IFERROR(VLOOKUP(B159,Proceso!$A$2:$F$319,6,),\" \")","v":" "},null,{"$f":"IFERROR(IF(F159=0,\" \",VLOOKUP(F159,'Ingresar DATOS'!$A$3:$C$320,2,FALSE)),\" \")","v":" "},{"$f":"IFERROR(IF(F159=0,\" \",VLOOKUP(F159,'Ingresar DATOS'!$A$3:$C$320,3,FALSE)),\" \")","v":" "}]
[null," "," ",{"$f":"IFERROR(VLOOKUP(B160,Proceso!$A$2:$R$319,18,),\" \")","v":" "},{"$f":"IFERROR(VLOOKUP(B160,Proceso!$A$2:$F$319,6,),\" \")","v":" "},null,{"$f":"IFERROR(IF(F160=0,\" \",VLOOKUP(F160,'Ingresar DATOS'!$A$3:$C$320,2,FALSE)),\" \")","v":" "},{"$f":"IFERROR(IF(F160=0,\" \",VLOOKUP(F160,'Ingresar DATOS'!$A$3:$C$320,3,FALSE)),\" \")","v":" "}]
[null," "," ",{"$f":"IFERROR(VLOOKUP(B161,Proceso!$A$2:$R$319,18,),\" \")","v":" "},{"$f":"IFERROR(VLOOKUP(B161,Proceso!$A$2:$F$319,6,),\" \")","v":" "},null,{"$f":"IFERROR(IF(F161=0,\" \",VLOOKUP(F161,'Ingresar DATOS'!$A$3:$C$320,2,FALSE)),\" \")","v":" "},{"$f":"IFERROR(IF(F161=0,\" \",VLOOKUP(F161,'Ingresar DATOS'!$A$3:$C$320,3,FALSE)),\" \")","v":" "}]
[null," "," ",{"$f":"IFERROR(VLOOKUP(B162,Proceso!$A$2:$R$319,18,),\" \")","v":" "},{"$f":"IFERROR(VLOOKUP(B162,Proceso!$A$2:$F$319,6,),\" \")","v":" "},null,{"$f":"IFERROR(IF(F162=0,\" \",VLOOKUP(F162,'Ingresar DATOS'!$A$3:$C$320,2,FALSE)),\" \")","v":" "},{"$f":"IFERROR(IF(F162=0,\" \",VLOOKUP(F162,'Ingresar DATOS'!$A$3:$C$320,3,FALSE)),\" \")","v":" "}]
[null," "," ",{"$f":"IFERROR(VLOOKUP(B163,Proceso!$A$2:$R$319,18,),\" \")","v":" "},{"$f":"IFERROR(VLOOKUP(B163,Proceso!$A$2:$F$319,6,),\" \")","v":" "},null,{"$f":"IFERROR(IF(F163=0,\" \",VLOOKUP(F163,'Ingresar DATOS'!$A$3:$C$320,2,FALSE)),\" \")","v":" "},{"$f":"IFERROR(IF(F163=0,\" \",VLOOKUP(F163,'Ingresar DATOS'!$A$3:$C$320,3,FALSE)),\" \")","v":" "}]
[null," "," ",{"$f":"IFERROR(VLOOKUP(B164,Proceso!$A$2:$R$319,18,),\" \")","v":" "},{"$f":"IFERROR(VLOOKUP(B164,Proceso!$A$2:$F$319,6,),\" \")","v":" "},null,{"$f":"IFERROR(IF(F164=0,\" \",VLOOKUP(F164,'Ingresar DATOS'!$A$3:$C$320,2,FALSE)),\" \")","v":" "},{"$f":"IFERROR(IF(F164=0,\" \",VLOOKUP(F164,'Ingresar DATOS'!$A$3:$C$320,3,FALSE)),\" \")","v":" "}]
[null," "," ",{"$f":"IFERROR(VLOOKUP(B165,Proceso!$A$2:$R$319,18,),\" \")","v":" "},{"$f":"IFERROR(VLOOKUP(B165,Proceso!$A$2:$F$319,6,),\" \")","v":" "},null,{"$f":"IFERROR(IF(F165=0,\" \",VLOOKUP(F165,'Ingresar DATOS'!$A$3:$C$320,2,FALSE)),\" \")","v":" "},{"$f":"IFERROR(IF(F165=0,\" \",VLOOKUP(F165,'Ingresar DATOS'!$A$3:$C$320,3,FALSE)),\" \")","v":" "}]
[null," "," ",{"$f":"IFERROR(VLOOKUP(B166,Proceso!$A$2:$R$319,18,),\" \")","v":" "},{"$f":"IFERROR(VLOOKUP(B166,Proceso!$A$2:$F$319,6,),\" \")","v":" "},null,{"$f":"IFERROR(IF(F166=0,\" \",VLOOKUP(F166,'Ingresar DATOS'!$A$3:$C$320,2,FALSE)),\" \")","v":" "},{"$f":"IFERROR(IF(F166=0,\" \",VLOOKUP(F166,'Ingresar DATOS'!$A$3:$C$320,3,FALSE)),\" \")","v":" "}]
[null," "," ",{"$f":"IFERROR(VLOOKUP(B167,Proceso!$A$2:$R$319,18,),\" \")","v":" "},{"$f":"IFERROR(VLOOKUP(B167,Proceso!$A$2:$F$319,6,),\" \")","v":" "},null,{"$f":"IFERROR(IF(F167=0,\" \",VLOOKUP(F167,'Ingresar DATOS'!$A$3:$C$320,2,FALSE)),\" \")","v":" "},{"$f":"IFERROR(IF(F167=0,\" \",VLOOKUP(F167,'Ingresar DATOS'!$A$3:$C$320,3,FALSE)),\" \")","v":" "}]
[null," "," ",{"$f":"IFERROR(VLOOKUP(B168,Proceso!$A$2:$R$319,18,),\" \")","v":" "},{"$f":"IFERROR(VLOOKUP(B168,Proceso!$A$2:$F$319,6,),\" \")","v":" "},null,{"$f":"IFERROR(IF(F168=0,\" \",VLOOKUP(F168,'Ingresar DATOS'!$A$3:$C$320,2,FALSE)),\" \")","v":" "},{"$f":"IFERROR(IF(F168=0,\" \",VLOOKUP(F168,'Ingresar DATOS'!$A$3:$C$320,3,FALSE)),\" \")","v":" "}]
[null," "," ",{"$f":"IFERROR(VLOOKUP(B169,Proceso!$A$2:$R$319,18,),\" \")","v":" "},{"$f":"IFERROR(VLOOKUP(B169,Proceso!$A$2:$F$319,6,),\" \")","v":" "},null,{"$f":"IFERROR(IF(F169=0,\" \",VLOOKUP(F169,'Ingresar DATOS'!$A$3:$C$320,2,FALSE)),\" \")","v":" "},{"$f":"IFERROR(IF(F169=0,\" \",VLOOKUP(F169,'Ingresar DATOS'!$A$3:$C$320,3,FALSE)),\" \")","v":" "}]
[null," "," ",{"$f":"IFERROR(VLOOKUP(B170,Proceso!$A$2:$R$319,18,),\" \")","v":" "},{"$f":"IFERROR(VLOOKUP(B170,Proceso!$A$2:$F$319,6,),\" \")","v":" "},null,{"$f":"IFERROR(IF(F170=0,\" \",VLOOKUP(F170,'Ingresar DATOS'!$A$3:$C$320,2,FALSE)),\" \")","v":" "},{"$f":"IFERROR(IF(F170=0,\" \",VLOOKUP(F170,'Ingresar DATOS'!$A$3:$C$320,3,FALSE)),\" \")","v":" "}]
[null," "," ",{"$f":"IFERROR(VLOOKUP(B171,Proceso!$A$2:$R$319,18,),\" \")","v":" "},{"$f":"IFERROR(VLOOKUP(B171,Proceso!$A$2:$F$319,6,),\" \")","v":" "},null,{"$f":"IFERROR(IF(F171=0,\" \",VLOOKUP(F171,'Ingresar DATOS'!$A$3:$C$320,2,FALSE)),\" \")","v":" "},{"$f":"IFERROR(IF(F171=0,\" \",VLOOKUP(F171,'Ingresar DATOS'!$A$3:$C$320,3,FALSE)),\" \")","v":" "}]
[null," "," ",{"$f":"IFERROR(VLOOKUP(B172,Proceso!$A$2:$R$319,18,),\" \")","v":" "},{"$f":"IFERROR(VLOOKUP(B172,Proceso!$A$2:$F$319,6,),\" \")","v":" "},null,{"$f":"IFERROR(IF(F172=0,\" \",VLOOKUP(F172,'Ingresar DATOS'!$A$3:$C$320,2,FALSE)),\" \")","v":" "},{"$f":"IFERROR(IF(F172=0,\" \",VLOOKUP(F172,'Ingresar DATOS'!$A$3:$C$320,3,FALSE)),\" \")","v":" "}]
[null," "," ",{"$f":"IFERROR(VLOOKUP(B173,Proceso!$A$2:$R$319,18,),\" \")","v":" "},{"$f":"IFERROR(VLOOKUP(B173,Proceso!$A$2:$F$319,6,),\" \")","v":" "},null,{"$f":"IFERROR(IF(F173=0,\" \",VLOOKUP(F173,'Ingresar DATOS'!$A$3:$C$320,2,FALSE)),\" \")","v":" "},{"$f":"IFERROR(IF(F173=0,\" \",VLOOKUP(F173,'Ingresar DATOS'!$A$3:$C$320,3,FALSE)),\" \")","v":" "}]
[null," "," ",{"$f":"IFERROR(VLOOKUP(B174,Proceso!$A$2:$R$319,18,),\" \")","v":" "},{"$f":"IFERROR(VLOOKUP(B174,Proceso!$A$2:$F$319,6,),\" \")","v":" "},null,{"$f":"IFERROR(IF(F174=0,\" \",VLOOKUP(F174,'Ingresar DATOS'!$A$3:$C$320,2,FALSE)),\" \")","v":" "},{"$f":"IFERROR(IF(F174=0,\" \",VLOOKUP(F174,'Ingresar DATOS'!$A$3:$C$320,3,FALSE)),\" \")","v":" "}]
[null," "," ",{"$f":"IFERROR(VLOOKUP(B175,Proceso!$A$2:$R$319,18,),\" \")","v":" "},{"$f":"IFERROR(VLOOKUP(B175,Proceso!$A$2:$F$319,6,),\" \")","v":" "},null,{"$f":"IFERROR(IF(F175=0,\" \",VLOOKUP(F175,'Ingresar DATOS'!$A$3:$C$320,2,FALSE)),\" \")","v":" "},{"$f":"IFERROR(IF(F175=0,\" \",VLOOKUP(F175,'Ingresar DATOS'!$A$3:$C$320,3,FALSE)),\" \")","v":" "}]
[null," "," ",{"$f":"IFERROR(VLOOKUP(B176,Proceso!$A$2:$R$319,18,),\" \")","v":" "},{"$f":"IFERROR(VLOOKUP(B176,Proceso!$A$2:$F$319,6,),\" \")","v":" "},null,{"$f":"IFERROR(IF(F176=0,\" \",VLOOKUP(F176,'Ingresar DATOS'!$A$3:$C$320,2,FALSE)),\" \")","v":" "},{"$f":"IFERROR(IF(F176=0,\" \",VLOOKUP(F176,'Ingresar DATOS'!$A$3:$C$320,3,FALSE)),\" \")","v":" "}]
[null," "," ",{"$f":"IFERROR(VLOOKUP(B177,Proceso!$A$2:$R$319,18,),\" \")","v":" "},{"$f":"IFERROR(VLOOKUP(B177,Proceso!$A$2:$F$319,6,),\" \")","v":" "},null,{"$f":"IFERROR(IF(F177=0,\" \",VLOOKUP(F177,'Ingresar DATOS'!$A$3:$C$320,2,FALSE)),\" \")","v":" "},{"$f":"IFERROR(IF(F177=0,\" \",VLOOKUP(F177,'Ingresar DATOS'!$A$3:$C$320,3,FALSE)),\" \")","v":" "}]
[null," "," ",{"$f":"IFERROR(VLOOKUP(B178,Proceso!$A$2:$R$319,18,),\" \")","v":" "},{"$f":"IFERROR(VLOOKUP(B178,Proceso!$A$2:$F$319,6,),\" \")","v":" "},null,{"$f":"IFERROR(IF(F178=0,\" \",VLOOKUP(F178,'Ingresar DATOS'!$A$3:$C$320,2,FALSE)),\" \")","v":" "},{"$f":"IFERROR(IF(F178=0,\" \",VLOOKUP(F178,'Ingresar DATOS'!$A$3:$C$320,3,FALSE)),\" \")","v":" "}]
[null," "," ",{"$f":"IFERROR(VLOOKUP(B179,Proceso!$A$2:$R$319,18,),\" \")","v":" "},{"$f":"IFERROR(VLOOKUP(B179,Proceso!$A$2:$F$319,6,),\" \")","v":" "},null,{"$f":"IFERROR(IF(F179=0,\" \",VLOOKUP(F179,'Ingresar DATOS'!$A$3:$C$320,2,FALSE)),\" \")","v":" "},{"$f":"IFERROR(IF(F179=0,\" \",VLOOKUP(F179,'Ingresar DATOS'!$A$3:$C$320,3,FALSE)),\" \")","v":" "}]
[null," "," ",{"$f":"IFERROR(VLOOKUP(B180,Proceso!$A$2:$R$319,18,),\" \")","v":" "},{"$f":"IFERROR(VLOOKUP(B180,Proceso!$A$2:$F$319,6,),\" \")","v":" "},null,{"$f":"IFERROR(IF(F180=0,\" \",VLOOKUP(F180,'Ingresar DATOS'!$A$3:$C$320,2,FALSE)),\" \")","v":" "},{"$f":"IFERROR(IF(F180=0,\" \",VLOOKUP(F180,'Ingresar DATOS'!$A$3:$C$320,3,FALSE)),\" \")","v":" "}]
[null," "," ",{"$f":"IFERROR(VLOOKUP(B181,Proceso!$A$2:$R$319,18,),\" \")","v":" "},{"$f":"IFERROR(VLOOKUP(B181,Proceso!$A$2:$F$319,6,),\" \")","v":" "},null,{"$f":"IFERROR(IF(F181=0,\" \",VLOOKUP(F181,'Ingresar DATOS'!$A$3:$C$320,2,FALSE)),\" \")","v":" "},{"$f":"IFERROR(IF(F181=0,\" \",VLOOKUP(F181,'Ingresar DATOS'!$A$3:$C$320,3,FALSE)),\" \")","v":" "}]
[null," "," ",{"$f":"IFERROR(VLOOKUP(B182,Proceso!$A$2:$R$319,18,),\" \")","v":" "},{"$f":"IFERROR(VLOOKUP(B182,Proceso!$A$2:$F$319,6,),\" \")","v":" "},null,{"$f":"IFERROR(IF(F182=0,\" \",VLOOKUP(F182,'Ingresar DATOS'!$A$3:$C$320,2,FALSE)),\" \")","v":" "},{"$f":"IFERROR(IF(F182=0,\" \",VLOOKUP(F182,'Ingresar DATOS'!$A$3:$C$320,3,FALSE)),\" \")","v":" "}]
[null," "," ",{"$f":"IFERROR(VLOOKUP(B183,Proceso!$A$2:$R$319,18,),\" \")","v":" "},{"$f":"IFERROR(VLOOKUP(B183,Proceso!$A$2:$F$319,6,),\" \")","v":" "},null,{"$f":"IFERROR(IF(F183=0,\" \",VLOOKUP(F183,'Ingresar DATOS'!$A$3:$C$320,2,FALSE)),\" \")","v":" "},{"$f":"IFERROR(IF(F183=0,\" \",VLOOKUP(F183,'Ingresar DATOS'!$A$3:$C$320,3,FALSE)),\" \")","v":" "}]
[null," "," ",{"$f":"IFERROR(VLOOKUP(B184,Proceso!$A$2:$R$319,18,),\" \")","v":" "},{"$f":"IFERROR(VLOOKUP(B184,Proceso!$A$2:$F$319,6,),\" \")","v":" "},null,{"$f":"IFERROR(IF(F184=0,\" \",VLOOKUP(F184,'Ingresar DATOS'!$A$3:$C$320,2,FALSE)),\" \")","v":" "},{"$f":"IFERROR(IF(F184=0,\" \",VLOOKUP(F184,'Ingresar DATOS'!$A$3:$C$320,3,FALSE)),\" \")","v":" "}]
[null," "," ",{"$f":"IFERROR(VLOOKUP(B185,Proceso!$A$2:$R$319,18,),\" \")","v":" "},{"$f":"IFERROR(VLOOKUP(B185,Proceso!$A$2:$F$319,6,),\" \")","v":" "},null,{"$f":"IFERROR(IF(F185=0,\" \",VLOOKUP(F185,'Ingresar DATOS'!$A$3:$C$320,2,FALSE)),\" \")","v":" "},{"$f":"IFERROR(IF(F185=0,\" \",VLOOKUP(F185,'Ingresar DATOS'!$A$3:$C$320,3,FALSE)),\" \")","v":" "}]
[null," "," ",{"$f":"IFERROR(VLOOKUP(B186,Proceso!$A$2:$R$319,18,),\" \")","v":" "},{"$f":"IFERROR(VLOOKUP(B186,Proceso!$A$2:$F$319,6,),\" \")","v":" "},null,{"$f":"IFERROR(IF(F186=0,\" \",VLOOKUP(F186,'Ingresar DATOS'!$A$3:$C$320,2,FALSE)),\" \")","v":" "},{"$f":"IFERROR(IF(F186=0,\" \",VLOOKUP(F186,'Ingresar DATOS'!$A$3:$C$320,3,FALSE)),\" \")","v":" "}]
[null," "," ",{"$f":"IFERROR(VLOOKUP(B187,Proceso!$A$2:$R$319,18,),\" \")","v":" "},{"$f":"IFERROR(VLOOKUP(B187,Proceso!$A$2:$F$319,6,),\" \")","v":" "},null,{"$f":"IFERROR(IF(F187=0,\" \",VLOOKUP(F187,'Ingresar DATOS'!$A$3:$C$320,2,FALSE)),\" \")","v":" "},{"$f":"IFERROR(IF(F187=0,\" \",VLOOKUP(F187,'Ingresar DATOS'!$A$3:$C$320,3,FALSE)),\" \")","v":" "}]
[null," "," ",{"$f":"IFERROR(VLOOKUP(B188,Proceso!$A$2:$R$319,18,),\" \")","v":" "},{"$f":"IFERROR(VLOOKUP(B188,Proceso!$A$2:$F$319,6,),\" \")","v":" "},null,{"$f":"IFERROR(IF(F188=0,\" \",VLOOKUP(F188,'Ingresar DATOS'!$A$3:$C$320,2,FALSE)),\" \")","v":" "},{"$f":"IFERROR(IF(F188=0,\" \",VLOOKUP(F188,'Ingresar DATOS'!$A$3:$C$320,3,FALSE)),\" \")","v":" "}]
[null," "," ",{"$f":"IFERROR(VLOOKUP(B189,Proceso!$A$2:$R$319,18,),\" \")","v":" "},{"$f":"IFERROR(VLOOKUP(B189,Proceso!$A$2:$F$319,6,),\" \")","v":" "},null,{"$f":"IFERROR(IF(F189=0,\" \",VLOOKUP(F189,'Ingresar DATOS'!$A$3:$C$320,2,FALSE)),\" \")","v":" "},{"$f":"IFERROR(IF(F189=0,\" \",VLOOKUP(F189,'Ingresar DATOS'!$A$3:$C$320,3,FALSE)),\" \")","v":" "}]
[null," "," ",{"$f":"IFERROR(VLOOKUP(B190,Proceso!$A$2:$R$319,18,),\" \")","v":" "},{"$f":"IFERROR(VLOOKUP(B190,Proceso!$A$2:$F$319,6,),\" \")","v":" "},null,{"$f":"IFERROR(IF(F190=0,\" \",VLOOKUP(F190,'Ingresar DATOS'!$A$3:$C$320,2,FALSE)),\" \")","v":" "},{"$f":"IFERROR(IF(F190=0,\" \",VLOOKUP(F190,'Ingresar DATOS'!$A$3:$C$320,3,FALSE)),\" \")","v":" "}]
[null," "," ",{"$f":"IFERROR(VLOOKUP(B191,Proceso!$A$2:$R$319,18,),\" \")","v":" "},{"$f":"IFERROR(VLOOKUP(B191,Proceso!$A$2:$F$319,6,),\" \")","v":" "},null,{"$f":"IFERROR(IF(F191=0,\" \",VLOOKUP(F191,'Ingresar DATOS'!$A$3:$C$320,2,FALSE)),\" \")","v":" "},{"$f":"IFERROR(IF(F191=0,\" \",VLOOKUP(F191,'Ingresar DATOS'!$A$3:$C$320,3,FALSE)),\" \")","v":" "}]
[null," "," ",{"$f":"IFERROR(VLOOKUP(B192,Proceso!$A$2:$R$319,18,),\" \")","v":" "},{"$f":"IFERROR(VLOOKUP(B192,Proceso!$A$2:$F$319,6,),\" \")","v":" "},null,{"$f":"IFERROR(IF(F192=0,\" \",VLOOKUP(F192,'Ingresar DATOS'!$A$3:$C$320,2,FALSE)),\" \")","v":" "},{"$f":"IFERROR(IF(F192=0,\" \",VLOOKUP(F192,'Ingresar DATOS'!$A$3:$C$320,3,FALSE)),\" \")","v":" "}]
[null," "," ",{"$f":"IFERROR(VLOOKUP(B193,Proceso!$A$2:$R$319,18,),\" \")","v":" "},{"$f":"IFERROR(VLOOKUP(B193,Proceso!$A$2:$F$319,6,),\" \")","v":" "},null,{"$f":"IFERROR(IF(F193=0,\" \",VLOOKUP(F193,'Ingresar DATOS'!$A$3:$C$320,2,FALSE)),\" \")","v":" "},{"$f":"IFERROR(IF(F193=0,\" \",VLOOKUP(F193,'Ingresar DATOS'!$A$3:$C$320,3,FALSE)),\" \")","v":" "}]
[null," "," ",{"$f":"IFERROR(VLOOKUP(B194,Proceso!$A$2:$R$319,18,),\" \")","v":" "},{"$f":"IFERROR(VLOOKUP(B194,Proceso!$A$2:$F$319,6,),\" \")","v":" "},null,{"$f":"IFERROR(IF(F194=0,\" \",VLOOKUP(F194,'Ingresar DATOS'!$A$3:$C$320,2,FALSE)),\" \")","v":" "},{"$f":"IFERROR(IF(F194=0,\" \",VLOOKUP(F194,'Ingresar DATOS'!$A$3:$C$320,3,FALSE)),\" \")","v":" "}]
[null," "," ",{"$f":"IFERROR(VLOOKUP(B195,Proceso!$A$2:$R$319,18,),\" \")","v":" "},{"$f":"IFERROR(VLOOKUP(B195,Proceso!$A$2:$F$319,6,),\" \")","v":" "},null,{"$f":"IFERROR(IF(F195=0,\" \",VLOOKUP(F195,'Ingresar DATOS'!$A$3:$C$320,2,FALSE)),\" \")","v":" "},{"$f":"IFERROR(IF(F195=0,\" \",VLOOKUP(F195,'Ingresar DATOS'!$A$3:$C$320,3,FALSE)),\" \")","v":" "}]
[null," "," ",{"$f":"IFERROR(VLOOKUP(B196,Proceso!$A$2:$R$319,18,),\" \")","v":" "},{"$f":"IFERROR(VLOOKUP(B196,Proceso!$A$2:$F$319,6,),\" \")","v":" "},null,{"$f":"IFERROR(IF(F196=0,\" \",VLOOKUP(F196,'Ingresar DATOS'!$A$3:$C$320,2,FALSE)),\" \")","v":" "},{"$f":"IFERROR(IF(F196=0,\" \",VLOOKUP(F196,'Ingresar DATOS'!$A$3:$C$320,3,FALSE)),\" \")","v":" "}]
[null," "," ",{"$f":"IFERROR(VLOOKUP(B197,Proceso!$A$2:$R$319,18,),\" \")","v":" "},{"$f":"IFERROR(VLOOKUP(B197,Proceso!$A$2:$F$319,6,),\" \")","v":" "},null,{"$f":"IFERROR(IF(F197=0,\" \",VLOOKUP(F197,'Ingresar DATOS'!$A$3:$C$320,2,FALSE)),\" \")","v":" "},{"$f":"IFERROR(IF(F197=0,\" \",VLOOKUP(F197,'Ingresar DATOS'!$A$3:$C$320,3,FALSE)),\" \")","v":" "}]
[null," "," ",{"$f":"IFERROR(VLOOKUP(B198,Proceso!$A$2:$R$319,18,),\" \")","v":" "},{"$f":"IFERROR(VLOOKUP(B198,Proceso!$A$2:$F$319,6,),\" \")","v":" "},null,{"$f":"IFERROR(IF(F198=0,\" \",VLOOKUP(F198,'Ingresar DATOS'!$A$3:$C$320,2,FALSE)),\" \")","v":" "},{"$f":"IFERROR(IF(F198=0,\" \",VLOOKUP(F198,'Ingresar DATOS'!$A$3:$C$320,3,FALSE)),\" \")","v":" "}]
[null,{"$f":"IF(F199<>0,F198,\" \")","v":" "},{"$f":"IF(F199<>0,F199,\" \")","v":" "},{"$f":"IFERROR(VLOOKUP(B199,Proceso!$A$2:$R$319,18,),\" \")","v":" "},{"$f":"IFERROR(VLOOKUP(B199,Proceso!$A$2:$F$319,6,),\" \")","v":" "},null,{"$f":"IFERROR(IF(F199=0,\" \",VLOOKUP(F199,'Ingresar DATOS'!$A$3:$C$320,2,FALSE)),\" \")","v":" "},{"$f":"IFERROR(IF(F199=0,\" \",VLOOKUP(F199,'Ingresar DATOS'!$A$3:$C$320,3,FALSE)),\" \")","v":" "}]
[null," "," ",{"$f":"IFERROR(VLOOKUP(B200,Proceso!$A$2:$R$319,18,),\" \")","v":" "},{"$f":"IFERROR(VLOOKUP(B200,Proceso!$A$2:$F$319,6,),\" \")","v":" "},null,{"$f":"IFERROR(IF(F200=0,\" \",VLOOKUP(F200,'Ingresar DATOS'!$A$3:$C$320,2,FALSE)),\" \")","v":" "},{"$f":"IFERROR(IF(F200=0,\" \",VLOOKUP(F200,'Ingresar DATOS'!$A$3:$C$320,3,FALSE)),\" \")","v":" "}]
[null," "," ",{"$f":"IFERROR(VLOOKUP(B201,Proceso!$A$2:$R$319,18,),\" \")","v":" "},{"$f":"IFERROR(VLOOKUP(B201,Proceso!$A$2:$F$319,6,),\" \")","v":" "},null,{"$f":"IFERROR(IF(F201=0,\" \",VLOOKUP(F201,'Ingresar DATOS'!$A$3:$C$320,2,FALSE)),\" \")","v":" "},{"$f":"IFERROR(IF(F201=0,\" \",VLOOKUP(F201,'Ingresar DATOS'!$A$3:$C$320,3,FALSE)),\" \")","v":" "}]
[null," "," ",{"$f":"IFERROR(VLOOKUP(B202,Proceso!$A$2:$R$319,18,),\" \")","v":" "},{"$f":"IFERROR(VLOOKUP(B202,Proceso!$A$2:$F$319,6,),\" \")","v":" "},null,{"$f":"IFERROR(IF(F202=0,\" \",VLOOKUP(F202,'Ingresar DATOS'!$A$3:$C$320,2,FALSE)),\" \")","v":" "},{"$f":"IFERROR(IF(F202=0,\" \",VLOOKUP(F202,'Ingresar DATOS'!$A$3:$C$320,3,FALSE)),\" \")","v":" "}]
[null," "," ",{"$f":"IFERROR(VLOOKUP(B203,Proceso!$A$2:$R$319,18,),\" \")","v":" "},{"$f":"IFERROR(VLOOKUP(B203,Proceso!$A$2:$F$319,6,),\" \")","v":" "},null,{"$f":"IFERROR(IF(F203=0,\" \",VLOOKUP(F203,'Ingresar DATOS'!$A$3:$C$320,2,FALSE)),\" \")","v":" "},{"$f":"IFERROR(IF(F203=0,\" \",VLOOKUP(F203,'Ingresar DATOS'!$A$3:$C$320,3,FALSE)),\" \")","v":" "}]
[null," "," ",{"$f":"IFERROR(VLOOKUP(B204,Proceso!$A$2:$R$319,18,),\" \")","v":" "},{"$f":"IFERROR(VLOOKUP(B204,Proceso!$A$2:$F$319,6,),\" \")","v":" "},null,{"$f":"IFERROR(IF(F204=0,\" \",VLOOKUP(F204,'Ingresar DATOS'!$A$3:$C$320,2,FALSE)),\" \")","v":" "},{"$f":"IFERROR(IF(F204=0,\" \",VLOOKUP(F204,'Ingresar DATOS'!$A$3:$C$320,3,FALSE)),\" \")","v":" "}]
[null," "," ",{"$f":"IFERROR(VLOOKUP(B205,Proceso!$A$2:$R$319,18,),\" \")","v":" "},{"$f":"IFERROR(VLOOKUP(B205,Proceso!$A$2:$F$319,6,),\" \")","v":" "},null,{"$f":"IFERROR(IF(F205=0,\" \",VLOOKUP(F205,'Ingresar DATOS'!$A$3:$C$320,2,FALSE)),\" \")","v":" "},{"$f":"IFERROR(IF(F205=0,\" \",VLOOKUP(F205,'Ingresar DATOS'!$A$3:$C$320,3,FALSE)),\" \")","v":" "}]
[null," "," ",{"$f":"IFERROR(VLOOKUP(B206,Proceso!$A$2:$R$319,18,),\" \")","v":" "},{"$f":"IFERROR(VLOOKUP(B206,Proceso!$A$2:$F$319,6,),\" \")","v":" "},null,{"$f":"IFERROR(IF(F206=0,\" \",VLOOKUP(F206,'Ingresar DATOS'!$A$3:$C$320,2,FALSE)),\" \")","v":" "},{"$f":"IFERROR(IF(F206=0,\" \",VLOOKUP(F206,'Ingresar DATOS'!$A$3:$C$320,3,FALSE)),\" \")","v":" "}]
[null," "," ",{"$f":"IFERROR(VLOOKUP(B207,Proceso!$A$2:$R$319,18,),\" \")","v":" "},{"$f":"IFERROR(VLOOKUP(B207,Proceso!$A$2:$F$319,6,),\" \")","v":" "},null,{"$f":"IFERROR(IF(F207=0,\" \",VLOOKUP(F207,'Ingresar DATOS'!$A$3:$C$320,2,FALSE)),\" \")","v":" "},{"$f":"IFERROR(IF(F207=0,\" \",VLOOKUP(F207,'Ingresar DATOS'!$A$3:$C$320,3,FALSE)),\" \")","v":" "}]
[null," "," ",{"$f":"IFERROR(VLOOKUP(B208,Proceso!$A$2:$R$319,18,),\" \")","v":" "},{"$f":"IFERROR(VLOOKUP(B208,Proceso!$A$2:$F$319,6,),\" \")","v":" "},null,{"$f":"IFERROR(IF(F208=0,\" \",VLOOKUP(F208,'Ingresar DATOS'!$A$3:$C$320,2,FALSE)),\" \")","v":" "},{"$f":"IFERROR(IF(F208=0,\" \",VLOOKUP(F208,'Ingresar DATOS'!$A$3:$C$320,3,FALSE)),\" \")","v":" "}]
[null," "," ",{"$f":"IFERROR(VLOOKUP(B209,Proceso!$A$2:$R$319,18,),\" \")","v":" "},{"$f":"IFERROR(VLOOKUP(B209,Proceso!$A$2:$F$319,6,),\" \")","v":" "},null,{"$f":"IFERROR(IF(F209=0,\" \",VLOOKUP(F209,'Ingresar DATOS'!$A$3:$C$320,2,FALSE)),\" \")","v":" "},{"$f":"IFERROR(IF(F209=0,\" \",VLOOKUP(F209,'Ingresar DATOS'!$A$3:$C$320,3,FALSE)),\" \")","v":" "}]
[null," "," ",{"$f":"IFERROR(VLOOKUP(B210,Proceso!$A$2:$R$319,18,),\" \")","v":" "},{"$f":"IFERROR(VLOOKUP(B210,Proceso!$A$2:$F$319,6,),\" \")","v":" "},null,{"$f":"IFERROR(IF(F210=0,\" \",VLOOKUP(F210,'Ingresar DATOS'!$A$3:$C$320,2,FALSE)),\" \")","v":" "},{"$f":"IFERROR(IF(F210=0,\" \",VLOOKUP(F210,'Ingresar DATOS'!$A$3:$C$320,3,FALSE)),\" \")","v":" "}]
[null," "," ",{"$f":"IFERROR(VLOOKUP(B211,Proceso!$A$2:$R$319,18,),\" \")","v":" "},{"$f":"IFERROR(VLOOKUP(B211,Proceso!$A$2:$F$319,6,),\" \")","v":" "},null,{"$f":"IFERROR(IF(F211=0,\" \",VLOOKUP(F211,'Ingresar DATOS'!$A$3:$C$320,2,FALSE)),\" \")","v":" "},{"$f":"IFERROR(IF(F211=0,\" \",VLOOKUP(F211,'Ingresar DATOS'!$A$3:$C$320,3,FALSE)),\" \")","v":" "}]
[null," "," ",{"$f":"IFERROR(VLOOKUP(B212,Proceso!$A$2:$R$319,18,),\" \")","v":" "},{"$f":"IFERROR(VLOOKUP(B212,Proceso!$A$2:$F$319,6,),\" \")","v":" "},null,{"$f":"IFERROR(IF(F212=0,\" \",VLOOKUP(F212,'Ingresar DATOS'!$A$3:$C$320,2,FALSE)),\" \")","v":" "},{"$f":"IFERROR(IF(F212=0,\" \",VLOOKUP(F212,'Ingresar DATOS'!$A$3:$C$320,3,FALSE)),\" \")","v":" "}]
[null," "," ",{"$f":"IFERROR(VLOOKUP(B213,Proceso!$A$2:$R$319,18,),\" \")","v":" "},{"$f":"IFERROR(VLOOKUP(B213,Proceso!$A$2:$F$319,6,),\" \")","v":" "},null,{"$f":"IFERROR(IF(F213=0,\" \",VLOOKUP(F213,'Ingresar DATOS'!$A$3:$C$320,2,FALSE)),\" \")","v":" "},{"$f":"IFERROR(IF(F213=0,\" \",VLOOKUP(F213,'Ingresar DATOS'!$A$3:$C$320,3,FALSE)),\" \")","v":" "}]
[null," "," ",{"$f":"IFERROR(VLOOKUP(B214,Proceso!$A$2:$R$319,18,),\" \")","v":" "},{"$f":"IFERROR(VLOOKUP(B214,Proceso!$A$2:$F$319,6,),\" \")","v":" "},null,{"$f":"IFERROR(IF(F214=0,\" \",VLOOKUP(F214,'Ingresar DATOS'!$A$3:$C$320,2,FALSE)),\" \")","v":" "},{"$f":"IFERROR(IF(F214=0,\" \",VLOOKUP(F214,'Ingresar DATOS'!$A$3:$C$320,3,FALSE)),\" \")","v":" "}]
[null," "," ",{"$f":"IFERROR(VLOOKUP(B215,Proceso!$A$2:$R$319,18,),\" \")","v":" "},{"$f":"IFERROR(VLOOKUP(B215,Proceso!$A$2:$F$319,6,),\" \")","v":" "},null,{"$f":"IFERROR(IF(F215=0,\" \",VLOOKUP(F215,'Ingresar DATOS'!$A$3:$C$320,2,FALSE)),\" \")","v":" "},{"$f":"IFERROR(IF(F215=0,\" \",VLOOKUP(F215,'Ingresar DATOS'!$A$3:$C$320,3,FALSE)),\" \")","v":" "}]
[null," "," ",{"$f":"IFERROR(VLOOKUP(B216,Proceso!$A$2:$R$319,18,),\" \")","v":" "},{"$f":"IFERROR(VLOOKUP(B216,Proceso!$A$2:$F$319,6,),\" \")","v":" "},null,{"$f":"IFERROR(IF(F216=0,\" \",VLOOKUP(F216,'Ingresar DATOS'!$A$3:$C$320,2,FALSE)),\" \")","v":" "},{"$f":"IFERROR(IF(F216=0,\" \",VLOOKUP(F216,'Ingresar DATOS'!$A$3:$C$320,3,FALSE)),\" \")","v":" "}]
[null," "," ",{"$f":"IFERROR(VLOOKUP(B217,Proceso!$A$2:$R$319,18,),\" \")","v":" "},{"$f":"IFERROR(VLOOKUP(B217,Proceso!$A$2:$F$319,6,),\" \")","v":" "},null,{"$f":"IFERROR(IF(F217=0,\" \",VLOOKUP(F217,'Ingresar DATOS'!$A$3:$C$320,2,FALSE)),\" \")","v":" "},{"$f":"IFERROR(IF(F217=0,\" \",VLOOKUP(F217,'Ingresar DATOS'!$A$3:$C$320,3,FALSE)),\" \")","v":" "}]
[null," "," ",{"$f":"IFERROR(VLOOKUP(B218,Proceso!$A$2:$R$319,18,),\" \")","v":" "},{"$f":"IFERROR(VLOOKUP(B218,Proceso!$A$2:$F$319,6,),\" \")","v":" "},null,{"$f":"IFERROR(IF(F218=0,\" \",VLOOKUP(F218,'Ingresar DATOS'!$A$3:$C$320,2,FALSE)),\" \")","v":" "},{"$f":"IFERROR(IF(F218=0,\" \",VLOOKUP(F218,'Ingresar DATOS'!$A$3:$C$320,3,FALSE)),\" \")","v":" "}]
[null," "," ",{"$f":"IFERROR(VLOOKUP(B219,Proceso!$A$2:$R$319,18,),\" \")","v":" "},{"$f":"IFERROR(VLOOKUP(B219,Proceso!$A$2:$F$319,6,),\" \")","v":" "},null,{"$f":"IFERROR(IF(F219=0,\" \",VLOOKUP(F219,'Ingresar DATOS'!$A$3:$C$320,2,FALSE)),\" \")","v":" "},{"$f":"IFERROR(IF(F219=0,\" \",VLOOKUP(F219,'Ingresar DATOS'!$A$3:$C$320,3,FALSE)),\" \")","v":" "}]
[null," "," ",{"$f":"IFERROR(VLOOKUP(B220,Proceso!$A$2:$R$319,18,),\" \")","v":" "},{"$f":"IFERROR(VLOOKUP(B220,Proceso!$A$2:$F$319,6,),\" \")","v":" "},null,{"$f":"IFERROR(IF(F220=0,\" \",VLOOKUP(F220,'Ingresar DATOS'!$A$3:$C$320,2,FALSE)),\" \")","v":" "},{"$f":"IFERROR(IF(F220=0,\" \",VLOOKUP(F220,'Ingresar DATOS'!$A$3:$C$320,3,FALSE)),\" \")","v":" "}]
[null," "," ",{"$f":"IFERROR(VLOOKUP(B221,Proceso!$A$2:$R$319,18,),\" \")","v":" "},{"$f":"IFERROR(VLOOKUP(B221,Proceso!$A$2:$F$319,6,),\" \")","v":" "},null,{"$f":"IFERROR(IF(F221=0,\" \",VLOOKUP(F221,'Ingresar DATOS'!$A$3:$C$320,2,FALSE)),\" \")","v":" "},{"$f":"IFERROR(IF(F221=0,\" \",VLOOKUP(F221,'Ingresar DATOS'!$A$3:$C$320,3,FALSE)),\" \")","v":" "}]
[null," "," ",{"$f":"IFERROR(VLOOKUP(B222,Proceso!$A$2:$R$319,18,),\" \")","v":" "},{"$f":"IFERROR(VLOOKUP(B222,Proceso!$A$2:$F$319,6,),\" \")","v":" "},null,{"$f":"IFERROR(IF(F222=0,\" \",VLOOKUP(F222,'Ingresar DATOS'!$A$3:$C$320,2,FALSE)),\" \")","v":" "},{"$f":"IFERROR(IF(F222=0,\" \",VLOOKUP(F222,'Ingresar DATOS'!$A$3:$C$320,3,FALSE)),\" \")","v":" "}]
[null," "," ",{"$f":"IFERROR(VLOOKUP(B223,Proceso!$A$2:$R$319,18,),\" \")","v":" "},{"$f":"IFERROR(VLOOKUP(B223,Proceso!$A$2:$F$319,6,),\" \")","v":" "},null,{"$f":"IFERROR(IF(F223=0,\" \",VLOOKUP(F223,'Ingresar DATOS'!$A$3:$C$320,2,FALSE)),\" \")","v":" "},{"$f":"IFERROR(IF(F223=0,\" \",VLOOKUP(F223,'Ingresar DATOS'!$A$3:$C$320,3,FALSE)),\" \")","v":" "}]
[null," "," ",{"$f":"IFERROR(VLOOKUP(B224,Proceso!$A$2:$R$319,18,),\" \")","v":" "},{"$f":"IFERROR(VLOOKUP(B224,Proceso!$A$2:$F$319,6,),\" \")","v":" "},null,{"$f":"IFERROR(IF(F224=0,\" \",VLOOKUP(F224,'Ingresar DATOS'!$A$3:$C$320,2,FALSE)),\" \")","v":" "},{"$f":"IFERROR(IF(F224=0,\" \",VLOOKUP(F224,'Ingresar DATOS'!$A$3:$C$320,3,FALSE)),\" \")","v":" "}]
[null," "," ",{"$f":"IFERROR(VLOOKUP(B225,Proceso!$A$2:$R$319,18,),\" \")","v":" "},{"$f":"IFERROR(VLOOKUP(B225,Proceso!$A$2:$F$319,6,),\" \")","v":" "},null,{"$f":"IFERROR(IF(F225=0,\" \",VLOOKUP(F225,'Ingresar DATOS'!$A$3:$C$320,2,FALSE)),\" \")","v":" "},{"$f":"IFERROR(IF(F225=0,\" \",VLOOKUP(F225,'Ingresar DATOS'!$A$3:$C$320,3,FALSE)),\" \")","v":" "}]
[null," "," ",{"$f":"IFERROR(VLOOKUP(B226,Proceso!$A$2:$R$319,18,),\" \")","v":" "},{"$f":"IFERROR(VLOOKUP(B226,Proceso!$A$2:$F$319,6,),\" \")","v":" "},null,{"$f":"IFERROR(IF(F226=0,\" \",VLOOKUP(F226,'Ingresar DATOS'!$A$3:$C$320,2,FALSE)),\" \")","v":" "},{"$f":"IFERROR(IF(F226=0,\" \",VLOOKUP(F226,'Ingresar DATOS'!$A$3:$C$320,3,FALSE)),\" \")","v":" "}]
[null," "," ",{"$f":"IFERROR(VLOOKUP(B227,Proceso!$A$2:$R$319,18,),\" \")","v":" "},{"$f":"IFERROR(VLOOKUP(B227,Proceso!$A$2:$F$319,6,),\" \")","v":" "},null,{"$f":"IFERROR(IF(F227=0,\" \",VLOOKUP(F227,'Ingresar DATOS'!$A$3:$C$320,2,FALSE)),\" \")","v":" "},{"$f":"IFERROR(IF(F227=0,\" \",VLOOKUP(F227,'Ingresar DATOS'!$A$3:$C$320,3,FALSE)),\" \")","v":" "}]
[null," "," ",{"$f":"IFERROR(VLOOKUP(B228,Proceso!$A$2:$R$319,18,),\" \")","v":" "},{"$f":"IFERROR(VLOOKUP(B228,Proceso!$A$2:$F$319,6,),\" \")","v":" "},null,{"$f":"IFERROR(IF(F228=0,\" \",VLOOKUP(F228,'Ingresar DATOS'!$A$3:$C$320,2,FALSE)),\" \")","v":" "},{"$f":"IFERROR(IF(F228=0,\" \",VLOOKUP(F228,'Ingresar DATOS'!$A$3:$C$320,3,FALSE)),\" \")","v":" "}]
[null," "," ",{"$f":"IFERROR(VLOOKUP(B229,Proceso!$A$2:$R$319,18,),\" \")","v":" "},{"$f":"IFERROR(VLOOKUP(B229,Proceso!$A$2:$F$319,6,),\" \")","v":" "},null,{"$f":"IFERROR(IF(F229=0,\" \",VLOOKUP(F229,'Ingresar DATOS'!$A$3:$C$320,2,FALSE)),\" \")","v":" "},{"$f":"IFERROR(IF(F229=0,\" \",VLOOKUP(F229,'Ingresar DATOS'!$A$3:$C$320,3,FALSE)),\" \")","v":" "}]
[null," "," ",{"$f":"IFERROR(VLOOKUP(B230,Proceso!$A$2:$R$319,18,),\" \")","v":" "},{"$f":"IFERROR(VLOOKUP(B230,Proceso!$A$2:$F$319,6,),\" \")","v":" "},null,{"$f":"IFERROR(IF(F230=0,\" \",VLOOKUP(F230,'Ingresar DATOS'!$A$3:$C$320,2,FALSE)),\" \")","v":" "},{"$f":"IFERROR(IF(F230=0,\" \",VLOOKUP(F230,'Ingresar DATOS'!$A$3:$C$320,3,FALSE)),\" \")","v":" "}]
[null," "," ",{"$f":"IFERROR(VLOOKUP(B231,Proceso!$A$2:$R$319,18,),\" \")","v":" "},{"$f":"IFERROR(VLOOKUP(B231,Proceso!$A$2:$F$319,6,),\" \")","v":" "},null,{"$f":"IFERROR(IF(F231=0,\" \",VLOOKUP(F231,'Ingresar DATOS'!$A$3:$C$320,2,FALSE)),\" \")","v":" "},{"$f":"IFERROR(IF(F231=0,\" \",VLOOKUP(F231,'Ingresar DATOS'!$A$3:$C$320,3,FALSE)),\" \")","v":" "}]
[null," "," ",{"$f":"IFERROR(VLOOKUP(B232,Proceso!$A$2:$R$319,18,),\" \")","v":" "},{"$f":"IFERROR(VLOOKUP(B232,Proceso!$A$2:$F$319,6,),\" \")","v":" "},null,{"$f":"IFERROR(IF(F232=0,\" \",VLOOKUP(F232,'Ingresar DATOS'!$A$3:$C$320,2,FALSE)),\" \")","v":" "},{"$f":"IFERROR(IF(F232=0,\" \",VLOOKUP(F232,'Ingresar DATOS'!$A$3:$C$320,3,FALSE)),\" \")","v":" "}]
[null," "," ",{"$f":"IFERROR(VLOOKUP(B233,Proceso!$A$2:$R$319,18,),\" \")","v":" "},{"$f":"IFERROR(VLOOKUP(B233,Proceso!$A$2:$F$319,6,),\" \")","v":" "},null,{"$f":"IFERROR(IF(F233=0,\" \",VLOOKUP(F233,'Ingresar DATOS'!$A$3:$C$320,2,FALSE)),\" \")","v":" "},{"$f":"IFERROR(IF(F233=0,\" \",VLOOKUP(F233,'Ingresar DATOS'!$A$3:$C$320,3,FALSE)),\" \")","v":" "}]
[null," "," ",{"$f":"IFERROR(VLOOKUP(B234,Proceso!$A$2:$R$319,18,),\" \")","v":" "},{"$f":"IFERROR(VLOOKUP(B234,Proceso!$A$2:$F$319,6,),\" \")","v":" "},null,{"$f":"IFERROR(IF(F234=0,\" \",VLOOKUP(F234,'Ingresar DATOS'!$A$3:$C$320,2,FALSE)),\" \")","v":" "},{"$f":"IFERROR(IF(F234=0,\" \",VLOOKUP(F234,'Ingresar DATOS'!$A$3:$C$320,3,FALSE)),\" \")","v":" "}]
[null," "," ",{"$f":"IFERROR(VLOOKUP(B235,Proceso!$A$2:$R$319,18,),\" \")","v":" "},{"$f":"IFERROR(VLOOKUP(B235,Proceso!$A$2:$F$319,6,),\" \")","v":" "},null,{"$f":"IFERROR(IF(F235=0,\" \",VLOOKUP(F235,'Ingresar DATOS'!$A$3:$C$320,2,FALSE)),\" \")","v":" "},{"$f":"IFERROR(IF(F235=0,\" \",VLOOKUP(F235,'Ingresar DATOS'!$A$3:$C$320,3,FALSE)),\" \")","v":" "}]
[null," "," ",{"$f":"IFERROR(VLOOKUP(B236,Proceso!$A$2:$R$319,18,),\" \")","v":" "},{"$f":"IFERROR(VLOOKUP(B236,Proceso!$A$2:$F$319,6,),\" \")","v":" "},null,{"$f":"IFERROR(IF(F236=0,\" \",VLOOKUP(F236,'Ingresar DATOS'!$A$3:$C$320,2,FALSE)),\" \")","v":" "},{"$f":"IFERROR(IF(F236=0,\" \",VLOOKUP(F236,'Ingresar DATOS'!$A$3:$C$320,3,FALSE)),\" \")","v":" "}]
[null," "," ",{"$f":"IFERROR(VLOOKUP(B237,Proceso!$A$2:$R$319,18,),\" \")","v":" "},{"$f":"IFERROR(VLOOKUP(B237,Proceso!$A$2:$F$319,6,),\" \")","v":" "},null,{"$f":"IFERROR(IF(F237=0,\" \",VLOOKUP(F237,'Ingresar DATOS'!$A$3:$C$320,2,FALSE)),\" \")","v":" "},{"$f":"IFERROR(IF(F237=0,\" \",VLOOKUP(F237,'Ingresar DATOS'!$A$3:$C$320,3,FALSE)),\" \")","v":" "}]
[null," "," ",{"$f":"IFERROR(VLOOKUP(B238,Proceso!$A$2:$R$319,18,),\" \")","v":" "},{"$f":"IFERROR(VLOOKUP(B238,Proceso!$A$2:$F$319,6,),\" \")","v":" "},null,{"$f":"IFERROR(IF(F238=0,\" \",VLOOKUP(F238,'Ingresar DATOS'!$A$3:$C$320,2,FALSE)),\" \")","v":" "},{"$f":"IFERROR(IF(F238=0,\" \",VLOOKUP(F238,'Ingresar DATOS'!$A$3:$C$320,3,FALSE)),\" \")","v":" "}]
[null," "," ",{"$f":"IFERROR(VLOOKUP(B239,Proceso!$A$2:$R$319,18,),\" \")","v":" "},{"$f":"IFERROR(VLOOKUP(B239,Proceso!$A$2:$F$319,6,),\" \")","v":" "},null,{"$f":"IFERROR(IF(F239=0,\" \",VLOOKUP(F239,'Ingresar DATOS'!$A$3:$C$320,2,FALSE)),\" \")","v":" "},{"$f":"IFERROR(IF(F239=0,\" \",VLOOKUP(F239,'Ingresar DATOS'!$A$3:$C$320,3,FALSE)),\" \")","v":" "}]
[null," "," ",{"$f":"IFERROR(VLOOKUP(B240,Proceso!$A$2:$R$319,18,),\" \")","v":" "},{"$f":"IFERROR(VLOOKUP(B240,Proceso!$A$2:$F$319,6,),\" \")","v":" "},null,{"$f":"IFERROR(IF(F240=0,\" \",VLOOKUP(F240,'Ingresar DATOS'!$A$3:$C$320,2,FALSE)),\" \")","v":" "},{"$f":"IFERROR(IF(F240=0,\" \",VLOOKUP(F240,'Ingresar DATOS'!$A$3:$C$320,3,FALSE)),\" \")","v":" "}]
[null," "," ",{"$f":"IFERROR(VLOOKUP(B241,Proceso!$A$2:$R$319,18,),\" \")","v":" "},{"$f":"IFERROR(VLOOKUP(B241,Proceso!$A$2:$F$319,6,),\" \")","v":" "},null,{"$f":"IFERROR(IF(F241=0,\" \",VLOOKUP(F241,'Ingresar DATOS'!$A$3:$C$320,2,FALSE)),\" \")","v":" "},{"$f":"IFERROR(IF(F241=0,\" \",VLOOKUP(F241,'Ingresar DATOS'!$A$3:$C$320,3,FALSE)),\" \")","v":" "}]
[null," "," ",{"$f":"IFERROR(VLOOKUP(B242,Proceso!$A$2:$R$319,18,),\" \")","v":" "},{"$f":"IFERROR(VLOOKUP(B242,Proceso!$A$2:$F$319,6,),\" \")","v":" "},null,{"$f":"IFERROR(IF(F242=0,\" \",VLOOKUP(F242,'Ingresar DATOS'!$A$3:$C$320,2,FALSE)),\" \")","v":" "},{"$f":"IFERROR(IF(F242=0,\" \",VLOOKUP(F242,'Ingresar DATOS'!$A$3:$C$320,3,FALSE)),\" \")","v":" "}]
[null," "," ",{"$f":"IFERROR(VLOOKUP(B243,Proceso!$A$2:$R$319,18,),\" \")","v":" "},{"$f":"IFERROR(VLOOKUP(B243,Proceso!$A$2:$F$319,6,),\" \")","v":" "},null,{"$f":"IFERROR(IF(F243=0,\" \",VLOOKUP(F243,'Ingresar DATOS'!$A$3:$C$320,2,FALSE)),\" \")","v":" "},{"$f":"IFERROR(IF(F243=0,\" \",VLOOKUP(F243,'Ingresar DATOS'!$A$3:$C$320,3,FALSE)),\" \")","v":" "}]
[null," "," ",{"$f":"IFERROR(VLOOKUP(B244,Proceso!$A$2:$R$319,18,),\" \")","v":" "},{"$f":"IFERROR(VLOOKUP(B244,Proceso!$A$2:$F$319,6,),\" \")","v":" "},null,{"$f":"IFERROR(IF(F244=0,\" \",VLOOKUP(F244,'Ingresar DATOS'!$A$3:$C$320,2,FALSE)),\" \")","v":" "},{"$f":"IFERROR(IF(F244=0,\" \",VLOOKUP(F244,'Ingresar DATOS'!$A$3:$C$320,3,FALSE)),\" \")","v":" "}]
[null," "," ",{"$f":"IFERROR(VLOOKUP(B245,Proceso!$A$2:$R$319,18,),\" \")","v":" "},{"$f":"IFERROR(VLOOKUP(B245,Proceso!$A$2:$F$319,6,),\" \")","v":" "},null,{"$f":"IFERROR(IF(F245=0,\" \",VLOOKUP(F245,'Ingresar DATOS'!$A$3:$C$320,2,FALSE)),\" \")","v":" "},{"$f":"IFERROR(IF(F245=0,\" \",VLOOKUP(F245,'Ingresar DATOS'!$A$3:$C$320,3,FALSE)),\" \")","v":" "}]
[null," "," ",{"$f":"IFERROR(VLOOKUP(B246,Proceso!$A$2:$R$319,18,),\" \")","v":" "},{"$f":"IFERROR(VLOOKUP(B246,Proceso!$A$2:$F$319,6,),\" \")","v":" "},null,{"$f":"IFERROR(IF(F246=0,\" \",VLOOKUP(F246,'Ingresar DATOS'!$A$3:$C$320,2,FALSE)),\" \")","v":" "},{"$f":"IFERROR(IF(F246=0,\" \",VLOOKUP(F246,'Ingresar DATOS'!$A$3:$C$320,3,FALSE)),\" \")","v":" "}]
[null," "," ",{"$f":"IFERROR(VLOOKUP(B247,Proceso!$A$2:$R$319,18,),\" \")","v":" "},{"$f":"IFERROR(VLOOKUP(B247,Proceso!$A$2:$F$319,6,),\" \")","v":" "},null,{"$f":"IFERROR(IF(F247=0,\" \",VLOOKUP(F247,'Ingresar DATOS'!$A$3:$C$320,2,FALSE)),\" \")","v":" "},{"$f":"IFERROR(IF(F247=0,\" \",VLOOKUP(F247,'Ingresar DATOS'!$A$3:$C$320,3,FALSE)),\" \")","v":" "}]
[null," "," ",{"$f":"IFERROR(VLOOKUP(B248,Proceso!$A$2:$R$319,18,),\" \")","v":" "},{"$f":"IFERROR(VLOOKUP(B248,Proceso!$A$2:$F$319,6,),\" \")","v":" "},null,{"$f":"IFERROR(IF(F248=0,\" \",VLOOKUP(F248,'Ingresar DATOS'!$A$3:$C$320,2,FALSE)),\" \")","v":" "},{"$f":"IFERROR(IF(F248=0,\" \",VLOOKUP(F248,'Ingresar DATOS'!$A$3:$C$320,3,FALSE)),\" \")","v":" "}]
[null," "," ",{"$f":"IFERROR(VLOOKUP(B249,Proceso!$A$2:$R$319,18,),\" \")","v":" "},{"$f":"IFERROR(VLOOKUP(B249,Proceso!$A$2:$F$319,6,),\" \")","v":" "},null,{"$f":"IFERROR(IF(F249=0,\" \",VLOOKUP(F249,'Ingresar DATOS'!$A$3:$C$320,2,FALSE)),\" \")","v":" "},{"$f":"IFERROR(IF(F249=0,\" \",VLOOKUP(F249,'Ingresar DATOS'!$A$3:$C$320,3,FALSE)),\" \")","v":" "}]
[null," "," ",{"$f":"IFERROR(VLOOKUP(B250,Proceso!$A$2:$R$319,18,),\" \")","v":" "},{"$f":"IFERROR(VLOOKUP(B250,Proceso!$A$2:$F$319,6,),\" \")","v":" "},null,{"$f":"IFERROR(IF(F250=0,\" \",VLOOKUP(F250,'Ingresar DATOS'!$A$3:$C$320,2,FALSE)),\" \")","v":" "},{"$f":"IFERROR(IF(F250=0,\" \",VLOOKUP(F250,'Ingresar DATOS'!$A$3:$C$320,3,FALSE)),\" \")","v":" "}]
[null," "," ",{"$f":"IFERROR(VLOOKUP(B251,Proceso!$A$2:$R$319,18,),\" \")","v":" "},{"$f":"IFERROR(VLOOKUP(B251,Proceso!$A$2:$F$319,6,),\" \")","v":" "},null,{"$f":"IFERROR(IF(F251=0,\" \",VLOOKUP(F251,'Ingresar DATOS'!$A$3:$C$320,2,FALSE)),\" \")","v":" "},{"$f":"IFERROR(IF(F251=0,\" \",VLOOKUP(F251,'Ingresar DATOS'!$A$3:$C$320,3,FALSE)),\" \")","v":" "}]
[null," "," ",{"$f":"IFERROR(VLOOKUP(B252,Proceso!$A$2:$R$319,18,),\" \")","v":" "},{"$f":"IFERROR(VLOOKUP(B252,Proceso!$A$2:$F$319,6,),\" \")","v":" "},null,{"$f":"IFERROR(IF(F252=0,\" \",VLOOKUP(F252,'Ingresar DATOS'!$A$3:$C$320,2,FALSE)),\" \")","v":" "},{"$f":"IFERROR(IF(F252=0,\" \",VLOOKUP(F252,'Ingresar DATOS'!$A$3:$C$320,3,FALSE)),\" \")","v":" "}]
[null," "," ",{"$f":"IFERROR(VLOOKUP(B253,Proceso!$A$2:$R$319,18,),\" \")","v":" "},{"$f":"IFERROR(VLOOKUP(B253,Proceso!$A$2:$F$319,6,),\" \")","v":" "},null,{"$f":"IFERROR(IF(F253=0,\" \",VLOOKUP(F253,'Ingresar DATOS'!$A$3:$C$320,2,FALSE)),\" \")","v":" "},{"$f":"IFERROR(IF(F253=0,\" \",VLOOKUP(F253,'Ingresar DATOS'!$A$3:$C$320,3,FALSE)),\" \")","v":" "}]
[null," "," ",{"$f":"IFERROR(VLOOKUP(B254,Proceso!$A$2:$R$319,18,),\" \")","v":" "},{"$f":"IFERROR(VLOOKUP(B254,Proceso!$A$2:$F$319,6,),\" \")","v":" "},null,{"$f":"IFERROR(IF(F254=0,\" \",VLOOKUP(F254,'Ingresar DATOS'!$A$3:$C$320,2,FALSE)),\" \")","v":" "},{"$f":"IFERROR(IF(F254=0,\" \",VLOOKUP(F254,'Ingresar DATOS'!$A$3:$C$320,3,FALSE)),\" \")","v":" "}]
[null," "," ",{"$f":"IFERROR(VLOOKUP(B255,Proceso!$A$2:$R$319,18,),\" \")","v":" "},{"$f":"IFERROR(VLOOKUP(B255,Proceso!$A$2:$F$319,6,),\" \")","v":" "},null,{"$f":"IFERROR(IF(F255=0,\" \",VLOOKUP(F255,'Ingresar DATOS'!$A$3:$C$320,2,FALSE)),\" \")","v":" "},{"$f":"IFERROR(IF(F255=0,\" \",VLOOKUP(F255,'Ingresar DATOS'!$A$3:$C$320,3,FALSE)),\" \")","v":" "}]
[null," "," ",{"$f":"IFERROR(VLOOKUP(B256,Proceso!$A$2:$R$319,18,),\" \")","v":" "},{"$f":"IFERROR(VLOOKUP(B256,Proceso!$A$2:$F$319,6,),\" \")","v":" "},null,{"$f":"IFERROR(IF(F256=0,\" \",VLOOKUP(F256,'Ingresar DATOS'!$A$3:$C$320,2,FALSE)),\" \")","v":" "},{"$f":"IFERROR(IF(F256=0,\" \",VLOOKUP(F256,'Ingresar DATOS'!$A$3:$C$320,3,FALSE)),\" \")","v":" "}]
[null," "," ",{"$f":"IFERROR(VLOOKUP(B257,Proceso!$A$2:$R$319,18,),\" \")","v":" "},{"$f":"IFERROR(VLOOKUP(B257,Proceso!$A$2:$F$319,6,),\" \")","v":" "},null,{"$f":"IFERROR(IF(F257=0,\" \",VLOOKUP(F257,'Ingresar DATOS'!$A$3:$C$320,2,FALSE)),\" \")","v":" "},{"$f":"IFERROR(IF(F257=0,\" \",VLOOKUP(F257,'Ingresar DATOS'!$A$3:$C$320,3,FALSE)),\" \")","v":" "}]
[null," "," ",{"$f":"IFERROR(VLOOKUP(B258,Proceso!$A$2:$R$319,18,),\" \")","v":" "},{"$f":"IFERROR(VLOOKUP(B258,Proceso!$A$2:$F$319,6,),\" \")","v":" "},null,{"$f":"IFERROR(IF(F258=0,\" \",VLOOKUP(F258,'Ingresar DATOS'!$A$3:$C$320,2,FALSE)),\" \")","v":" "},{"$f":"IFERROR(IF(F258=0,\" \",VLOOKUP(F258,'Ingresar DATOS'!$A$3:$C$320,3,FALSE)),\" \")","v":" "}]
[null," "," ",{"$f":"IFERROR(VLOOKUP(B259,Proceso!$A$2:$R$319,18,),\" \")","v":" "},{"$f":"IFERROR(VLOOKUP(B259,Proceso!$A$2:$F$319,6,),\" \")","v":" "},null,{"$f":"IFERROR(IF(F259=0,\" \",VLOOKUP(F259,'Ingresar DATOS'!$A$3:$C$320,2,FALSE)),\" \")","v":" "},{"$f":"IFERROR(IF(F259=0,\" \",VLOOKUP(F259,'Ingresar DATOS'!$A$3:$C$320,3,FALSE)),\" \")","v":" "}]
[null," "," ",{"$f":"IFERROR(VLOOKUP(B260,Proceso!$A$2:$R$319,18,),\" \")","v":" "},{"$f":"IFERROR(VLOOKUP(B260,Proceso!$A$2:$F$319,6,),\" \")","v":" "},null,{"$f":"IFERROR(IF(F260=0,\" \",VLOOKUP(F260,'Ingresar DATOS'!$A$3:$C$320,2,FALSE)),\" \")","v":" "},{"$f":"IFERROR(IF(F260=0,\" \",VLOOKUP(F260,'Ingresar DATOS'!$A$3:$C$320,3,FALSE)),\" \")","v":" "}]
[null," "," ",{"$f":"IFERROR(VLOOKUP(B261,Proceso!$A$2:$R$319,18,),\" \")","v":" "},{"$f":"IFERROR(VLOOKUP(B261,Proceso!$A$2:$F$319,6,),\" \")","v":" "},null,{"$f":"IFERROR(IF(F261=0,\" \",VLOOKUP(F261,'Ingresar DATOS'!$A$3:$C$320,2,FALSE)),\" \")","v":" "},{"$f":"IFERROR(IF(F261=0,\" \",VLOOKUP(F261,'Ingresar DATOS'!$A$3:$C$320,3,FALSE)),\" \")","v":" "}]
[null," "," ",{"$f":"IFERROR(VLOOKUP(B262,Proceso!$A$2:$R$319,18,),\" \")","v":" "},{"$f":"IFERROR(VLOOKUP(B262,Proceso!$A$2:$F$319,6,),\" \")","v":" "},null,{"$f":"IFERROR(IF(F262=0,\" \",VLOOKUP(F262,'Ingresar DATOS'!$A$3:$C$320,2,FALSE)),\" \")","v":" "},{"$f":"IFERROR(IF(F262=0,\" \",VLOOKUP(F262,'Ingresar DATOS'!$A$3:$C$320,3,FALSE)),\" \")","v":" "}]
[null,{"$f":"IF(F263<>0,F262,\" \")","v":" "},{"$f":"IF(F263<>0,F263,\" \")","v":" "},{"$f":"IFERROR(VLOOKUP(B263,Proceso!$A$2:$R$319,18,),\" \")","v":" "},{"$f":"IFERROR(VLOOKUP(B263,Proceso!$A$2:$F$319,6,),\" \")","v":" "},null,{"$f":"IFERROR(IF(F263=0,\" \",VLOOKUP(F263,'Ingresar DATOS'!$A$3:$C$320,2,FALSE)),\" \")","v":" "},{"$f":"IFERROR(IF(F263=0,\" \",VLOOKUP(F263,'Ingresar DATOS'!$A$3:$C$320,3,FALSE)),\" \")","v":" "}]
[null," "," ",{"$f":"IFERROR(VLOOKUP(B264,Proceso!$A$2:$R$319,18,),\" \")","v":" "},{"$f":"IFERROR(VLOOKUP(B264,Proceso!$A$2:$F$319,6,),\" \")","v":" "},null,{"$f":"IFERROR(IF(F264=0,\" \",VLOOKUP(F264,'Ingresar DATOS'!$A$3:$C$320,2,FALSE)),\" \")","v":" "},{"$f":"IFERROR(IF(F264=0,\" \",VLOOKUP(F264,'Ingresar DATOS'!$A$3:$C$320,3,FALSE)),\" \")","v":" "}]
[null," "," ",{"$f":"IFERROR(VLOOKUP(B265,Proceso!$A$2:$R$319,18,),\" \")","v":" "},{"$f":"IFERROR(VLOOKUP(B265,Proceso!$A$2:$F$319,6,),\" \")","v":" "},null,{"$f":"IFERROR(IF(F265=0,\" \",VLOOKUP(F265,'Ingresar DATOS'!$A$3:$C$320,2,FALSE)),\" \")","v":" "},{"$f":"IFERROR(IF(F265=0,\" \",VLOOKUP(F265,'Ingresar DATOS'!$A$3:$C$320,3,FALSE)),\" \")","v":" "}]
[null," "," ",{"$f":"IFERROR(VLOOKUP(B266,Proceso!$A$2:$R$319,18,),\" \")","v":" "},{"$f":"IFERROR(VLOOKUP(B266,Proceso!$A$2:$F$319,6,),\" \")","v":" "},null,{"$f":"IFERROR(IF(F266=0,\" \",VLOOKUP(F266,'Ingresar DATOS'!$A$3:$C$320,2,FALSE)),\" \")","v":" "},{"$f":"IFERROR(IF(F266=0,\" \",VLOOKUP(F266,'Ingresar DATOS'!$A$3:$C$320,3,FALSE)),\" \")","v":" "}]
[null," "," ",{"$f":"IFERROR(VLOOKUP(B267,Proceso!$A$2:$R$319,18,),\" \")","v":" "},{"$f":"IFERROR(VLOOKUP(B267,Proceso!$A$2:$F$319,6,),\" \")","v":" "},null,{"$f":"IFERROR(IF(F267=0,\" \",VLOOKUP(F267,'Ingresar DATOS'!$A$3:$C$320,2,FALSE)),\" \")","v":" "},{"$f":"IFERROR(IF(F267=0,\" \",VLOOKUP(F267,'Ingresar DATOS'!$A$3:$C$320,3,FALSE)),\" \")","v":" "}]
[null," "," ",{"$f":"IFERROR(VLOOKUP(B268,Proceso!$A$2:$R$319,18,),\" \")","v":" "},{"$f":"IFERROR(VLOOKUP(B268,Proceso!$A$2:$F$319,6,),\" \")","v":" "},null,{"$f":"IFERROR(IF(F268=0,\" \",VLOOKUP(F268,'Ingresar DATOS'!$A$3:$C$320,2,FALSE)),\" \")","v":" "},{"$f":"IFERROR(IF(F268=0,\" \",VLOOKUP(F268,'Ingresar DATOS'!$A$3:$C$320,3,FALSE)),\" \")","v":" "}]
[null," "," ",{"$f":"IFERROR(VLOOKUP(B269,Proceso!$A$2:$R$319,18,),\" \")","v":" "},{"$f":"IFERROR(VLOOKUP(B269,Proceso!$A$2:$F$319,6,),\" \")","v":" "},null,{"$f":"IFERROR(IF(F269=0,\" \",VLOOKUP(F269,'Ingresar DATOS'!$A$3:$C$320,2,FALSE)),\" \")","v":" "},{"$f":"IFERROR(IF(F269=0,\" \",VLOOKUP(F269,'Ingresar DATOS'!$A$3:$C$320,3,FALSE)),\" \")","v":" "}]
[null," "," ",{"$f":"IFERROR(VLOOKUP(B270,Proceso!$A$2:$R$319,18,),\" \")","v":" "},{"$f":"IFERROR(VLOOKUP(B270,Proceso!$A$2:$F$319,6,),\" \")","v":" "},null,{"$f":"IFERROR(IF(F270=0,\" \",VLOOKUP(F270,'Ingresar DATOS'!$A$3:$C$320,2,FALSE)),\" \")","v":" "},{"$f":"IFERROR(IF(F270=0,\" \",VLOOKUP(F270,'Ingresar DATOS'!$A$3:$C$320,3,FALSE)),\" \")","v":" "}]
[null," "," ",{"$f":"IFERROR(VLOOKUP(B271,Proceso!$A$2:$R$319,18,),\" \")","v":" "},{"$f":"IFERROR(VLOOKUP(B271,Proceso!$A$2:$F$319,6,),\" \")","v":" "},null,{"$f":"IFERROR(IF(F271=0,\" \",VLOOKUP(F271,'Ingresar DATOS'!$A$3:$C$320,2,FALSE)),\" \")","v":" "},{"$f":"IFERROR(IF(F271=0,\" \",VLOOKUP(F271,'Ingresar DATOS'!$A$3:$C$320,3,FALSE)),\" \")","v":" "}]
[null," "," ",{"$f":"IFERROR(VLOOKUP(B272,Proceso!$A$2:$R$319,18,),\" \")","v":" "},{"$f":"IFERROR(VLOOKUP(B272,Proceso!$A$2:$F$319,6,),\" \")","v":" "},null,{"$f":"IFERROR(IF(F272=0,\" \",VLOOKUP(F272,'Ingresar DATOS'!$A$3:$C$320,2,FALSE)),\" \")","v":" "},{"$f":"IFERROR(IF(F272=0,\" \",VLOOKUP(F272,'Ingresar DATOS'!$A$3:$C$320,3,FALSE)),\" \")","v":" "}]
[null," "," ",{"$f":"IFERROR(VLOOKUP(B273,Proceso!$A$2:$R$319,18,),\" \")","v":" "},{"$f":"IFERROR(VLOOKUP(B273,Proceso!$A$2:$F$319,6,),\" \")","v":" "},null,{"$f":"IFERROR(IF(F273=0,\" \",VLOOKUP(F273,'Ingresar DATOS'!$A$3:$C$320,2,FALSE)),\" \")","v":" "},{"$f":"IFERROR(IF(F273=0,\" \",VLOOKUP(F273,'Ingresar DATOS'!$A$3:$C$320,3,FALSE)),\" \")","v":" "}]
[null," "," ",{"$f":"IFERROR(VLOOKUP(B274,Proceso!$A$2:$R$319,18,),\" \")","v":" "},{"$f":"IFERROR(VLOOKUP(B274,Proceso!$A$2:$F$319,6,),\" \")","v":" "},null,{"$f":"IFERROR(IF(F274=0,\" \",VLOOKUP(F274,'Ingresar DATOS'!$A$3:$C$320,2,FALSE)),\" \")","v":" "},{"$f":"IFERROR(IF(F274=0,\" \",VLOOKUP(F274,'Ingresar DATOS'!$A$3:$C$320,3,FALSE)),\" \")","v":" "}]
[null," "," ",{"$f":"IFERROR(VLOOKUP(B275,Proceso!$A$2:$R$319,18,),\" \")","v":" "},{"$f":"IFERROR(VLOOKUP(B275,Proceso!$A$2:$F$319,6,),\" \")","v":" "},null,{"$f":"IFERROR(IF(F275=0,\" \",VLOOKUP(F275,'Ingresar DATOS'!$A$3:$C$320,2,FALSE)),\" \")","v":" "},{"$f":"IFERROR(IF(F275=0,\" \",VLOOKUP(F275,'Ingresar DATOS'!$A$3:$C$320,3,FALSE)),\" \")","v":" "}]
[null," "," ",{"$f":"IFERROR(VLOOKUP(B276,Proceso!$A$2:$R$319,18,),\" \")","v":" "},{"$f":"IFERROR(VLOOKUP(B276,Proceso!$A$2:$F$319,6,),\" \")","v":" "},null,{"$f":"IFERROR(IF(F276=0,\" \",VLOOKUP(F276,'Ingresar DATOS'!$A$3:$C$320,2,FALSE)),\" \")","v":" "},{"$f":"IFERROR(IF(F276=0,\" \",VLOOKUP(F276,'Ingresar DATOS'!$A$3:$C$320,3,FALSE)),\" \")","v":" "}]
[null," "," ",{"$f":"IFERROR(VLOOKUP(B277,Proceso!$A$2:$R$319,18,),\" \")","v":" "},{"$f":"IFERROR(VLOOKUP(B277,Proceso!$A$2:$F$319,6,),\" \")","v":" "},null,{"$f":"IFERROR(IF(F277=0,\" \",VLOOKUP(F277,'Ingresar DATOS'!$A$3:$C$320,2,FALSE)),\" \")","v":" "},{"$f":"IFERROR(IF(F277=0,\" \",VLOOKUP(F277,'Ingresar DATOS'!$A$3:$C$320,3,FALSE)),\" \")","v":" "}]
[null," "," ",{"$f":"IFERROR(VLOOKUP(B278,Proceso!$A$2:$R$319,18,),\" \")","v":" "},{"$f":"IFERROR(VLOOKUP(B278,Proceso!$A$2:$F$319,6,),\" \")","v":" "},null,{"$f":"IFERROR(IF(F278=0,\" \",VLOOKUP(F278,'Ingresar DATOS'!$A$3:$C$320,2,FALSE)),\" \")","v":" "},{"$f":"IFERROR(IF(F278=0,\" \",VLOOKUP(F278,'Ingresar DATOS'!$A$3:$C$320,3,FALSE)),\" \")","v":" "}]
[null," "," ",{"$f":"IFERROR(VLOOKUP(B279,Proceso!$A$2:$R$319,18,),\" \")","v":" "},{"$f":"IFERROR(VLOOKUP(B279,Proceso!$A$2:$F$319,6,),\" \")","v":" "},null,{"$f":"IFERROR(IF(F279=0,\" \",VLOOKUP(F279,'Ingresar DATOS'!$A$3:$C$320,2,FALSE)),\" \")","v":" "},{"$f":"IFERROR(IF(F279=0,\" \",VLOOKUP(F279,'Ingresar DATOS'!$A$3:$C$320,3,FALSE)),\" \")","v":" "}]
[null," "," ",{"$f":"IFERROR(VLOOKUP(B280,Proceso!$A$2:$R$319,18,),\" \")","v":" "},{"$f":"IFERROR(VLOOKUP(B280,Proceso!$A$2:$F$319,6,),\" \")","v":" "},null,{"$f":"IFERROR(IF(F280=0,\" \",VLOOKUP(F280,'Ingresar DATOS'!$A$3:$C$320,2,FALSE)),\" \")","v":" "},{"$f":"IFERROR(IF(F280=0,\" \",VLOOKUP(F280,'Ingresar DATOS'!$A$3:$C$320,3,FALSE)),\" \")","v":" "}]
[null," "," ",{"$f":"IFERROR(VLOOKUP(B281,Proceso!$A$2:$R$319,18,),\" \")","v":" "},{"$f":"IFERROR(VLOOKUP(B281,Proceso!$A$2:$F$319,6,),\" \")","v":" "},null,{"$f":"IFERROR(IF(F281=0,\" \",VLOOKUP(F281,'Ingresar DATOS'!$A$3:$C$320,2,FALSE)),\" \")","v":" "},{"$f":"IFERROR(IF(F281=0,\" \",VLOOKUP(F281,'Ingresar DATOS'!$A$3:$C$320,3,FALSE)),\" \")","v":" "}]
[null," "," ",{"$f":"IFERROR(VLOOKUP(B282,Proceso!$A$2:$R$319,18,),\" \")","v":" "},{"$f":"IFERROR(VLOOKUP(B282,Proceso!$A$2:$F$319,6,),\" \")","v":" "},null,{"$f":"IFERROR(IF(F282=0,\" \",VLOOKUP(F282,'Ingresar DATOS'!$A$3:$C$320,2,FALSE)),\" \")","v":" "},{"$f":"IFERROR(IF(F282=0,\" \",VLOOKUP(F282,'Ingresar DATOS'!$A$3:$C$320,3,FALSE)),\" \")","v":" "}]
[null," "," ",{"$f":"IFERROR(VLOOKUP(B283,Proceso!$A$2:$R$319,18,),\" \")","v":" "},{"$f":"IFERROR(VLOOKUP(B283,Proceso!$A$2:$F$319,6,),\" \")","v":" "},null,{"$f":"IFERROR(IF(F283=0,\" \",VLOOKUP(F283,'Ingresar DATOS'!$A$3:$C$320,2,FALSE)),\" \")","v":" "},{"$f":"IFERROR(IF(F283=0,\" \",VLOOKUP(F283,'Ingresar DATOS'!$A$3:$C$320,3,FALSE)),\" \")","v":" "}]
[null," "," ",{"$f":"IFERROR(VLOOKUP(B284,Proceso!$A$2:$R$319,18,),\" \")","v":" "},{"$f":"IFERROR(VLOOKUP(B284,Proceso!$A$2:$F$319,6,),\" \")","v":" "},null,{"$f":"IFERROR(IF(F284=0,\" \",VLOOKUP(F284,'Ingresar DATOS'!$A$3:$C$320,2,FALSE)),\" \")","v":" "},{"$f":"IFERROR(IF(F284=0,\" \",VLOOKUP(F284,'Ingresar DATOS'!$A$3:$C$320,3,FALSE)),\" \")","v":" "}]
[null," "," ",{"$f":"IFERROR(VLOOKUP(B285,Proceso!$A$2:$R$319,18,),\" \")","v":" "},{"$f":"IFERROR(VLOOKUP(B285,Proceso!$A$2:$F$319,6,),\" \")","v":" "},null,{"$f":"IFERROR(IF(F285=0,\" \",VLOOKUP(F285,'Ingresar DATOS'!$A$3:$C$320,2,FALSE)),\" \")","v":" "},{"$f":"IFERROR(IF(F285=0,\" \",VLOOKUP(F285,'Ingresar DATOS'!$A$3:$C$320,3,FALSE)),\" \")","v":" "}]
[null," "," ",{"$f":"IFERROR(VLOOKUP(B286,Proceso!$A$2:$R$319,18,),\" \")","v":" "},{"$f":"IFERROR(VLOOKUP(B286,Proceso!$A$2:$F$319,6,),\" \")","v":" "},null,{"$f":"IFERROR(IF(F286=0,\" \",VLOOKUP(F286,'Ingresar DATOS'!$A$3:$C$320,2,FALSE)),\" \")","v":" "},{"$f":"IFERROR(IF(F286=0,\" \",VLOOKUP(F286,'Ingresar DATOS'!$A$3:$C$320,3,FALSE)),\" \")","v":" "}]
[null," "," ",{"$f":"IFERROR(VLOOKUP(B287,Proceso!$A$2:$R$319,18,),\" \")","v":" "},{"$f":"IFERROR(VLOOKUP(B287,Proceso!$A$2:$F$319,6,),\" \")","v":" "},null,{"$f":"IFERROR(IF(F287=0,\" \",VLOOKUP(F287,'Ingresar DATOS'!$A$3:$C$320,2,FALSE)),\" \")","v":" "},{"$f":"IFERROR(IF(F287=0,\" \",VLOOKUP(F287,'Ingresar DATOS'!$A$3:$C$320,3,FALSE)),\" \")","v":" "}]
[null," "," ",{"$f":"IFERROR(VLOOKUP(B288,Proceso!$A$2:$R$319,18,),\" \")","v":" "},{"$f":"IFERROR(VLOOKUP(B288,Proceso!$A$2:$F$319,6,),\" \")","v":" "},null,{"$f":"IFERROR(IF(F288=0,\" \",VLOOKUP(F288,'Ingresar DATOS'!$A$3:$C$320,2,FALSE)),\" \")","v":" "},{"$f":"IFERROR(IF(F288=0,\" \",VLOOKUP(F288,'Ingresar DATOS'!$A$3:$C$320,3,FALSE)),\" \")","v":" "}]
[null," "," ",{"$f":"IFERROR(VLOOKUP(B289,Proceso!$A$2:$R$319,18,),\" \")","v":" "},{"$f":"IFERROR(VLOOKUP(B289,Proceso!$A$2:$F$319,6,),\" \")","v":" "},null,{"$f":"IFERROR(IF(F289=0,\" \",VLOOKUP(F289,'Ingresar DATOS'!$A$3:$C$320,2,FALSE)),\" \")","v":" "},{"$f":"IFERROR(IF(F289=0,\" \",VLOOKUP(F289,'Ingresar DATOS'!$A$3:$C$320,3,FALSE)),\" \")","v":" "}]
[null," "," ",{"$f":"IFERROR(VLOOKUP(B290,Proceso!$A$2:$R$319,18,),\" \")","v":" "},{"$f":"IFERROR(VLOOKUP(B290,Proceso!$A$2:$F$319,6,),\" \")","v":" "},null,{"$f":"IFERROR(IF(F290=0,\" \",VLOOKUP(F290,'Ingresar DATOS'!$A$3:$C$320,2,FALSE)),\" \")","v":" "},{"$f":"IFERROR(IF(F290=0,\" \",VLOOKUP(F290,'Ingresar DATOS'!$A$3:$C$320,3,FALSE)),\" \")","v":" "}]
[null," "," ",{"$f":"IFERROR(VLOOKUP(B291,Proceso!$A$2:$R$319,18,),\" \")","v":" "},{"$f":"IFERROR(VLOOKUP(B291,Proceso!$A$2:$F$319,6,),\" \")","v":" "},null,{"$f":"IFERROR(IF(F291=0,\" \",VLOOKUP(F291,'Ingresar DATOS'!$A$3:$C$320,2,FALSE)),\" \")","v":" "},{"$f":"IFERROR(IF(F291=0,\" \",VLOOKUP(F291,'Ingresar DATOS'!$A$3:$C$320,3,FALSE)),\" \")","v":" "}]
[null," "," ",{"$f":"IFERROR(VLOOKUP(B292,Proceso!$A$2:$R$319,18,),\" \")","v":" "},{"$f":"IFERROR(VLOOKUP(B292,Proceso!$A$2:$F$319,6,),\" \")","v":" "},null,{"$f":"IFERROR(IF(F292=0,\" \",VLOOKUP(F292,'Ingresar DATOS'!$A$3:$C$320,2,FALSE)),\" \")","v":" "},{"$f":"IFERROR(IF(F292=0,\" \",VLOOKUP(F292,'Ingresar DATOS'!$A$3:$C$320,3,FALSE)),\" \")","v":" "}]
[null," "," ",{"$f":"IFERROR(VLOOKUP(B293,Proceso!$A$2:$R$319,18,),\" \")","v":" "},{"$f":"IFERROR(VLOOKUP(B293,Proceso!$A$2:$F$319,6,),\" \")","v":" "},null,{"$f":"IFERROR(IF(F293=0,\" \",VLOOKUP(F293,'Ingresar DATOS'!$A$3:$C$320,2,FALSE)),\" \")","v":" "},{"$f":"IFERROR(IF(F293=0,\" \",VLOOKUP(F293,'Ingresar DATOS'!$A$3:$C$320,3,FALSE)),\" \")","v":" "}]
[null," "," ",{"$f":"IFERROR(VLOOKUP(B294,Proceso!$A$2:$R$319,18,),\" \")","v":" "},{"$f":"IFERROR(VLOOKUP(B294,Proceso!$A$2:$F$319,6,),\" \")","v":" "},null,{"$f":"IFERROR(IF(F294=0,\" \",VLOOKUP(F294,'Ingresar DATOS'!$A$3:$C$320,2,FALSE)),\" \")","v":" "},{"$f":"IFERROR(IF(F294=0,\" \",VLOOKUP(F294,'Ingresar DATOS'!$A$3:$C$320,3,FALSE)),\" \")","v":" "}]
[null," "," ",{"$f":"IFERROR(VLOOKUP(B295,Proceso!$A$2:$R$319,18,),\" \")","v":" "},{"$f":"IFERROR(VLOOKUP(B295,Proceso!$A$2:$F$319,6,),\" \")","v":" "},null,{"$f":"IFERROR(IF(F295=0,\" \",VLOOKUP(F295,'Ingresar DATOS'!$A$3:$C$320,2,FALSE)),\" \")","v":" "},{"$f":"IFERROR(IF(F295=0,\" \",VLOOKUP(F295,'Ingresar DATOS'!$A$3:$C$320,3,FALSE)),\" \")","v":" "}]
[null," "," ",{"$f":"IFERROR(VLOOKUP(B296,Proceso!$A$2:$R$319,18,),\" \")","v":" "},{"$f":"IFERROR(VLOOKUP(B296,Proceso!$A$2:$F$319,6,),\" \")","v":" "},null,{"$f":"IFERROR(IF(F296=0,\" \",VLOOKUP(F296,'Ingresar DATOS'!$A$3:$C$320,2,FALSE)),\" \")","v":" "},{"$f":"IFERROR(IF(F296=0,\" \",VLOOKUP(F296,'Ingresar DATOS'!$A$3:$C$320,3,FALSE)),\" \")","v":" "}]
[null," "," ",{"$f":"IFERROR(VLOOKUP(B297,Proceso!$A$2:$R$319,18,),\" \")","v":" "},{"$f":"IFERROR(VLOOKUP(B297,Proceso!$A$2:$F$319,6,),\" \")","v":" "},null,{"$f":"IFERROR(IF(F297=0,\" \",VLOOKUP(F297,'Ingresar DATOS'!$A$3:$C$320,2,FALSE)),\" \")","v":" "},{"$f":"IFERROR(IF(F297=0,\" \",VLOOKUP(F297,'Ingresar DATOS'!$A$3:$C$320,3,FALSE)),\" \")","v":" "}]
[null," "," ",{"$f":"IFERROR(VLOOKUP(B298,Proceso!$A$2:$R$319,18,),\" \")","v":" "},{"$f":"IFERROR(VLOOKUP(B298,Proceso!$A$2:$F$319,6,),\" \")","v":" "},null,{"$f":"IFERROR(IF(F298=0,\" \",VLOOKUP(F298,'Ingresar DATOS'!$A$3:$C$320,2,FALSE)),\" \")","v":" "},{"$f":"IFERROR(IF(F298=0,\" \",VLOOKUP(F298,'Ingresar DATOS'!$A$3:$C$320,3,FALSE)),\" \")","v":" "}]
[null," "," ",{"$f":"IFERROR(VLOOKUP(B299,Proceso!$A$2:$R$319,18,),\" \")","v":" "},{"$f":"IFERROR(VLOOKUP(B299,Proceso!$A$2:$F$319,6,),\" \")","v":" "},null,{"$f":"IFERROR(IF(F299=0,\" \",VLOOKUP(F299,'Ingresar DATOS'!$A$3:$C$320,2,FALSE)),\" \")","v":" "},{"$f":"IFERROR(IF(F299=0,\" \",VLOOKUP(F299,'Ingresar DATOS'!$A$3:$C$320,3,FALSE)),\" \")","v":" "}]
[null," "," ",{"$f":"IFERROR(VLOOKUP(B300,Proceso!$A$2:$R$319,18,),\" \")","v":" "},{"$f":"IFERROR(VLOOKUP(B300,Proceso!$A$2:$F$319,6,),\" \")","v":" "},null,{"$f":"IFERROR(IF(F300=0,\" \",VLOOKUP(F300,'Ingresar DATOS'!$A$3:$C$320,2,FALSE)),\" \")","v":" "},{"$f":"IFERROR(IF(F300=0,\" \",VLOOKUP(F300,'Ingresar DATOS'!$A$3:$C$320,3,FALSE)),\" \")","v":" "}]
[null," "," ",{"$f":"IFERROR(VLOOKUP(B301,Proceso!$A$2:$R$319,18,),\" \")","v":" "},{"$f":"IFERROR(VLOOKUP(B301,Proceso!$A$2:$F$319,6,),\" \")","v":" "},null,{"$f":"IFERROR(IF(F301=0,\" \",VLOOKUP(F301,'Ingresar DATOS'!$A$3:$C$320,2,FALSE)),\" \")","v":" "},{"$f":"IFERROR(IF(F301=0,\" \",VLOOKUP(F301,'Ingresar DATOS'!$A$3:$C$320,3,FALSE)),\" \")","v":" "}]
[null," "," ",{"$f":"IFERROR(VLOOKUP(B302,Proceso!$A$2:$R$319,18,),\" \")","v":" "},{"$f":"IFERROR(VLOOKUP(B302,Proceso!$A$2:$F$319,6,),\" \")","v":" "},null,{"$f":"IFERROR(IF(F302=0,\" \",VLOOKUP(F302,'Ingresar DATOS'!$A$3:$C$320,2,FALSE)),\" \")","v":" "},{"$f":"IFERROR(IF(F302=0,\" \",VLOOKUP(F302,'Ingresar DATOS'!$A$3:$C$320,3,FALSE)),\" \")","v":" "}]
[null," "," ",{"$f":"IFERROR(VLOOKUP(B303,Proceso!$A$2:$R$319,18,),\" \")","v":" "},{"$f":"IFERROR(VLOOKUP(B303,Proceso!$A$2:$F$319,6,),\" \")","v":" "},null,{"$f":"IFERROR(IF(F303=0,\" \",VLOOKUP(F303,'Ingresar DATOS'!$A$3:$C$320,2,FALSE)),\" \")","v":" "},{"$f":"IFERROR(IF(F303=0,\" \",VLOOKUP(F303,'Ingresar DATOS'!$A$3:$C$320,3,FALSE)),\" \")","v":" "}]
[null," "," ",{"$f":"IFERROR(VLOOKUP(B304,Proceso!$A$2:$R$319,18,),\" \")","v":" "},{"$f":"IFERROR(VLOOKUP(B304,Proceso!$A$2:$F$319,6,),\" \")","v":" "},null,{"$f":"IFERROR(IF(F304=0,\" \",VLOOKUP(F304,'Ingresar DATOS'!$A$3:$C$320,2,FALSE)),\" \")","v":" "},{"$f":"IFERROR(IF(F304=0,\" \",VLOOKUP(F304,'Ingresar DATOS'!$A$3:$C$320,3,FALSE)),\" \")","v":" "}]
[null," "," ",{"$f":"IFERROR(VLOOKUP(B305,Proceso!$A$2:$R$319,18,),\" \")","v":" "},{"$f":"IFERROR(VLOOKUP(B305,Proceso!$A$2:$F$319,6,),\" \")","v":" "},null,{"$f":"IFERROR(IF(F305=0,\" \",VLOOKUP(F305,'Ingresar DATOS'!$A$3:$C$320,2,FALSE)),\" \")","v":" "},{"$f":"IFERROR(IF(F305=0,\" \",VLOOKUP(F305,'Ingresar DATOS'!$A$3:$C$320,3,FALSE)),\" \")","v":" "}]
[null," "," ",{"$f":"IFERROR(VLOOKUP(B306,Proceso!$A$2:$R$319,18,),\" \")","v":" "},{"$f":"IFERROR(VLOOKUP(B306,Proceso!$A$2:$F$319,6,),\" \")","v":" "},null,{"$f":"IFERROR(IF(F306=0,\" \",VLOOKUP(F306,'Ingresar DATOS'!$A$3:$C$320,2,FALSE)),\" \")","v":" "},{"$f":"IFERROR(IF(F306=0,\" \",VLOOKUP(F306,'Ingresar DATOS'!$A$3:$C$320,3,FALSE)),\" \")","v":" "}]
[null," "," ",{"$f":"IFERROR(VLOOKUP(B307,Proceso!$A$2:$R$319,18,),\" \")","v":" "},{"$f":"IFERROR(VLOOKUP(B307,Proceso!$A$2:$F$319,6,),\" \")","v":" "},null,{"$f":"IFERROR(IF(F307=0,\" \",VLOOKUP(F307,'Ingresar DATOS'!$A$3:$C$320,2,FALSE)),\" \")","v":" "},{"$f":"IFERROR(IF(F307=0,\" \",VLOOKUP(F307,'Ingresar DATOS'!$A$3:$C$320,3,FALSE)),\" \")","v":" "}]
[null," "," ",{"$f":"IFERROR(VLOOKUP(B308,Proceso!$A$2:$R$319,18,),\" \")","v":" "},{"$f":"IFERROR(VLOOKUP(B308,Proceso!$A$2:$F$319,6,),\" \")","v":" "},null,{"$f":"IFERROR(IF(F308=0,\" \",VLOOKUP(F308,'Ingresar DATOS'!$A$3:$C$320,2,FALSE)),\" \")","v":" "},{"$f":"IFERROR(IF(F308=0,\" \",VLOOKUP(F308,'Ingresar DATOS'!$A$3:$C$320,3,FALSE)),\" \")","v":" "}]
[null," "," ",{"$f":"IFERROR(VLOOKUP(B309,Proceso!$A$2:$R$319,18,),\" \")","v":" "},{"$f":"IFERROR(VLOOKUP(B309,Proceso!$A$2:$F$319,6,),\" \")","v":" "},null,{"$f":"IFERROR(IF(F309=0,\" \",VLOOKUP(F309,'Ingresar DATOS'!$A$3:$C$320,2,FALSE)),\" \")","v":" "},{"$f":"IFERROR(IF(F309=0,\" \",VLOOKUP(F309,'Ingresar DATOS'!$A$3:$C$320,3,FALSE)),\" \")","v":" "}]
[null," "," ",{"$f":"IFERROR(VLOOKUP(B310,Proceso!$A$2:$R$319,18,),\" \")","v":" "},{"$f":"IFERROR(VLOOKUP(B310,Proceso!$A$2:$F$319,6,),\" \")","v":" "},null,{"$f":"IFERROR(IF(F310=0,\" \",VLOOKUP(F310,'Ingresar DATOS'!$A$3:$C$320,2,FALSE)),\" \")","v":" "},{"$f":"IFERROR(IF(F310=0,\" \",VLOOKUP(F310,'Ingresar DATOS'!$A$3:$C$320,3,FALSE)),\" \")","v":" "}]
[null," "," ",{"$f":"IFERROR(VLOOKUP(B311,Proceso!$A$2:$R$319,18,),\" \")","v":" "},{"$f":"IFERROR(VLOOKUP(B311,Proceso!$A$2:$F$319,6,),\" \")","v":" "},null,{"$f":"IFERROR(IF(F311=0,\" \",VLOOKUP(F311,'Ingresar DATOS'!$A$3:$C$320,2,FALSE)),\" \")","v":" "},{"$f":"IFERROR(IF(F311=0,\" \",VLOOKUP(F311,'Ingresar DATOS'!$A$3:$C$320,3,FALSE)),\" \")","v":" "}]
[null," "," ",{"$f":"IFERROR(VLOOKUP(B312,Proceso!$A$2:$R$319,18,),\" \")","v":" "},{"$f":"IFERROR(VLOOKUP(B312,Proceso!$A$2:$F$319,6,),\" \")","v":" "},null,{"$f":"IFERROR(IF(F312=0,\" \",VLOOKUP(F312,'Ingresar DATOS'!$A$3:$C$320,2,FALSE)),\" \")","v":" "},{"$f":"IFERROR(IF(F312=0,\" \",VLOOKUP(F312,'Ingresar DATOS'!$A$3:$C$320,3,FALSE)),\" \")","v":" "}]
[null," "," ",{"$f":"IFERROR(VLOOKUP(B313,Proceso!$A$2:$R$319,18,),\" \")","v":" "},{"$f":"IFERROR(VLOOKUP(B313,Proceso!$A$2:$F$319,6,),\" \")","v":" "},null,{"$f":"IFERROR(IF(F313=0,\" \",VLOOKUP(F313,'Ingresar DATOS'!$A$3:$C$320,2,FALSE)),\" \")","v":" "},{"$f":"IFERROR(IF(F313=0,\" \",VLOOKUP(F313,'Ingresar DATOS'!$A$3:$C$320,3,FALSE)),\" \")","v":" "}]
[null," "," ",{"$f":"IFERROR(VLOOKUP(B314,Proceso!$A$2:$R$319,18,),\" \")","v":" "},{"$f":"IFERROR(VLOOKUP(B314,Proceso!$A$2:$F$319,6,),\" \")","v":" "},null,{"$f":"IFERROR(IF(F314=0,\" \",VLOOKUP(F314,'Ingresar DATOS'!$A$3:$C$320,2,FALSE)),\" \")","v":" "},{"$f":"IFERROR(IF(F314=0,\" \",VLOOKUP(F314,'Ingresar DATOS'!$A$3:$C$320,3,FALSE)),\" \")","v":" "}]
[null," "," ",{"$f":"IFERROR(VLOOKUP(B315,Proceso!$A$2:$R$319,18,),\" \")","v":" "},{"$f":"IFERROR(VLOOKUP(B315,Proceso!$A$2:$F$319,6,),\" \")","v":" "},null,{"$f":"IFERROR(IF(F315=0,\" \",VLOOKUP(F315,'Ingresar DATOS'!$A$3:$C$320,2,FALSE)),\" \")","v":" "},{"$f":"IFERROR(IF(F315=0,\" \",VLOOKUP(F315,'Ingresar DATOS'!$A$3:$C$320,3,FALSE)),\" \")","v":" "}]
[null," "," ",{"$f":"IFERROR(VLOOKUP(B316,Proceso!$A$2:$R$319,18,),\" \")","v":" "},{"$f":"IFERROR(VLOOKUP(B316,Proceso!$A$2:$F$319,6,),\" \")","v":" "},null,{"$f":"IFERROR(IF(F316=0,\" \",VLOOKUP(F316,'Ingresar DATOS'!$A$3:$C$320,2,FALSE)),\" \")","v":" "},{"$f":"IFERROR(IF(F316=0,\" \",VLOOKUP(F316,'Ingresar DATOS'!$A$3:$C$320,3,FALSE)),\" \")","v":" "}]
[null," "," ",{"$f":"IFERROR(VLOOKUP(B317,Proceso!$A$2:$R$319,18,),\" \")","v":" "},{"$f":"IFERROR(VLOOKUP(B317,Proceso!$A$2:$F$319,6,),\" \")","v":" "},null,{"$f":"IFERROR(IF(F317=0,\" \",VLOOKUP(F317,'Ingresar DATOS'!$A$3:$C$320,2,FALSE)),\" \")","v":" "},{"$f":"IFERROR(IF(F317=0,\" \",VLOOKUP(F317,'Ingresar DATOS'!$A$3:$C$320,3,FALSE)),\" \")","v":" "}]
[null," "," ",{"$f":"IFERROR(VLOOKUP(B318,Proceso!$A$2:$R$319,18,),\" \")","v":" "},{"$f":"IFERROR(VLOOKUP(B318,Proceso!$A$2:$F$319,6,),\" \")","v":" "},null,{"$f":"IFERROR(IF(F318=0,\" \",VLOOKUP(F318,'Ingresar DATOS'!$A$3:$C$320,2,FALSE)),\" \")","v":" "},{"$f":"IFERROR(IF(F318=0,\" \",VLOOKUP(F318,'Ingresar DATOS'!$A$3:$C$320,3,FALSE)),\" \")","v":" "}]
[null," "," ",{"$f":"IFERROR(VLOOKUP(B319,Proceso!$A$2:$R$319,18,),\" \")","v":" "},{"$f":"IFERROR(VLOOKUP(B319,Proceso!$A$2:$F$319,6,),\" \")","v":" "},null,{"$f":"IFERROR(IF(F319=0,\" \",VLOOKUP(F319,'Ingresar DATOS'!$A$3:$C$320,2,FALSE)),\" \")","v":" "},{"$f":"IFERROR(IF(F319=0,\" \",VLOOKUP(F319,'Ingresar DATOS'!$A$3:$C$320,3,FALSE)),\" \")","v":" "}]
[null," "," ",{"$f":"IFERROR(VLOOKUP(B320,Proceso!$A$2:$R$319,18,),\" \")","v":" "},{"$f":"IFERROR(VLOOKUP(B320,Proceso!$A$2:$F$319,6,),\" \")","v":" "},null,{"$f":"IFERROR(IF(F320=0,\" \",VLOOKUP(F320,'Ingresar DATOS'!$A$3:$C$320,2,FALSE)),\" \")","v":" "},{"$f":"IFERROR(IF(F320=0,\" \",VLOOKUP(F320,'Ingresar DATOS'!$A$3:$C$320,3,FALSE)),\" \")","v":" "}]
[null," "," ",{"$f":"IFERROR(VLOOKUP(B321,Proceso!$A$2:$R$319,18,),\" \")","v":" "},{"$f":"IFERROR(VLOOKUP(B321,Proceso!$A$2:$F$319,6,),\" \")","v":" "},null,{"$f":"IFERROR(IF(F321=0,\" \",VLOOKUP(F321,'Ingresar DATOS'!$A$3:$C$320,2,FALSE)),\" \")","v":" "},{"$f":"IFERROR(IF(F321=0,\" \",VLOOKUP(F321,'Ingresar DATOS'!$A$3:$C$320,3,FALSE)),\" \")","v":" "}]
[null," "," ",{"$f":"IFERROR(VLOOKUP(B322,Proceso!$A$2:$R$319,18,),\" \")","v":" "},{"$f":"IFERROR(VLOOKUP(B322,Proceso!$A$2:$F$319,6,),\" \")","v":" "},null,{"$f":"IFERROR(IF(F322=0,\" \",VLOOKUP(F322,'Ingresar DATOS'!$A$3:$C$320,2,FALSE)),\" \")","v":" "},{"$f":"IFERROR(IF(F322=0,\" \",VLOOKUP(F322,'Ingresar DATOS'!$A$3:$C$320,3,FALSE)),\" \")","v":" "}]

{"sheet":"Proceso","index":2,"n_rows":319,"n_cols":18,"rows_kept":319,"cut":false,"hidden":true,"merged":[]}
["DATOS","N","E","Y","X","DH Corregida",null,null,null,"VALOR CORREGIDO","AZIMUT EN DECIMALES","Cuadrante",null,null,"RUMBO","Azimut en sexagesimales","Rumbo en Sexagesimales","RUMBO COMPLETO"]
[{"$f":"'CUADRO INFORMATIVO'!F5","v":0},{"$f":"'CUADRO INFORMATIVO'!G5","v":" "},{"$f":"'CUADRO INFORMATIVO'!H5","v":" "},{"$f":"IF(B2<>0,IF(B3=0,$B$2-B2,B3-B2),0)","v":{"$error":"#VALUE!"}},{"$f":"IF(C2<>0,IF(C3=0,$C$2-C2,C3-C2),0)","v":{"$error":"#VALUE!"}},{"$f":"SQRT((D2^2)+(E2^2))","v":{"$error":"#VALUE!"}},{"$f":"A2&\" - \"&A3","v":"0 - 0"},{"$f":"IF(D2>=0,\"+\",\"-\")&IF(E2>=0,\"+\",\"-\")","v":{"$error":"#VALUE!"}},{"$f":"DEGREES(ATAN(E2/D2))","v":{"$error":"#VALUE!"}},{"$f":"IF(H2=\"++\",I2,IF(H2=\"+-\",I2,IF(H2=\"-+\",I2-180,IF(H2=\"--\",I2+180))))","v":{"$error":"#VALUE!"}},{"$f":"IF(J2>=0,J2,360+J2)","v":{"$error":"#VALUE!"}},{"$f":"IF(K2<=90,1,IF(K2<=180,2,IF(K2<=270,3,IF(K2<=360,4))))","v":{"$error":"#VALUE!"}},{"$f":"IF(L2=1,\"N\",IF(L2=2,\"S\",IF(L2=3,\"S\",IF(L2=4,\"N\"))))","v":{"$error":"#VALUE!"}},{"$f":"IF(L2=1,\"E\",IF(L2=2,\"E\",IF(L2=3,\"W\",IF(L2=4,\"W\"))))","v":{"$error":"#VALUE!"}},{"$f":"IF(L2=1,K2,IF(L2=2,180-K2,IF(L2=3,K2-180,IF(L2=4,360-K2))))","v":{"$error":"#VALUE!"}},{"$f":"ROUNDDOWN(K2,0)&\"°\"&ROUNDDOWN((K2-ROUNDDOWN(K2,0))*60,0)&\"'\"&(ROUNDDOWN((((K2-ROUNDDOWN(K2,0))*60)-(ROUNDDOWN(((K2-ROUNDDOWN(K2,0))*60),0)))*60,2))&\"''\"","v":{"$error":"#VALUE!"}},{"$f":"ROUNDDOWN(O2,0)&\"°\"&ROUNDDOWN((O2-ROUNDDOWN(O2,0))*60,0)&\"'\"&(ROUNDDOWN((((O2-ROUNDDOWN(O2,0))*60)-(ROUNDDOWN(((O2-ROUNDDOWN(O2,0))*60),0)))*60,2))&\"''\"","v":{"$error":"#VALUE!"}},{"$f":"M2&\" \"&Q2&\" \"&N2","v":{"$error":"#VALUE!"}}]
[{"$f":"'CUADRO INFORMATIVO'!F6","v":0},{"$f":"'CUADRO INFORMATIVO'!G6","v":" "},{"$f":"'CUADRO INFORMATIVO'!H6","v":" "},{"$f":"IF(B3<>0,IF(B4=0,$B$2-B3,B4-B3),0)","v":{"$error":"#VALUE!"}},{"$f":"IF(C3<>0,IF(C4=0,$C$2-C3,C4-C3),0)","v":{"$error":"#VALUE!"}},{"$f":"SQRT((D3^2)+(E3^2))","v":{"$error":"#VALUE!"}},{"$f":"A3&\" - \"&A4","v":"0 - 0"},{"$f":"IF(D3>=0,\"+\",\"-\")&IF(E3>=0,\"+\",\"-\")","v":{"$error":"#VALUE!"}},{"$error":"#VALUE!"},{"$f":"IF(H3=\"++\",I3,IF(H3=\"+-\",I3,IF(H3=\"-+\",I3-180,IF(H3=\"--\",I3+180))))","v":{"$error":"#VALUE!"}},{"$f":"IF(J3>=0,J3,360+J3)","v":{"$error":"#VALUE!"}},{"$f":"IF(K3<=90,1,IF(K3<=180,2,IF(K3<=270,3,IF(K3<=360,4))))","v":{"$error":"#VALUE!"}},{"$f":"IF(L3=1,\"N\",IF(L3=2,\"S\",IF(L3=3,\"S\",IF(L3=4,\"N\"))))","v":{"$error":"#VALUE!"}},{"$f":"IF(L3=1,\"E\",IF(L3=2,\"E\",IF(L3=3,\"W\",IF(L3=4,\"W\"))))","v":{"$error":"#VALUE!"}},{"$error":"#VALUE!"},{"$error":"#VALUE!"},{"$f":"ROUNDDOWN(O3,0)&\"°\"&ROUNDDOWN((O3-ROUNDDOWN(O3,0))*60,0)&\"'\"&(ROUNDDOWN((((O3-ROUNDDOWN(O3,0))*60)-(ROUNDDOWN(((O3-ROUNDDOWN(O3,0))*60),0)))*60,2))&\"''\"","v":{"$error":"#VALUE!"}},{"$f":"M3&\" \"&Q3&\" \"&N3","v":{"$error":"#VALUE!"}}]
[{"$f":"'CUADRO INFORMATIVO'!F7","v":0},{"$f":"'CUADRO INFORMATIVO'!G7","v":" "},{"$f":"'CUADRO INFORMATIVO'!H7","v":" "},{"$f":"IF(B4<>0,IF(B5=0,$B$2-B4,B5-B4),0)","v":{"$error":"#VALUE!"}},{"$f":"IF(C4<>0,IF(C5=0,$C$2-C4,C5-C4),0)","v":{"$error":"#VALUE!"}},{"$error":"#VALUE!"},"0 - 0",{"$error":"#VALUE!"},{"$error":"#VALUE!"},{"$error":"#VALUE!"},{"$error":"#VALUE!"},{"$error":"#VALUE!"},{"$error":"#VALUE!"},{"$error":"#VALUE!"},{"$error":"#VALUE!"},{"$error":"#VALUE!"},{"$error":"#VALUE!"},{"$error":"#VALUE!"}]
[{"$f":"'CUADRO INFORMATIVO'!F8","v":0},{"$f":"'CUADRO INFORMATIVO'!G8","v":" "},{"$f":"'CUADRO INFORMATIVO'!H8","v":" "},{"$error":"#VALUE!"},{"$error":"#VALUE!"},{"$error":"#VALUE!"},"0 - 0",{"$error":"#VALUE!"},{"$error":"#VALUE!"},{"$error":"#VALUE!"},{"$error":"#VALUE!"},{"$error":"#VALUE!"},{"$error":"#VALUE!"},{"$error":"#VALUE!"},{"$error":"#VALUE!"},{"$error":"#VALUE!"},{"$error":"#VALUE!"},{"$error":"#VALUE!"}]
[{"$f":"'CUADRO INFORMATIVO'!F9","v":0},{"$f":"'CUADRO INFORMATIVO'!G9","v":" "},{"$f":"'CUADRO INFORMATIVO'!H9","v":" "},{"$error":"#VALUE!"},{"$error":"#VALUE!"},{"$error":"#VALUE!"},"0 - 0",{"$error":"#VALUE!"},{"$error":"#VALUE!"},{"$error":"#VALUE!"},{"$error":"#VALUE!"},{"$error":"#VALUE!"},{"$error":"#VALUE!"},{"$error":"#VALUE!"},{"$error":"#VALUE!"},{"$error":"#VALUE!"},{"$error":"#VALUE!"},{"$error":"#VALUE!"}]
[{"$f":"'CUADRO INFORMATIVO'!F10","v":0},{"$f":"'CUADRO INFORMATIVO'!G10","v":" "},{"$f":"'CUADRO INFORMATIVO'!H10","v":" "},{"$error":"#VALUE!"},{"$error":"#VALUE!"},{"$error":"#VALUE!"},"0 - 0",{"$error":"#VALUE!"},{"$error":"#VALUE!"},{"$error":"#VALUE!"},{"$error":"#VALUE!"},{"$error":"#VALUE!"},{"$error":"#VALUE!"},{"$error":"#VALUE!"},{"$error":"#VALUE!"},{"$error":"#VALUE!"},{"$error":"#VALUE!"},{"$error":"#VALUE!"}]
[{"$f":"'CUADRO INFORMATIVO'!F11","v":0},{"$f":"'CUADRO INFORMATIVO'!G11","v":" "},{"$f":"'CUADRO INFORMATIVO'!H11","v":" "},{"$error":"#VALUE!"},{"$error":"#VALUE!"},{"$error":"#VALUE!"},"0 - 0",{"$error":"#VALUE!"},{"$error":"#VALUE!"},{"$error":"#VALUE!"},{"$error":"#VALUE!"},{"$error":"#VALUE!"},{"$error":"#VALUE!"},{"$error":"#VALUE!"},{"$error":"#VALUE!"},{"$error":"#VALUE!"},{"$error":"#VALUE!"},{"$error":"#VALUE!"}]
[{"$f":"'CUADRO INFORMATIVO'!F12","v":0},{"$f":"'CUADRO INFORMATIVO'!G12","v":" "},{"$f":"'CUADRO INFORMATIVO'!H12","v":" "},{"$error":"#VALUE!"},{"$error":"#VALUE!"},{"$error":"#VALUE!"},"0 - 0",{"$error":"#VALUE!"},{"$error":"#VALUE!"},{"$error":"#VALUE!"},{"$error":"#VALUE!"},{"$error":"#VALUE!"},{"$error":"#VALUE!"},{"$error":"#VALUE!"},{"$error":"#VALUE!"},{"$error":"#VALUE!"},{"$error":"#VALUE!"},{"$error":"#VALUE!"}]
[{"$f":"'CUADRO INFORMATIVO'!F13","v":0},{"$f":"'CUADRO INFORMATIVO'!G13","v":" "},{"$f":"'CUADRO INFORMATIVO'!H13","v":" "},{"$error":"#VALUE!"},{"$error":"#VALUE!"},{"$error":"#VALUE!"},"0 - 0",{"$error":"#VALUE!"},{"$error":"#VALUE!"},{"$error":"#VALUE!"},{"$error":"#VALUE!"},{"$error":"#VALUE!"},{"$error":"#VALUE!"},{"$error":"#VALUE!"},{"$error":"#VALUE!"},{"$error":"#VALUE!"},{"$error":"#VALUE!"},{"$error":"#VALUE!"}]
[{"$f":"'CUADRO INFORMATIVO'!F14","v":0},{"$f":"'CUADRO INFORMATIVO'!G14","v":" "},{"$f":"'CUADRO INFORMATIVO'!H14","v":" "},{"$error":"#VALUE!"},{"$error":"#VALUE!"},{"$error":"#VALUE!"},"0 - 0",{"$error":"#VALUE!"},{"$error":"#VALUE!"},{"$error":"#VALUE!"},{"$error":"#VALUE!"},{"$error":"#VALUE!"},{"$error":"#VALUE!"},{"$error":"#VALUE!"},{"$error":"#VALUE!"},{"$error":"#VALUE!"},{"$error":"#VALUE!"},{"$error":"#VALUE!"}]
[{"$f":"'CUADRO INFORMATIVO'!F15","v":0},{"$f":"'CUADRO INFORMATIVO'!G15","v":" "},{"$f":"'CUADRO INFORMATIVO'!H15","v":" "},{"$error":"#VALUE!"},{"$error":"#VALUE!"},{"$error":"#VALUE!"},"0 - 0",{"$error":"#VALUE!"},{"$error":"#VALUE!"},{"$error":"#VALUE!"},{"$error":"#VALUE!"},{"$f":"IF(K12<=90,1,IF(K12<=180,2,IF(K12<=270,3,IF(K12<=360,4))))","v":{"$error":"#VALUE!"}},{"$error":"#VALUE!"},{"$error":"#VALUE!"},{"$error":"#VALUE!"},{"$error":"#VALUE!"},{"$error":"#VALUE!"},{"$error":"#VALUE!"}]
[{"$f":"'CUADRO INFORMATIVO'!F16","v":0},{"$f":"'CUADRO INFORMATIVO'!G16","v":" "},{"$f":"'CUADRO INFORMATIVO'!H16","v":" "},{"$error":"#VALUE!"},{"$error":"#VALUE!"},{"$error":"#VALUE!"},"0 - 0",{"$error":"#VALUE!"},{"$error":"#VALUE!"},{"$error":"#VALUE!"},{"$error":"#VALUE!"},{"$error":"#VALUE!"},{"$error":"#VALUE!"},{"$error":"#VALUE!"},{"$error":"#VALUE!"},{"$error":"#VALUE!"},{"$error":"#VALUE!"},{"$error":"#VALUE!"}]
[{"$f":"'CUADRO INFORMATIVO'!F17","v":0},{"$f":"'CUADRO INFORMATIVO'!G17","v":" "},{"$f":"'CUADRO INFORMATIVO'!H17","v":" "},{"$error":"#VALUE!"},{"$error":"#VALUE!"},{"$error":"#VALUE!"},"0 - 0",{"$error":"#VALUE!"},{"$error":"#VALUE!"},{"$error":"#VALUE!"},{"$error":"#VALUE!"},{"$error":"#VALUE!"},{"$error":"#VALUE!"},{"$error":"#VALUE!"},{"$error":"#VALUE!"},{"$error":"#VALUE!"},{"$error":"#VALUE!"},{"$error":"#VALUE!"}]
[{"$f":"'CUADRO INFORMATIVO'!F18","v":0},{"$f":"'CUADRO INFORMATIVO'!G18","v":" "},{"$f":"'CUADRO INFORMATIVO'!H18","v":" "},{"$error":"#VALUE!"},{"$error":"#VALUE!"},{"$error":"#VALUE!"},"0 - 0",{"$error":"#VALUE!"},{"$error":"#VALUE!"},{"$error":"#VALUE!"},{"$error":"#VALUE!"},{"$error":"#VALUE!"},{"$error":"#VALUE!"},{"$error":"#VALUE!"},{"$error":"#VALUE!"},{"$error":"#VALUE!"},{"$error":"#VALUE!"},{"$error":"#VALUE!"}]
[{"$f":"'CUADRO INFORMATIVO'!F19","v":0},{"$f":"'CUADRO INFORMATIVO'!G19","v":" "},{"$f":"'CUADRO INFORMATIVO'!H19","v":" "},{"$error":"#VALUE!"},{"$error":"#VALUE!"},{"$error":"#VALUE!"},"0 - 0",{"$error":"#VALUE!"},{"$error":"#VALUE!"},{"$error":"#VALUE!"},{"$error":"#VALUE!"},{"$error":"#VALUE!"},{"$error":"#VALUE!"},{"$error":"#VALUE!"},{"$error":"#VALUE!"},{"$error":"#VALUE!"},{"$error":"#VALUE!"},{"$error":"#VALUE!"}]
[{"$f":"'CUADRO INFORMATIVO'!F20","v":0},{"$f":"'CUADRO INFORMATIVO'!G20","v":" "},{"$f":"'CUADRO INFORMATIVO'!H20","v":" "},{"$error":"#VALUE!"},{"$error":"#VALUE!"},{"$error":"#VALUE!"},"0 - 0",{"$error":"#VALUE!"},{"$error":"#VALUE!"},{"$error":"#VALUE!"},{"$error":"#VALUE!"},{"$error":"#VALUE!"},{"$error":"#VALUE!"},{"$error":"#VALUE!"},{"$error":"#VALUE!"},{"$error":"#VALUE!"},{"$error":"#VALUE!"},{"$error":"#VALUE!"}]
[{"$f":"'CUADRO INFORMATIVO'!F21","v":0},{"$f":"'CUADRO INFORMATIVO'!G21","v":" "},{"$f":"'CUADRO INFORMATIVO'!H21","v":" "},{"$error":"#VALUE!"},{"$error":"#VALUE!"},{"$error":"#VALUE!"},"0 - 0",{"$error":"#VALUE!"},{"$error":"#VALUE!"},{"$error":"#VALUE!"},{"$error":"#VALUE!"},{"$error":"#VALUE!"},{"$error":"#VALUE!"},{"$error":"#VALUE!"},{"$error":"#VALUE!"},{"$error":"#VALUE!"},{"$error":"#VALUE!"},{"$error":"#VALUE!"}]
[{"$f":"'CUADRO INFORMATIVO'!F22","v":0},{"$f":"'CUADRO INFORMATIVO'!G22","v":" "},{"$f":"'CUADRO INFORMATIVO'!H22","v":" "},{"$error":"#VALUE!"},{"$error":"#VALUE!"},{"$error":"#VALUE!"},"0 - 0",{"$error":"#VALUE!"},{"$error":"#VALUE!"},{"$error":"#VALUE!"},{"$error":"#VALUE!"},{"$error":"#VALUE!"},{"$error":"#VALUE!"},{"$error":"#VALUE!"},{"$error":"#VALUE!"},{"$error":"#VALUE!"},{"$error":"#VALUE!"},{"$error":"#VALUE!"}]
[{"$f":"'CUADRO INFORMATIVO'!F23","v":0},{"$f":"'CUADRO INFORMATIVO'!G23","v":" "},{"$f":"'CUADRO INFORMATIVO'!H23","v":" "},{"$error":"#VALUE!"},{"$error":"#VALUE!"},{"$error":"#VALUE!"},"0 - 0",{"$error":"#VALUE!"},{"$error":"#VALUE!"},{"$error":"#VALUE!"},{"$error":"#VALUE!"},{"$error":"#VALUE!"},{"$error":"#VALUE!"},{"$error":"#VALUE!"},{"$error":"#VALUE!"},{"$error":"#VALUE!"},{"$error":"#VALUE!"},{"$error":"#VALUE!"}]
[{"$f":"'CUADRO INFORMATIVO'!F24","v":0},{"$f":"'CUADRO INFORMATIVO'!G24","v":" "},{"$f":"'CUADRO INFORMATIVO'!H24","v":" "},{"$error":"#VALUE!"},{"$error":"#VALUE!"},{"$error":"#VALUE!"},"0 - 0",{"$error":"#VALUE!"},{"$error":"#VALUE!"},{"$error":"#VALUE!"},{"$error":"#VALUE!"},{"$error":"#VALUE!"},{"$error":"#VALUE!"},{"$error":"#VALUE!"},{"$error":"#VALUE!"},{"$error":"#VALUE!"},{"$error":"#VALUE!"},{"$error":"#VALUE!"}]
[{"$f":"'CUADRO INFORMATIVO'!F25","v":0},{"$f":"'CUADRO INFORMATIVO'!G25","v":" "},{"$f":"'CUADRO INFORMATIVO'!H25","v":" "},{"$error":"#VALUE!"},{"$error":"#VALUE!"},{"$error":"#VALUE!"},"0 - 0",{"$error":"#VALUE!"},{"$error":"#VALUE!"},{"$error":"#VALUE!"},{"$error":"#VALUE!"},{"$error":"#VALUE!"},{"$error":"#VALUE!"},{"$error":"#VALUE!"},{"$error":"#VALUE!"},{"$error":"#VALUE!"},{"$error":"#VALUE!"},{"$error":"#VALUE!"}]
[{"$f":"'CUADRO INFORMATIVO'!F26","v":0},{"$f":"'CUADRO INFORMATIVO'!G26","v":" "},{"$f":"'CUADRO INFORMATIVO'!H26","v":" "},{"$error":"#VALUE!"},{"$error":"#VALUE!"},{"$error":"#VALUE!"},"0 - 0",{"$error":"#VALUE!"},{"$error":"#VALUE!"},{"$error":"#VALUE!"},{"$error":"#VALUE!"},{"$error":"#VALUE!"},{"$error":"#VALUE!"},{"$error":"#VALUE!"},{"$error":"#VALUE!"},{"$error":"#VALUE!"},{"$error":"#VALUE!"},{"$error":"#VALUE!"}]
[{"$f":"'CUADRO INFORMATIVO'!F27","v":0},{"$f":"'CUADRO INFORMATIVO'!G27","v":" "},{"$f":"'CUADRO INFORMATIVO'!H27","v":" "},{"$error":"#VALUE!"},{"$error":"#VALUE!"},{"$error":"#VALUE!"},"0 - 0",{"$error":"#VALUE!"},{"$error":"#VALUE!"},{"$error":"#VALUE!"},{"$error":"#VALUE!"},{"$error":"#VALUE!"},{"$error":"#VALUE!"},{"$error":"#VALUE!"},{"$error":"#VALUE!"},{"$error":"#VALUE!"},{"$error":"#VALUE!"},{"$error":"#VALUE!"}]
[{"$f":"'CUADRO INFORMATIVO'!F28","v":0},{"$f":"'CUADRO INFORMATIVO'!G28","v":" "},{"$f":"'CUADRO INFORMATIVO'!H28","v":" "},{"$error":"#VALUE!"},{"$error":"#VALUE!"},{"$error":"#VALUE!"},"0 - 0",{"$error":"#VALUE!"},{"$error":"#VALUE!"},{"$error":"#VALUE!"},{"$error":"#VALUE!"},{"$error":"#VALUE!"},{"$error":"#VALUE!"},{"$error":"#VALUE!"},{"$error":"#VALUE!"},{"$error":"#VALUE!"},{"$error":"#VALUE!"},{"$error":"#VALUE!"}]
[{"$f":"'CUADRO INFORMATIVO'!F29","v":0},{"$f":"'CUADRO INFORMATIVO'!G29","v":" "},{"$f":"'CUADRO INFORMATIVO'!H29","v":" "},{"$error":"#VALUE!"},{"$error":"#VALUE!"},{"$error":"#VALUE!"},"0 - 0",{"$error":"#VALUE!"},{"$error":"#VALUE!"},{"$error":"#VALUE!"},{"$error":"#VALUE!"},{"$error":"#VALUE!"},{"$error":"#VALUE!"},{"$error":"#VALUE!"},{"$error":"#VALUE!"},{"$error":"#VALUE!"},{"$error":"#VALUE!"},{"$error":"#VALUE!"}]
[{"$f":"'CUADRO INFORMATIVO'!F30","v":0},{"$f":"'CUADRO INFORMATIVO'!G30","v":" "},{"$f":"'CUADRO INFORMATIVO'!H30","v":" "},{"$error":"#VALUE!"},{"$error":"#VALUE!"},{"$error":"#VALUE!"},"0 - 0",{"$error":"#VALUE!"},{"$error":"#VALUE!"},{"$error":"#VALUE!"},{"$error":"#VALUE!"},{"$error":"#VALUE!"},{"$error":"#VALUE!"},{"$error":"#VALUE!"},{"$error":"#VALUE!"},{"$error":"#VALUE!"},{"$error":"#VALUE!"},{"$error":"#VALUE!"}]
[{"$f":"'CUADRO INFORMATIVO'!F31","v":0},{"$f":"'CUADRO INFORMATIVO'!G31","v":" "},{"$f":"'CUADRO INFORMATIVO'!H31","v":" "},{"$error":"#VALUE!"},{"$error":"#VALUE!"},{"$error":"#VALUE!"},"0 - 0",{"$error":"#VALUE!"},{"$error":"#VALUE!"},{"$error":"#VALUE!"},{"$error":"#VALUE!"},{"$error":"#VALUE!"},{"$error":"#VALUE!"},{"$error":"#VALUE!"},{"$error":"#VALUE!"},{"$error":"#VALUE!"},{"$error":"#VALUE!"},{"$error":"#VALUE!"}]
[{"$f":"'CUADRO INFORMATIVO'!F32","v":0},{"$f":"'CUADRO INFORMATIVO'!G32","v":" "},{"$f":"'CUADRO INFORMATIVO'!H32","v":" "},{"$error":"#VALUE!"},{"$error":"#VALUE!"},{"$error":"#VALUE!"},"0 - 0",{"$error":"#VALUE!"},{"$error":"#VALUE!"},{"$error":"#VALUE!"},{"$error":"#VALUE!"},{"$error":"#VALUE!"},{"$error":"#VALUE!"},{"$error":"#VALUE!"},{"$error":"#VALUE!"},{"$error":"#VALUE!"},{"$error":"#VALUE!"},{"$error":"#VALUE!"}]
[{"$f":"'CUADRO INFORMATIVO'!F33","v":0},{"$f":"'CUADRO INFORMATIVO'!G33","v":" "},{"$f":"'CUADRO INFORMATIVO'!H33","v":" "},{"$error":"#VALUE!"},{"$error":"#VALUE!"},{"$error":"#VALUE!"},"0 - 0",{"$error":"#VALUE!"},{"$error":"#VALUE!"},{"$error":"#VALUE!"},{"$error":"#VALUE!"},{"$error":"#VALUE!"},{"$error":"#VALUE!"},{"$error":"#VALUE!"},{"$error":"#VALUE!"},{"$error":"#VALUE!"},{"$error":"#VALUE!"},{"$error":"#VALUE!"}]
[{"$f":"'CUADRO INFORMATIVO'!F34","v":0},{"$f":"'CUADRO INFORMATIVO'!G34","v":" "},{"$f":"'CUADRO INFORMATIVO'!H34","v":" "},{"$error":"#VALUE!"},{"$error":"#VALUE!"},{"$error":"#VALUE!"},"0 - 0",{"$error":"#VALUE!"},{"$error":"#VALUE!"},{"$error":"#VALUE!"},{"$error":"#VALUE!"},{"$error":"#VALUE!"},{"$error":"#VALUE!"},{"$error":"#VALUE!"},{"$error":"#VALUE!"},{"$error":"#VALUE!"},{"$error":"#VALUE!"},{"$error":"#VALUE!"}]
[{"$f":"'CUADRO INFORMATIVO'!F35","v":0},{"$f":"'CUADRO INFORMATIVO'!G35","v":" "},{"$f":"'CUADRO INFORMATIVO'!H35","v":" "},{"$error":"#VALUE!"},{"$error":"#VALUE!"},{"$error":"#VALUE!"},"0 - 0",{"$error":"#VALUE!"},{"$error":"#VALUE!"},{"$error":"#VALUE!"},{"$error":"#VALUE!"},{"$error":"#VALUE!"},{"$error":"#VALUE!"},{"$error":"#VALUE!"},{"$error":"#VALUE!"},{"$error":"#VALUE!"},{"$error":"#VALUE!"},{"$error":"#VALUE!"}]
[{"$f":"'CUADRO INFORMATIVO'!F36","v":0},{"$f":"'CUADRO INFORMATIVO'!G36","v":" "},{"$f":"'CUADRO INFORMATIVO'!H36","v":" "},{"$error":"#VALUE!"},{"$error":"#VALUE!"},{"$error":"#VALUE!"},"0 - 0",{"$error":"#VALUE!"},{"$error":"#VALUE!"},{"$error":"#VALUE!"},{"$error":"#VALUE!"},{"$error":"#VALUE!"},{"$error":"#VALUE!"},{"$error":"#VALUE!"},{"$error":"#VALUE!"},{"$error":"#VALUE!"},{"$error":"#VALUE!"},{"$error":"#VALUE!"}]
[{"$f":"'CUADRO INFORMATIVO'!F37","v":0},{"$f":"'CUADRO INFORMATIVO'!G37","v":" "},{"$f":"'CUADRO INFORMATIVO'!H37","v":" "},{"$error":"#VALUE!"},{"$error":"#VALUE!"},{"$error":"#VALUE!"},"0 - 0",{"$error":"#VALUE!"},{"$error":"#VALUE!"},{"$error":"#VALUE!"},{"$error":"#VALUE!"},{"$error":"#VALUE!"},{"$error":"#VALUE!"},{"$error":"#VALUE!"},{"$error":"#VALUE!"},{"$error":"#VALUE!"},{"$error":"#VALUE!"},{"$error":"#VALUE!"}]
[{"$f":"'CUADRO INFORMATIVO'!F38","v":0},{"$f":"'CUADRO INFORMATIVO'!G38","v":" "},{"$f":"'CUADRO INFORMATIVO'!H38","v":" "},{"$error":"#VALUE!"},{"$error":"#VALUE!"},{"$error":"#VALUE!"},"0 - 0",{"$error":"#VALUE!"},{"$error":"#VALUE!"},{"$error":"#VALUE!"},{"$error":"#VALUE!"},{"$error":"#VALUE!"},{"$error":"#VALUE!"},{"$error":"#VALUE!"},{"$error":"#VALUE!"},{"$error":"#VALUE!"},{"$error":"#VALUE!"},{"$error":"#VALUE!"}]
[{"$f":"'CUADRO INFORMATIVO'!F39","v":0},{"$f":"'CUADRO INFORMATIVO'!G39","v":" "},{"$f":"'CUADRO INFORMATIVO'!H39","v":" "},{"$error":"#VALUE!"},{"$error":"#VALUE!"},{"$error":"#VALUE!"},"0 - 0",{"$error":"#VALUE!"},{"$error":"#VALUE!"},{"$error":"#VALUE!"},{"$error":"#VALUE!"},{"$error":"#VALUE!"},{"$error":"#VALUE!"},{"$error":"#VALUE!"},{"$error":"#VALUE!"},{"$error":"#VALUE!"},{"$error":"#VALUE!"},{"$error":"#VALUE!"}]
[{"$f":"'CUADRO INFORMATIVO'!F40","v":0},{"$f":"'CUADRO INFORMATIVO'!G40","v":" "},{"$f":"'CUADRO INFORMATIVO'!H40","v":" "},{"$error":"#VALUE!"},{"$error":"#VALUE!"},{"$error":"#VALUE!"},"0 - 0",{"$error":"#VALUE!"},{"$error":"#VALUE!"},{"$error":"#VALUE!"},{"$error":"#VALUE!"},{"$error":"#VALUE!"},{"$error":"#VALUE!"},{"$error":"#VALUE!"},{"$error":"#VALUE!"},{"$error":"#VALUE!"},{"$error":"#VALUE!"},{"$error":"#VALUE!"}]
[{"$f":"'CUADRO INFORMATIVO'!F41","v":0},{"$f":"'CUADRO INFORMATIVO'!G41","v":" "},{"$f":"'CUADRO INFORMATIVO'!H41","v":" "},{"$error":"#VALUE!"},{"$error":"#VALUE!"},{"$error":"#VALUE!"},"0 - 0",{"$error":"#VALUE!"},{"$error":"#VALUE!"},{"$error":"#VALUE!"},{"$error":"#VALUE!"},{"$error":"#VALUE!"},{"$error":"#VALUE!"},{"$error":"#VALUE!"},{"$error":"#VALUE!"},{"$error":"#VALUE!"},{"$error":"#VALUE!"},{"$error":"#VALUE!"}]
[{"$f":"'CUADRO INFORMATIVO'!F42","v":0},{"$f":"'CUADRO INFORMATIVO'!G42","v":" "},{"$f":"'CUADRO INFORMATIVO'!H42","v":" "},{"$error":"#VALUE!"},{"$error":"#VALUE!"},{"$error":"#VALUE!"},"0 - 0",{"$error":"#VALUE!"},{"$error":"#VALUE!"},{"$error":"#VALUE!"},{"$error":"#VALUE!"},{"$error":"#VALUE!"},{"$error":"#VALUE!"},{"$error":"#VALUE!"},{"$error":"#VALUE!"},{"$error":"#VALUE!"},{"$error":"#VALUE!"},{"$error":"#VALUE!"}]
[{"$f":"'CUADRO INFORMATIVO'!F43","v":0},{"$f":"'CUADRO INFORMATIVO'!G43","v":" "},{"$f":"'CUADRO INFORMATIVO'!H43","v":" "},{"$error":"#VALUE!"},{"$error":"#VALUE!"},{"$error":"#VALUE!"},"0 - 0",{"$error":"#VALUE!"},{"$error":"#VALUE!"},{"$error":"#VALUE!"},{"$error":"#VALUE!"},{"$error":"#VALUE!"},{"$error":"#VALUE!"},{"$error":"#VALUE!"},{"$error":"#VALUE!"},{"$error":"#VALUE!"},{"$error":"#VALUE!"},{"$error":"#VALUE!"}]
[{"$f":"'CUADRO INFORMATIVO'!F44","v":0},{"$f":"'CUADRO INFORMATIVO'!G44","v":" "},{"$f":"'CUADRO INFORMATIVO'!H44","v":" "},{"$error":"#VALUE!"},{"$error":"#VALUE!"},{"$error":"#VALUE!"},"0 - 0",{"$error":"#VALUE!"},{"$error":"#VALUE!"},{"$error":"#VALUE!"},{"$error":"#VALUE!"},{"$error":"#VALUE!"},{"$error":"#VALUE!"},{"$error":"#VALUE!"},{"$error":"#VALUE!"},{"$error":"#VALUE!"},{"$error":"#VALUE!"},{"$error":"#VALUE!"}]
[{"$f":"'CUADRO INFORMATIVO'!F45","v":0},{"$f":"'CUADRO INFORMATIVO'!G45","v":" "},{"$f":"'CUADRO INFORMATIVO'!H45","v":" "},{"$error":"#VALUE!"},{"$error":"#VALUE!"},{"$error":"#VALUE!"},"0 - 0",{"$error":"#VALUE!"},{"$error":"#VALUE!"},{"$error":"#VALUE!"},{"$error":"#VALUE!"},{"$error":"#VALUE!"},{"$error":"#VALUE!"},{"$error":"#VALUE!"},{"$error":"#VALUE!"},{"$error":"#VALUE!"},{"$error":"#VALUE!"},{"$error":"#VALUE!"}]
[{"$f":"'CUADRO INFORMATIVO'!F46","v":0},{"$f":"'CUADRO INFORMATIVO'!G46","v":" "},{"$f":"'CUADRO INFORMATIVO'!H46","v":" "},{"$error":"#VALUE!"},{"$error":"#VALUE!"},{"$error":"#VALUE!"},"0 - 0",{"$error":"#VALUE!"},{"$error":"#VALUE!"},{"$error":"#VALUE!"},{"$error":"#VALUE!"},{"$error":"#VALUE!"},{"$error":"#VALUE!"},{"$error":"#VALUE!"},{"$error":"#VALUE!"},{"$error":"#VALUE!"},{"$error":"#VALUE!"},{"$error":"#VALUE!"}]
[{"$f":"'CUADRO INFORMATIVO'!F47","v":0},{"$f":"'CUADRO INFORMATIVO'!G47","v":" "},{"$f":"'CUADRO INFORMATIVO'!H47","v":" "},{"$error":"#VALUE!"},{"$error":"#VALUE!"},{"$error":"#VALUE!"},"0 - 0",{"$error":"#VALUE!"},{"$error":"#VALUE!"},{"$error":"#VALUE!"},{"$error":"#VALUE!"},{"$error":"#VALUE!"},{"$error":"#VALUE!"},{"$error":"#VALUE!"},{"$error":"#VALUE!"},{"$error":"#VALUE!"},{"$error":"#VALUE!"},{"$error":"#VALUE!"}]
[{"$f":"'CUADRO INFORMATIVO'!F48","v":0},{"$f":"'CUADRO INFORMATIVO'!G48","v":" "},{"$f":"'CUADRO INFORMATIVO'!H48","v":" "},{"$error":"#VALUE!"},{"$error":"#VALUE!"},{"$error":"#VALUE!"},"0 - 0",{"$error":"#VALUE!"},{"$error":"#VALUE!"},{"$error":"#VALUE!"},{"$error":"#VALUE!"},{"$error":"#VALUE!"},{"$error":"#VALUE!"},{"$error":"#VALUE!"},{"$error":"#VALUE!"},{"$error":"#VALUE!"},{"$error":"#VALUE!"},{"$error":"#VALUE!"}]
[{"$f":"'CUADRO INFORMATIVO'!F49","v":0},{"$f":"'CUADRO INFORMATIVO'!G49","v":" "},{"$f":"'CUADRO INFORMATIVO'!H49","v":" "},{"$error":"#VALUE!"},{"$error":"#VALUE!"},{"$error":"#VALUE!"},"0 - 0",{"$error":"#VALUE!"},{"$error":"#VALUE!"},{"$error":"#VALUE!"},{"$error":"#VALUE!"},{"$error":"#VALUE!"},{"$error":"#VALUE!"},{"$error":"#VALUE!"},{"$error":"#VALUE!"},{"$error":"#VALUE!"},{"$error":"#VALUE!"},{"$error":"#VALUE!"}]
[{"$f":"'CUADRO INFORMATIVO'!F50","v":0},{"$f":"'CUADRO INFORMATIVO'!G50","v":" "},{"$f":"'CUADRO INFORMATIVO'!H50","v":" "},{"$error":"#VALUE!"},{"$error":"#VALUE!"},{"$error":"#VALUE!"},"0 - 0",{"$error":"#VALUE!"},{"$error":"#VALUE!"},{"$error":"#VALUE!"},{"$error":"#VALUE!"},{"$error":"#VALUE!"},{"$error":"#VALUE!"},{"$error":"#VALUE!"},{"$error":"#VALUE!"},{"$error":"#VALUE!"},{"$error":"#VALUE!"},{"$error":"#VALUE!"}]
[{"$f":"'CUADRO INFORMATIVO'!F51","v":0},{"$f":"'CUADRO INFORMATIVO'!G51","v":" "},{"$f":"'CUADRO INFORMATIVO'!H51","v":" "},{"$error":"#VALUE!"},{"$error":"#VALUE!"},{"$error":"#VALUE!"},"0 - 0",{"$error":"#VALUE!"},{"$error":"#VALUE!"},{"$error":"#VALUE!"},{"$error":"#VALUE!"},{"$error":"#VALUE!"},{"$error":"#VALUE!"},{"$error":"#VALUE!"},{"$error":"#VALUE!"},{"$error":"#VALUE!"},{"$error":"#VALUE!"},{"$error":"#VALUE!"}]
[{"$f":"'CUADRO INFORMATIVO'!F52","v":0},{"$f":"'CUADRO INFORMATIVO'!G52","v":" "},{"$f":"'CUADRO INFORMATIVO'!H52","v":" "},{"$error":"#VALUE!"},{"$error":"#VALUE!"},{"$error":"#VALUE!"},"0 - 0",{"$error":"#VALUE!"},{"$error":"#VALUE!"},{"$error":"#VALUE!"},{"$error":"#VALUE!"},{"$error":"#VALUE!"},{"$error":"#VALUE!"},{"$error":"#VALUE!"},{"$error":"#VALUE!"},{"$error":"#VALUE!"},{"$error":"#VALUE!"},{"$error":"#VALUE!"}]
[{"$f":"'CUADRO INFORMATIVO'!F53","v":0},{"$f":"'CUADRO INFORMATIVO'!G53","v":" "},{"$f":"'CUADRO INFORMATIVO'!H53","v":" "},{"$error":"#VALUE!"},{"$error":"#VALUE!"},{"$error":"#VALUE!"},"0 - 0",{"$error":"#VALUE!"},{"$error":"#VALUE!"},{"$error":"#VALUE!"},{"$error":"#VALUE!"},{"$error":"#VALUE!"},{"$error":"#VALUE!"},{"$error":"#VALUE!"},{"$error":"#VALUE!"},{"$error":"#VALUE!"},{"$error":"#VALUE!"},{"$error":"#VALUE!"}]
[{"$f":"'CUADRO INFORMATIVO'!F54","v":0},{"$f":"'CUADRO INFORMATIVO'!G54","v":" "},{"$f":"'CUADRO INFORMATIVO'!H54","v":" "},{"$error":"#VALUE!"},{"$error":"#VALUE!"},{"$error":"#VALUE!"},"0 - 0",{"$error":"#VALUE!"},{"$error":"#VALUE!"},{"$error":"#VALUE!"},{"$error":"#VALUE!"},{"$error":"#VALUE!"},{"$error":"#VALUE!"},{"$error":"#VALUE!"},{"$error":"#VALUE!"},{"$error":"#VALUE!"},{"$error":"#VALUE!"},{"$error":"#VALUE!"}]
[{"$f":"'CUADRO INFORMATIVO'!F55","v":0},{"$f":"'CUADRO INFORMATIVO'!G55","v":" "},{"$f":"'CUADRO INFORMATIVO'!H55","v":" "},{"$error":"#VALUE!"},{"$error":"#VALUE!"},{"$error":"#VALUE!"},"0 - 0",{"$error":"#VALUE!"},{"$error":"#VALUE!"},{"$error":"#VALUE!"},{"$error":"#VALUE!"},{"$error":"#VALUE!"},{"$error":"#VALUE!"},{"$error":"#VALUE!"},{"$error":"#VALUE!"},{"$error":"#VALUE!"},{"$error":"#VALUE!"},{"$error":"#VALUE!"}]
[{"$f":"'CUADRO INFORMATIVO'!F56","v":0},{"$f":"'CUADRO INFORMATIVO'!G56","v":" "},{"$f":"'CUADRO INFORMATIVO'!H56","v":" "},{"$error":"#VALUE!"},{"$error":"#VALUE!"},{"$error":"#VALUE!"},"0 - 0",{"$error":"#VALUE!"},{"$error":"#VALUE!"},{"$error":"#VALUE!"},{"$error":"#VALUE!"},{"$error":"#VALUE!"},{"$error":"#VALUE!"},{"$error":"#VALUE!"},{"$error":"#VALUE!"},{"$error":"#VALUE!"},{"$error":"#VALUE!"},{"$error":"#VALUE!"}]
[{"$f":"'CUADRO INFORMATIVO'!F57","v":0},{"$f":"'CUADRO INFORMATIVO'!G57","v":" "},{"$f":"'CUADRO INFORMATIVO'!H57","v":" "},{"$error":"#VALUE!"},{"$error":"#VALUE!"},{"$error":"#VALUE!"},"0 - 0",{"$error":"#VALUE!"},{"$error":"#VALUE!"},{"$error":"#VALUE!"},{"$error":"#VALUE!"},{"$error":"#VALUE!"},{"$error":"#VALUE!"},{"$error":"#VALUE!"},{"$error":"#VALUE!"},{"$error":"#VALUE!"},{"$error":"#VALUE!"},{"$error":"#VALUE!"}]
[{"$f":"'CUADRO INFORMATIVO'!F58","v":0},{"$f":"'CUADRO INFORMATIVO'!G58","v":" "},{"$f":"'CUADRO INFORMATIVO'!H58","v":" "},{"$error":"#VALUE!"},{"$error":"#VALUE!"},{"$error":"#VALUE!"},"0 - 0",{"$error":"#VALUE!"},{"$error":"#VALUE!"},{"$error":"#VALUE!"},{"$error":"#VALUE!"},{"$error":"#VALUE!"},{"$error":"#VALUE!"},{"$error":"#VALUE!"},{"$error":"#VALUE!"},{"$error":"#VALUE!"},{"$error":"#VALUE!"},{"$error":"#VALUE!"}]
[{"$f":"'CUADRO INFORMATIVO'!F59","v":0},{"$f":"'CUADRO INFORMATIVO'!G59","v":" "},{"$f":"'CUADRO INFORMATIVO'!H59","v":" "},{"$error":"#VALUE!"},{"$error":"#VALUE!"},{"$error":"#VALUE!"},"0 - 0",{"$error":"#VALUE!"},{"$error":"#VALUE!"},{"$error":"#VALUE!"},{"$error":"#VALUE!"},{"$error":"#VALUE!"},{"$error":"#VALUE!"},{"$error":"#VALUE!"},{"$error":"#VALUE!"},{"$error":"#VALUE!"},{"$error":"#VALUE!"},{"$error":"#VALUE!"}]
[{"$f":"'CUADRO INFORMATIVO'!F60","v":0},{"$f":"'CUADRO INFORMATIVO'!G60","v":" "},{"$f":"'CUADRO INFORMATIVO'!H60","v":" "},{"$error":"#VALUE!"},{"$error":"#VALUE!"},{"$error":"#VALUE!"},"0 - 0",{"$error":"#VALUE!"},{"$error":"#VALUE!"},{"$error":"#VALUE!"},{"$error":"#VALUE!"},{"$error":"#VALUE!"},{"$error":"#VALUE!"},{"$error":"#VALUE!"},{"$error":"#VALUE!"},{"$error":"#VALUE!"},{"$error":"#VALUE!"},{"$error":"#VALUE!"}]
[{"$f":"'CUADRO INFORMATIVO'!F61","v":0},{"$f":"'CUADRO INFORMATIVO'!G61","v":" "},{"$f":"'CUADRO INFORMATIVO'!H61","v":" "},{"$error":"#VALUE!"},{"$error":"#VALUE!"},{"$error":"#VALUE!"},"0 - 0",{"$error":"#VALUE!"},{"$error":"#VALUE!"},{"$error":"#VALUE!"},{"$error":"#VALUE!"},{"$error":"#VALUE!"},{"$error":"#VALUE!"},{"$error":"#VALUE!"},{"$error":"#VALUE!"},{"$error":"#VALUE!"},{"$error":"#VALUE!"},{"$error":"#VALUE!"}]
[{"$f":"'CUADRO INFORMATIVO'!F62","v":0},{"$f":"'CUADRO INFORMATIVO'!G62","v":" "},{"$f":"'CUADRO INFORMATIVO'!H62","v":" "},{"$error":"#VALUE!"},{"$error":"#VALUE!"},{"$error":"#VALUE!"},"0 - 0",{"$error":"#VALUE!"},{"$error":"#VALUE!"},{"$error":"#VALUE!"},{"$error":"#VALUE!"},{"$error":"#VALUE!"},{"$error":"#VALUE!"},{"$error":"#VALUE!"},{"$error":"#VALUE!"},{"$error":"#VALUE!"},{"$error":"#VALUE!"},{"$error":"#VALUE!"}]
[{"$f":"'CUADRO INFORMATIVO'!F63","v":0},{"$f":"'CUADRO INFORMATIVO'!G63","v":" "},{"$f":"'CUADRO INFORMATIVO'!H63","v":" "},{"$error":"#VALUE!"},{"$error":"#VALUE!"},{"$error":"#VALUE!"},"0 - 0",{"$error":"#VALUE!"},{"$error":"#VALUE!"},{"$error":"#VALUE!"},{"$error":"#VALUE!"},{"$error":"#VALUE!"},{"$error":"#VALUE!"},{"$error":"#VALUE!"},{"$error":"#VALUE!"},{"$error":"#VALUE!"},{"$error":"#VALUE!"},{"$error":"#VALUE!"}]
[{"$f":"'CUADRO INFORMATIVO'!F64","v":0},{"$f":"'CUADRO INFORMATIVO'!G64","v":" "},{"$f":"'CUADRO INFORMATIVO'!H64","v":" "},{"$error":"#VALUE!"},{"$error":"#VALUE!"},{"$error":"#VALUE!"},"0 - 0",{"$error":"#VALUE!"},{"$error":"#VALUE!"},{"$error":"#VALUE!"},{"$error":"#VALUE!"},{"$error":"#VALUE!"},{"$error":"#VALUE!"},{"$error":"#VALUE!"},{"$error":"#VALUE!"},{"$error":"#VALUE!"},{"$error":"#VALUE!"},{"$error":"#VALUE!"}]
[{"$f":"'CUADRO INFORMATIVO'!F65","v":0},{"$f":"'CUADRO INFORMATIVO'!G65","v":" "},{"$f":"'CUADRO INFORMATIVO'!H65","v":" "},{"$error":"#VALUE!"},{"$error":"#VALUE!"},{"$error":"#VALUE!"},"0 - 0",{"$error":"#VALUE!"},{"$error":"#VALUE!"},{"$error":"#VALUE!"},{"$error":"#VALUE!"},{"$error":"#VALUE!"},{"$error":"#VALUE!"},{"$error":"#VALUE!"},{"$error":"#VALUE!"},{"$error":"#VALUE!"},{"$error":"#VALUE!"},{"$error":"#VALUE!"}]
[{"$f":"'CUADRO INFORMATIVO'!F66","v":0},{"$f":"'CUADRO INFORMATIVO'!G66","v":" "},{"$f":"'CUADRO INFORMATIVO'!H66","v":" "},{"$error":"#VALUE!"},{"$error":"#VALUE!"},{"$error":"#VALUE!"},"0 - 0",{"$error":"#VALUE!"},{"$error":"#VALUE!"},{"$error":"#VALUE!"},{"$error":"#VALUE!"},{"$error":"#VALUE!"},{"$error":"#VALUE!"},{"$error":"#VALUE!"},{"$error":"#VALUE!"},{"$error":"#VALUE!"},{"$error":"#VALUE!"},{"$error":"#VALUE!"}]
[{"$f":"'CUADRO INFORMATIVO'!F67","v":0},{"$f":"'CUADRO INFORMATIVO'!G67","v":" "},{"$f":"'CUADRO INFORMATIVO'!H67","v":" "},{"$error":"#VALUE!"},{"$error":"#VALUE!"},{"$error":"#VALUE!"},"0 - 0",{"$error":"#VALUE!"},{"$error":"#VALUE!"},{"$error":"#VALUE!"},{"$error":"#VALUE!"},{"$error":"#VALUE!"},{"$error":"#VALUE!"},{"$error":"#VALUE!"},{"$error":"#VALUE!"},{"$error":"#VALUE!"},{"$error":"#VALUE!"},{"$error":"#VALUE!"}]
[{"$f":"'CUADRO INFORMATIVO'!F68","v":0},{"$f":"'CUADRO INFORMATIVO'!G68","v":" "},{"$f":"'CUADRO INFORMATIVO'!H68","v":" "},{"$error":"#VALUE!"},{"$error":"#VALUE!"},{"$error":"#VALUE!"},"0 - 0",{"$error":"#VALUE!"},{"$error":"#VALUE!"},{"$error":"#VALUE!"},{"$error":"#VALUE!"},{"$error":"#VALUE!"},{"$error":"#VALUE!"},{"$error":"#VALUE!"},{"$error":"#VALUE!"},{"$error":"#VALUE!"},{"$error":"#VALUE!"},{"$error":"#VALUE!"}]
[{"$f":"'CUADRO INFORMATIVO'!F69","v":0},{"$f":"'CUADRO INFORMATIVO'!G69","v":" "},{"$f":"'CUADRO INFORMATIVO'!H69","v":" "},{"$error":"#VALUE!"},{"$error":"#VALUE!"},{"$error":"#VALUE!"},"0 - 0",{"$error":"#VALUE!"},{"$f":"DEGREES(ATAN(E66/D66))","v":{"$error":"#VALUE!"}},{"$error":"#VALUE!"},{"$error":"#VALUE!"},{"$error":"#VALUE!"},{"$error":"#VALUE!"},{"$error":"#VALUE!"},{"$f":"IF(L66=1,K66,IF(L66=2,180-K66,IF(L66=3,K66-180,IF(L66=4,360-K66))))","v":{"$error":"#VALUE!"}},{"$f":"ROUNDDOWN(K66,0)&\"°\"&ROUNDDOWN((K66-ROUNDDOWN(K66,0))*60,0)&\"'\"&(ROUNDDOWN((((K66-ROUNDDOWN(K66,0))*60)-(ROUNDDOWN(((K66-ROUNDDOWN(K66,0))*60),0)))*60,2))&\"''\"","v":{"$error":"#VALUE!"}},{"$error":"#VALUE!"},{"$error":"#VALUE!"}]
[{"$f":"'CUADRO INFORMATIVO'!F70","v":0},{"$f":"'CUADRO INFORMATIVO'!G70","v":" "},{"$f":"'CUADRO INFORMATIVO'!H70","v":" "},{"$error":"#VALUE!"},{"$error":"#VALUE!"},{"$f":"SQRT((D67^2)+(E67^2))","v":{"$error":"#VALUE!"}},{"$f":"A67&\" - \"&A68","v":"0 - 0"},{"$f":"IF(D67>=0,\"+\",\"-\")&IF(E67>=0,\"+\",\"-\")","v":{"$error":"#VALUE!"}},{"$error":"#VALUE!"},{"$f":"IF(H67=\"++\",I67,IF(H67=\"+-\",I67,IF(H67=\"-+\",I67-180,IF(H67=\"--\",I67+180))))","v":{"$error":"#VALUE!"}},{"$f":"IF(J67>=0,J67,360+J67)","v":{"$error":"#VALUE!"}},{"$f":"IF(K67<=90,1,IF(K67<=180,2,IF(K67<=270,3,IF(K67<=360,4))))","v":{"$error":"#VALUE!"}},{"$f":"IF(L67=1,\"N\",IF(L67=2,\"S\",IF(L67=3,\"S\",IF(L67=4,\"N\"))))","v":{"$error":"#VALUE!"}},{"$f":"IF(L67=1,\"E\",IF(L67=2,\"E\",IF(L67=3,\"W\",IF(L67=4,\"W\"))))","v":{"$error":"#VALUE!"}},{"$error":"#VALUE!"},{"$error":"#VALUE!"},{"$f":"ROUNDDOWN(O67,0)&\"°\"&ROUNDDOWN((O67-ROUNDDOWN(O67,0))*60,0)&\"'\"&(ROUNDDOWN((((O67-ROUNDDOWN(O67,0))*60)-(ROUNDDOWN(((O67-ROUNDDOWN(O67,0))*60),0)))*60,2))&\"''\"","v":{"$error":"#VALUE!"}},{"$f":"M67&\" \"&Q67&\" \"&N67","v":{"$error":"#VALUE!"}}]
[{"$f":"'CUADRO INFORMATIVO'!F71","v":0},{"$f":"'CUADRO INFORMATIVO'!G71","v":" "},{"$f":"'CUADRO INFORMATIVO'!H71","v":" "},{"$f":"IF(B68<>0,IF(B69=0,$B$2-B68,B69-B68),0)","v":{"$error":"#VALUE!"}},{"$f":"IF(C68<>0,IF(C69=0,$C$2-C68,C69-C68),0)","v":{"$error":"#VALUE!"}},{"$error":"#VALUE!"},"0 - 0",{"$error":"#VALUE!"},{"$error":"#VALUE!"},{"$error":"#VALUE!"},{"$error":"#VALUE!"},{"$error":"#VALUE!"},{"$error":"#VALUE!"},{"$error":"#VALUE!"},{"$error":"#VALUE!"},{"$error":"#VALUE!"},{"$error":"#VALUE!"},{"$error":"#VALUE!"}]
[{"$f":"'CUADRO INFORMATIVO'!F72","v":0},{"$f":"'CUADRO INFORMATIVO'!G72","v":" "},{"$f":"'CUADRO INFORMATIVO'!H72","v":" "},{"$error":"#VALUE!"},{"$error":"#VALUE!"},{"$error":"#VALUE!"},"0 - 0",{"$error":"#VALUE!"},{"$error":"#VALUE!"},{"$error":"#VALUE!"},{"$error":"#VALUE!"},{"$error":"#VALUE!"},{"$error":"#VALUE!"},{"$error":"#VALUE!"},{"$error":"#VALUE!"},{"$error":"#VALUE!"},{"$error":"#VALUE!"},{"$error":"#VALUE!"}]
[{"$f":"'CUADRO INFORMATIVO'!F73","v":0},{"$f":"'CUADRO INFORMATIVO'!G73","v":" "},{"$f":"'CUADRO INFORMATIVO'!H73","v":" "},{"$error":"#VALUE!"},{"$error":"#VALUE!"},{"$error":"#VALUE!"},"0 - 0",{"$error":"#VALUE!"},{"$error":"#VALUE!"},{"$error":"#VALUE!"},{"$error":"#VALUE!"},{"$error":"#VALUE!"},{"$error":"#VALUE!"},{"$error":"#VALUE!"},{"$error":"#VALUE!"},{"$error":"#VALUE!"},{"$error":"#VALUE!"},{"$error":"#VALUE!"}]
[{"$f":"'CUADRO INFORMATIVO'!F74","v":0},{"$f":"'CUADRO INFORMATIVO'!G74","v":" "},{"$f":"'CUADRO INFORMATIVO'!H74","v":" "},{"$error":"#VALUE!"},{"$error":"#VALUE!"},{"$error":"#VALUE!"},"0 - 0",{"$error":"#VALUE!"},{"$error":"#VALUE!"},{"$error":"#VALUE!"},{"$error":"#VALUE!"},{"$error":"#VALUE!"},{"$error":"#VALUE!"},{"$error":"#VALUE!"},{"$error":"#VALUE!"},{"$error":"#VALUE!"},{"$error":"#VALUE!"},{"$error":"#VALUE!"}]
[{"$f":"'CUADRO INFORMATIVO'!F75","v":0},{"$f":"'CUADRO INFORMATIVO'!G75","v":" "},{"$f":"'CUADRO INFORMATIVO'!H75","v":" "},{"$error":"#VALUE!"},{"$error":"#VALUE!"},{"$error":"#VALUE!"},"0 - 0",{"$error":"#VALUE!"},{"$error":"#VALUE!"},{"$error":"#VALUE!"},{"$error":"#VALUE!"},{"$error":"#VALUE!"},{"$error":"#VALUE!"},{"$error":"#VALUE!"},{"$error":"#VALUE!"},{"$error":"#VALUE!"},{"$error":"#VALUE!"},{"$error":"#VALUE!"}]
[{"$f":"'CUADRO INFORMATIVO'!F76","v":0},{"$f":"'CUADRO INFORMATIVO'!G76","v":" "},{"$f":"'CUADRO INFORMATIVO'!H76","v":" "},{"$error":"#VALUE!"},{"$error":"#VALUE!"},{"$error":"#VALUE!"},"0 - 0",{"$error":"#VALUE!"},{"$error":"#VALUE!"},{"$error":"#VALUE!"},{"$error":"#VALUE!"},{"$error":"#VALUE!"},{"$error":"#VALUE!"},{"$error":"#VALUE!"},{"$error":"#VALUE!"},{"$error":"#VALUE!"},{"$error":"#VALUE!"},{"$error":"#VALUE!"}]
[{"$f":"'CUADRO INFORMATIVO'!F77","v":0},{"$f":"'CUADRO INFORMATIVO'!G77","v":" "},{"$f":"'CUADRO INFORMATIVO'!H77","v":" "},{"$error":"#VALUE!"},{"$error":"#VALUE!"},{"$error":"#VALUE!"},"0 - 0",{"$error":"#VALUE!"},{"$error":"#VALUE!"},{"$error":"#VALUE!"},{"$error":"#VALUE!"},{"$error":"#VALUE!"},{"$error":"#VALUE!"},{"$error":"#VALUE!"},{"$error":"#VALUE!"},{"$error":"#VALUE!"},{"$error":"#VALUE!"},{"$error":"#VALUE!"}]
[{"$f":"'CUADRO INFORMATIVO'!F78","v":0},{"$f":"'CUADRO INFORMATIVO'!G78","v":" "},{"$f":"'CUADRO INFORMATIVO'!H78","v":" "},{"$error":"#VALUE!"},{"$error":"#VALUE!"},{"$error":"#VALUE!"},"0 - 0",{"$error":"#VALUE!"},{"$error":"#VALUE!"},{"$error":"#VALUE!"},{"$error":"#VALUE!"},{"$error":"#VALUE!"},{"$error":"#VALUE!"},{"$error":"#VALUE!"},{"$error":"#VALUE!"},{"$error":"#VALUE!"},{"$error":"#VALUE!"},{"$error":"#VALUE!"}]
[{"$f":"'CUADRO INFORMATIVO'!F79","v":0},{"$f":"'CUADRO INFORMATIVO'!G79","v":" "},{"$f":"'CUADRO INFORMATIVO'!H79","v":" "},{"$error":"#VALUE!"},{"$error":"#VALUE!"},{"$error":"#VALUE!"},"0 - 0",{"$error":"#VALUE!"},{"$error":"#VALUE!"},{"$error":"#VALUE!"},{"$error":"#VALUE!"},{"$error":"#VALUE!"},{"$error":"#VALUE!"},{"$error":"#VALUE!"},{"$error":"#VALUE!"},{"$error":"#VALUE!"},{"$error":"#VALUE!"},{"$error":"#VALUE!"}]
[{"$f":"'CUADRO INFORMATIVO'!F80","v":0},{"$f":"'CUADRO INFORMATIVO'!G80","v":" "},{"$f":"'CUADRO INFORMATIVO'!H80","v":" "},{"$error":"#VALUE!"},{"$error":"#VALUE!"},{"$error":"#VALUE!"},"0 - 0",{"$error":"#VALUE!"},{"$error":"#VALUE!"},{"$error":"#VALUE!"},{"$error":"#VALUE!"},{"$error":"#VALUE!"},{"$error":"#VALUE!"},{"$error":"#VALUE!"},{"$error":"#VALUE!"},{"$error":"#VALUE!"},{"$error":"#VALUE!"},{"$error":"#VALUE!"}]
[{"$f":"'CUADRO INFORMATIVO'!F81","v":0},{"$f":"'CUADRO INFORMATIVO'!G81","v":" "},{"$f":"'CUADRO INFORMATIVO'!H81","v":" "},{"$error":"#VALUE!"},{"$error":"#VALUE!"},{"$error":"#VALUE!"},"0 - 0",{"$error":"#VALUE!"},{"$error":"#VALUE!"},{"$error":"#VALUE!"},{"$error":"#VALUE!"},{"$error":"#VALUE!"},{"$error":"#VALUE!"},{"$error":"#VALUE!"},{"$error":"#VALUE!"},{"$error":"#VALUE!"},{"$error":"#VALUE!"},{"$error":"#VALUE!"}]
[{"$f":"'CUADRO INFORMATIVO'!F82","v":0},{"$f":"'CUADRO INFORMATIVO'!G82","v":" "},{"$f":"'CUADRO INFORMATIVO'!H82","v":" "},{"$error":"#VALUE!"},{"$error":"#VALUE!"},{"$error":"#VALUE!"},"0 - 0",{"$error":"#VALUE!"},{"$error":"#VALUE!"},{"$error":"#VALUE!"},{"$error":"#VALUE!"},{"$error":"#VALUE!"},{"$error":"#VALUE!"},{"$error":"#VALUE!"},{"$error":"#VALUE!"},{"$error":"#VALUE!"},{"$error":"#VALUE!"},{"$error":"#VALUE!"}]
[{"$f":"'CUADRO INFORMATIVO'!F83","v":0},{"$f":"'CUADRO INFORMATIVO'!G83","v":" "},{"$f":"'CUADRO INFORMATIVO'!H83","v":" "},{"$error":"#VALUE!"},{"$error":"#VALUE!"},{"$error":"#VALUE!"},"0 - 0",{"$error":"#VALUE!"},{"$error":"#VALUE!"},{"$error":"#VALUE!"},{"$error":"#VALUE!"},{"$error":"#VALUE!"},{"$error":"#VALUE!"},{"$error":"#VALUE!"},{"$error":"#VALUE!"},{"$error":"#VALUE!"},{"$error":"#VALUE!"},{"$error":"#VALUE!"}]
[{"$f":"'CUADRO INFORMATIVO'!F84","v":0},{"$f":"'CUADRO INFORMATIVO'!G84","v":" "},{"$f":"'CUADRO INFORMATIVO'!H84","v":" "},{"$error":"#VALUE!"},{"$error":"#VALUE!"},{"$error":"#VALUE!"},"0 - 0",{"$error":"#VALUE!"},{"$error":"#VALUE!"},{"$error":"#VALUE!"},{"$error":"#VALUE!"},{"$error":"#VALUE!"},{"$error":"#VALUE!"},{"$error":"#VALUE!"},{"$error":"#VALUE!"},{"$error":"#VALUE!"},{"$error":"#VALUE!"},{"$error":"#VALUE!"}]
[{"$f":"'CUADRO INFORMATIVO'!F85","v":0},{"$f":"'CUADRO INFORMATIVO'!G85","v":" "},{"$f":"'CUADRO INFORMATIVO'!H85","v":" "},{"$error":"#VALUE!"},{"$error":"#VALUE!"},{"$error":"#VALUE!"},"0 - 0",{"$error":"#VALUE!"},{"$error":"#VALUE!"},{"$error":"#VALUE!"},{"$error":"#VALUE!"},{"$error":"#VALUE!"},{"$error":"#VALUE!"},{"$error":"#VALUE!"},{"$error":"#VALUE!"},{"$error":"#VALUE!"},{"$error":"#VALUE!"},{"$error":"#VALUE!"}]
[{"$f":"'CUADRO INFORMATIVO'!F86","v":0},{"$f":"'CUADRO INFORMATIVO'!G86","v":" "},{"$f":"'CUADRO INFORMATIVO'!H86","v":" "},{"$error":"#VALUE!"},{"$error":"#VALUE!"},{"$error":"#VALUE!"},"0 - 0",{"$error":"#VALUE!"},{"$error":"#VALUE!"},{"$error":"#VALUE!"},{"$error":"#VALUE!"},{"$error":"#VALUE!"},{"$error":"#VALUE!"},{"$error":"#VALUE!"},{"$error":"#VALUE!"},{"$error":"#VALUE!"},{"$error":"#VALUE!"},{"$error":"#VALUE!"}]
[{"$f":"'CUADRO INFORMATIVO'!F87","v":0},{"$f":"'CUADRO INFORMATIVO'!G87","v":" "},{"$f":"'CUADRO INFORMATIVO'!H87","v":" "},{"$error":"#VALUE!"},{"$error":"#VALUE!"},{"$error":"#VALUE!"},"0 - 0",{"$error":"#VALUE!"},{"$error":"#VALUE!"},{"$error":"#VALUE!"},{"$error":"#VALUE!"},{"$error":"#VALUE!"},{"$error":"#VALUE!"},{"$error":"#VALUE!"},{"$error":"#VALUE!"},{"$error":"#VALUE!"},{"$error":"#VALUE!"},{"$error":"#VALUE!"}]
[{"$f":"'CUADRO INFORMATIVO'!F88","v":0},{"$f":"'CUADRO INFORMATIVO'!G88","v":" "},{"$f":"'CUADRO INFORMATIVO'!H88","v":" "},{"$error":"#VALUE!"},{"$error":"#VALUE!"},{"$error":"#VALUE!"},"0 - 0",{"$error":"#VALUE!"},{"$error":"#VALUE!"},{"$error":"#VALUE!"},{"$error":"#VALUE!"},{"$error":"#VALUE!"},{"$error":"#VALUE!"},{"$error":"#VALUE!"},{"$error":"#VALUE!"},{"$error":"#VALUE!"},{"$error":"#VALUE!"},{"$error":"#VALUE!"}]
[{"$f":"'CUADRO INFORMATIVO'!F89","v":0},{"$f":"'CUADRO INFORMATIVO'!G89","v":" "},{"$f":"'CUADRO INFORMATIVO'!H89","v":" "},{"$error":"#VALUE!"},{"$error":"#VALUE!"},{"$error":"#VALUE!"},"0 - 0",{"$error":"#VALUE!"},{"$error":"#VALUE!"},{"$error":"#VALUE!"},{"$error":"#VALUE!"},{"$error":"#VALUE!"},{"$error":"#VALUE!"},{"$error":"#VALUE!"},{"$error":"#VALUE!"},{"$error":"#VALUE!"},{"$error":"#VALUE!"},{"$error":"#VALUE!"}]
[{"$f":"'CUADRO INFORMATIVO'!F90","v":0},{"$f":"'CUADRO INFORMATIVO'!G90","v":" "},{"$f":"'CUADRO INFORMATIVO'!H90","v":" "},{"$error":"#VALUE!"},{"$error":"#VALUE!"},{"$error":"#VALUE!"},"0 - 0",{"$error":"#VALUE!"},{"$error":"#VALUE!"},{"$error":"#VALUE!"},{"$error":"#VALUE!"},{"$error":"#VALUE!"},{"$error":"#VALUE!"},{"$error":"#VALUE!"},{"$error":"#VALUE!"},{"$error":"#VALUE!"},{"$error":"#VALUE!"},{"$error":"#VALUE!"}]
[{"$f":"'CUADRO INFORMATIVO'!F91","v":0},{"$f":"'CUADRO INFORMATIVO'!G91","v":" "},{"$f":"'CUADRO INFORMATIVO'!H91","v":" "},{"$error":"#VALUE!"},{"$error":"#VALUE!"},{"$error":"#VALUE!"},"0 - 0",{"$error":"#VALUE!"},{"$error":"#VALUE!"},{"$error":"#VALUE!"},{"$error":"#VALUE!"},{"$error":"#VALUE!"},{"$error":"#VALUE!"},{"$error":"#VALUE!"},{"$error":"#VALUE!"},{"$error":"#VALUE!"},{"$error":"#VALUE!"},{"$error":"#VALUE!"}]
[{"$f":"'CUADRO INFORMATIVO'!F92","v":0},{"$f":"'CUADRO INFORMATIVO'!G92","v":" "},{"$f":"'CUADRO INFORMATIVO'!H92","v":" "},{"$error":"#VALUE!"},{"$error":"#VALUE!"},{"$error":"#VALUE!"},"0 - 0",{"$error":"#VALUE!"},{"$error":"#VALUE!"},{"$error":"#VALUE!"},{"$error":"#VALUE!"},{"$error":"#VALUE!"},{"$error":"#VALUE!"},{"$error":"#VALUE!"},{"$error":"#VALUE!"},{"$error":"#VALUE!"},{"$error":"#VALUE!"},{"$error":"#VALUE!"}]
[{"$f":"'CUADRO INFORMATIVO'!F93","v":0},{"$f":"'CUADRO INFORMATIVO'!G93","v":" "},{"$f":"'CUADRO INFORMATIVO'!H93","v":" "},{"$error":"#VALUE!"},{"$error":"#VALUE!"},{"$error":"#VALUE!"},"0 - 0",{"$error":"#VALUE!"},{"$error":"#VALUE!"},{"$error":"#VALUE!"},{"$error":"#VALUE!"},{"$error":"#VALUE!"},{"$error":"#VALUE!"},{"$error":"#VALUE!"},{"$error":"#VALUE!"},{"$error":"#VALUE!"},{"$error":"#VALUE!"},{"$error":"#VALUE!"}]
[{"$f":"'CUADRO INFORMATIVO'!F94","v":0},{"$f":"'CUADRO INFORMATIVO'!G94","v":" "},{"$f":"'CUADRO INFORMATIVO'!H94","v":" "},{"$error":"#VALUE!"},{"$error":"#VALUE!"},{"$error":"#VALUE!"},"0 - 0",{"$error":"#VALUE!"},{"$error":"#VALUE!"},{"$error":"#VALUE!"},{"$error":"#VALUE!"},{"$error":"#VALUE!"},{"$error":"#VALUE!"},{"$error":"#VALUE!"},{"$error":"#VALUE!"},{"$error":"#VALUE!"},{"$error":"#VALUE!"},{"$error":"#VALUE!"}]
[{"$f":"'CUADRO INFORMATIVO'!F95","v":0},{"$f":"'CUADRO INFORMATIVO'!G95","v":" "},{"$f":"'CUADRO INFORMATIVO'!H95","v":" "},{"$error":"#VALUE!"},{"$error":"#VALUE!"},{"$error":"#VALUE!"},"0 - 0",{"$error":"#VALUE!"},{"$error":"#VALUE!"},{"$error":"#VALUE!"},{"$error":"#VALUE!"},{"$error":"#VALUE!"},{"$error":"#VALUE!"},{"$error":"#VALUE!"},{"$error":"#VALUE!"},{"$error":"#VALUE!"},{"$error":"#VALUE!"},{"$error":"#VALUE!"}]
[{"$f":"'CUADRO INFORMATIVO'!F96","v":0},{"$f":"'CUADRO INFORMATIVO'!G96","v":" "},{"$f":"'CUADRO INFORMATIVO'!H96","v":" "},{"$error":"#VALUE!"},{"$error":"#VALUE!"},{"$error":"#VALUE!"},"0 - 0",{"$error":"#VALUE!"},{"$error":"#VALUE!"},{"$error":"#VALUE!"},{"$error":"#VALUE!"},{"$error":"#VALUE!"},{"$error":"#VALUE!"},{"$error":"#VALUE!"},{"$error":"#VALUE!"},{"$error":"#VALUE!"},{"$error":"#VALUE!"},{"$error":"#VALUE!"}]
[{"$f":"'CUADRO INFORMATIVO'!F97","v":0},{"$f":"'CUADRO INFORMATIVO'!G97","v":" "},{"$f":"'CUADRO INFORMATIVO'!H97","v":" "},{"$error":"#VALUE!"},{"$error":"#VALUE!"},{"$error":"#VALUE!"},"0 - 0",{"$error":"#VALUE!"},{"$error":"#VALUE!"},{"$error":"#VALUE!"},{"$error":"#VALUE!"},{"$error":"#VALUE!"},{"$error":"#VALUE!"},{"$error":"#VALUE!"},{"$error":"#VALUE!"},{"$error":"#VALUE!"},{"$error":"#VALUE!"},{"$error":"#VALUE!"}]
[{"$f":"'CUADRO INFORMATIVO'!F98","v":0},{"$f":"'CUADRO INFORMATIVO'!G98","v":" "},{"$f":"'CUADRO INFORMATIVO'!H98","v":" "},{"$error":"#VALUE!"},{"$error":"#VALUE!"},{"$error":"#VALUE!"},"0 - 0",{"$error":"#VALUE!"},{"$error":"#VALUE!"},{"$error":"#VALUE!"},{"$error":"#VALUE!"},{"$error":"#VALUE!"},{"$error":"#VALUE!"},{"$error":"#VALUE!"},{"$error":"#VALUE!"},{"$error":"#VALUE!"},{"$error":"#VALUE!"},{"$error":"#VALUE!"}]
[{"$f":"'CUADRO INFORMATIVO'!F99","v":0},{"$f":"'CUADRO INFORMATIVO'!G99","v":" "},{"$f":"'CUADRO INFORMATIVO'!H99","v":" "},{"$error":"#VALUE!"},{"$error":"#VALUE!"},{"$error":"#VALUE!"},"0 - 0",{"$error":"#VALUE!"},{"$error":"#VALUE!"},{"$error":"#VALUE!"},{"$error":"#VALUE!"},{"$error":"#VALUE!"},{"$error":"#VALUE!"},{"$error":"#VALUE!"},{"$error":"#VALUE!"},{"$error":"#VALUE!"},{"$error":"#VALUE!"},{"$error":"#VALUE!"}]
[{"$f":"'CUADRO INFORMATIVO'!F100","v":0},{"$f":"'CUADRO INFORMATIVO'!G100","v":" "},{"$f":"'CUADRO INFORMATIVO'!H100","v":" "},{"$error":"#VALUE!"},{"$error":"#VALUE!"},{"$error":"#VALUE!"},"0 - 0",{"$error":"#VALUE!"},{"$error":"#VALUE!"},{"$error":"#VALUE!"},{"$error":"#VALUE!"},{"$error":"#VALUE!"},{"$error":"#VALUE!"},{"$error":"#VALUE!"},{"$error":"#VALUE!"},{"$error":"#VALUE!"},{"$error":"#VALUE!"},{"$error":"#VALUE!"}]
[{"$f":"'CUADRO INFORMATIVO'!F101","v":0},{"$f":"'CUADRO INFORMATIVO'!G101","v":" "},{"$f":"'CUADRO INFORMATIVO'!H101","v":" "},{"$error":"#VALUE!"},{"$error":"#VALUE!"},{"$error":"#VALUE!"},"0 - 0",{"$error":"#VALUE!"},{"$error":"#VALUE!"},{"$error":"#VALUE!"},{"$error":"#VALUE!"},{"$error":"#VALUE!"},{"$error":"#VALUE!"},{"$error":"#VALUE!"},{"$error":"#VALUE!"},{"$error":"#VALUE!"},{"$error":"#VALUE!"},{"$error":"#VALUE!"}]
[{"$f":"'CUADRO INFORMATIVO'!F102","v":0},{"$f":"'CUADRO INFORMATIVO'!G102","v":" "},{"$f":"'CUADRO INFORMATIVO'!H102","v":" "},{"$error":"#VALUE!"},{"$error":"#VALUE!"},{"$error":"#VALUE!"},"0 - 0",{"$error":"#VALUE!"},{"$error":"#VALUE!"},{"$error":"#VALUE!"},{"$error":"#VALUE!"},{"$error":"#VALUE!"},{"$error":"#VALUE!"},{"$error":"#VALUE!"},{"$error":"#VALUE!"},{"$error":"#VALUE!"},{"$error":"#VALUE!"},{"$error":"#VALUE!"}]
[{"$f":"'CUADRO INFORMATIVO'!F103","v":0},{"$f":"'CUADRO INFORMATIVO'!G103","v":" "},{"$f":"'CUADRO INFORMATIVO'!H103","v":" "},{"$error":"#VALUE!"},{"$error":"#VALUE!"},{"$error":"#VALUE!"},"0 - 0",{"$error":"#VALUE!"},{"$error":"#VALUE!"},{"$error":"#VALUE!"},{"$error":"#VALUE!"},{"$error":"#VALUE!"},{"$error":"#VALUE!"},{"$error":"#VALUE!"},{"$error":"#VALUE!"},{"$error":"#VALUE!"},{"$error":"#VALUE!"},{"$error":"#VALUE!"}]
[{"$f":"'CUADRO INFORMATIVO'!F104","v":0},{"$f":"'CUADRO INFORMATIVO'!G104","v":" "},{"$f":"'CUADRO INFORMATIVO'!H104","v":" "},{"$error":"#VALUE!"},{"$error":"#VALUE!"},{"$error":"#VALUE!"},"0 - 0",{"$error":"#VALUE!"},{"$error":"#VALUE!"},{"$error":"#VALUE!"},{"$error":"#VALUE!"},{"$error":"#VALUE!"},{"$error":"#VALUE!"},{"$error":"#VALUE!"},{"$error":"#VALUE!"},{"$error":"#VALUE!"},{"$error":"#VALUE!"},{"$error":"#VALUE!"}]
[{"$f":"'CUADRO INFORMATIVO'!F105","v":0},{"$f":"'CUADRO INFORMATIVO'!G105","v":" "},{"$f":"'CUADRO INFORMATIVO'!H105","v":" "},{"$error":"#VALUE!"},{"$error":"#VALUE!"},{"$error":"#VALUE!"},"0 - 0",{"$error":"#VALUE!"},{"$error":"#VALUE!"},{"$error":"#VALUE!"},{"$error":"#VALUE!"},{"$error":"#VALUE!"},{"$error":"#VALUE!"},{"$error":"#VALUE!"},{"$error":"#VALUE!"},{"$error":"#VALUE!"},{"$error":"#VALUE!"},{"$error":"#VALUE!"}]
[{"$f":"'CUADRO INFORMATIVO'!F106","v":0},{"$f":"'CUADRO INFORMATIVO'!G106","v":" "},{"$f":"'CUADRO INFORMATIVO'!H106","v":" "},{"$error":"#VALUE!"},{"$error":"#VALUE!"},{"$error":"#VALUE!"},"0 - 0",{"$error":"#VALUE!"},{"$error":"#VALUE!"},{"$error":"#VALUE!"},{"$error":"#VALUE!"},{"$error":"#VALUE!"},{"$error":"#VALUE!"},{"$error":"#VALUE!"},{"$error":"#VALUE!"},{"$error":"#VALUE!"},{"$error":"#VALUE!"},{"$error":"#VALUE!"}]
[{"$f":"'CUADRO INFORMATIVO'!F107","v":0},{"$f":"'CUADRO INFORMATIVO'!G107","v":" "},{"$f":"'CUADRO INFORMATIVO'!H107","v":" "},{"$error":"#VALUE!"},{"$error":"#VALUE!"},{"$error":"#VALUE!"},"0 - 0",{"$error":"#VALUE!"},{"$error":"#VALUE!"},{"$error":"#VALUE!"},{"$error":"#VALUE!"},{"$error":"#VALUE!"},{"$error":"#VALUE!"},{"$error":"#VALUE!"},{"$error":"#VALUE!"},{"$error":"#VALUE!"},{"$error":"#VALUE!"},{"$error":"#VALUE!"}]
[{"$f":"'CUADRO INFORMATIVO'!F108","v":0},{"$f":"'CUADRO INFORMATIVO'!G108","v":" "},{"$f":"'CUADRO INFORMATIVO'!H108","v":" "},{"$error":"#VALUE!"},{"$error":"#VALUE!"},{"$error":"#VALUE!"},"0 - 0",{"$error":"#VALUE!"},{"$error":"#VALUE!"},{"$error":"#VALUE!"},{"$error":"#VALUE!"},{"$error":"#VALUE!"},{"$error":"#VALUE!"},{"$error":"#VALUE!"},{"$error":"#VALUE!"},{"$error":"#VALUE!"},{"$error":"#VALUE!"},{"$error":"#VALUE!"}]
[{"$f":"'CUADRO INFORMATIVO'!F109","v":0},{"$f":"'CUADRO INFORMATIVO'!G109","v":" "},{"$f":"'CUADRO INFORMATIVO'!H109","v":" "},{"$error":"#VALUE!"},{"$error":"#VALUE!"},{"$error":"#VALUE!"},"0 - 0",{"$error":"#VALUE!"},{"$error":"#VALUE!"},{"$error":"#VALUE!"},{"$error":"#VALUE!"},{"$error":"#VALUE!"},{"$error":"#VALUE!"},{"$error":"#VALUE!"},{"$error":"#VALUE!"},{"$error":"#VALUE!"},{"$error":"#VALUE!"},{"$error":"#VALUE!"}]
[{"$f":"'CUADRO INFORMATIVO'!F110","v":0},{"$f":"'CUADRO INFORMATIVO'!G110","v":" "},{"$f":"'CUADRO INFORMATIVO'!H110","v":" "},{"$error":"#VALUE!"},{"$error":"#VALUE!"},{"$error":"#VALUE!"},"0 - 0",{"$error":"#VALUE!"},{"$error":"#VALUE!"},{"$error":"#VALUE!"},{"$error":"#VALUE!"},{"$error":"#VALUE!"},{"$error":"#VALUE!"},{"$error":"#VALUE!"},{"$error":"#VALUE!"},{"$error":"#VALUE!"},{"$error":"#VALUE!"},{"$error":"#VALUE!"}]
[{"$f":"'CUADRO INFORMATIVO'!F111","v":0},{"$f":"'CUADRO INFORMATIVO'!G111","v":" "},{"$f":"'CUADRO INFORMATIVO'!H111","v":" "},{"$error":"#VALUE!"},{"$error":"#VALUE!"},{"$error":"#VALUE!"},"0 - 0",{"$error":"#VALUE!"},{"$error":"#VALUE!"},{"$error":"#VALUE!"},{"$error":"#VALUE!"},{"$error":"#VALUE!"},{"$error":"#VALUE!"},{"$error":"#VALUE!"},{"$error":"#VALUE!"},{"$error":"#VALUE!"},{"$error":"#VALUE!"},{"$error":"#VALUE!"}]
[{"$f":"'CUADRO INFORMATIVO'!F112","v":0},{"$f":"'CUADRO INFORMATIVO'!G112","v":" "},{"$f":"'CUADRO INFORMATIVO'!H112","v":" "},{"$error":"#VALUE!"},{"$error":"#VALUE!"},{"$error":"#VALUE!"},"0 - 0",{"$error":"#VALUE!"},{"$error":"#VALUE!"},{"$error":"#VALUE!"},{"$error":"#VALUE!"},{"$error":"#VALUE!"},{"$error":"#VALUE!"},{"$error":"#VALUE!"},{"$error":"#VALUE!"},{"$error":"#VALUE!"},{"$error":"#VALUE!"},{"$error":"#VALUE!"}]
[{"$f":"'CUADRO INFORMATIVO'!F113","v":0},{"$f":"'CUADRO INFORMATIVO'!G113","v":" "},{"$f":"'CUADRO INFORMATIVO'!H113","v":" "},{"$error":"#VALUE!"},{"$error":"#VALUE!"},{"$error":"#VALUE!"},"0 - 0",{"$error":"#VALUE!"},{"$error":"#VALUE!"},{"$error":"#VALUE!"},{"$error":"#VALUE!"},{"$error":"#VALUE!"},{"$error":"#VALUE!"},{"$error":"#VALUE!"},{"$error":"#VALUE!"},{"$error":"#VALUE!"},{"$error":"#VALUE!"},{"$error":"#VALUE!"}]
[{"$f":"'CUADRO INFORMATIVO'!F114","v":0},{"$f":"'CUADRO INFORMATIVO'!G114","v":" "},{"$f":"'CUADRO INFORMATIVO'!H114","v":" "},{"$error":"#VALUE!"},{"$error":"#VALUE!"},{"$error":"#VALUE!"},"0 - 0",{"$error":"#VALUE!"},{"$error":"#VALUE!"},{"$error":"#VALUE!"},{"$error":"#VALUE!"},{"$error":"#VALUE!"},{"$error":"#VALUE!"},{"$error":"#VALUE!"},{"$error":"#VALUE!"},{"$error":"#VALUE!"},{"$error":"#VALUE!"},{"$error":"#VALUE!"}]
[{"$f":"'CUADRO INFORMATIVO'!F115","v":0},{"$f":"'CUADRO INFORMATIVO'!G115","v":" "},{"$f":"'CUADRO INFORMATIVO'!H115","v":" "},{"$error":"#VALUE!"},{"$error":"#VALUE!"},{"$error":"#VALUE!"},"0 - 0",{"$error":"#VALUE!"},{"$error":"#VALUE!"},{"$error":"#VALUE!"},{"$error":"#VALUE!"},{"$error":"#VALUE!"},{"$error":"#VALUE!"},{"$error":"#VALUE!"},{"$error":"#VALUE!"},{"$error":"#VALUE!"},{"$error":"#VALUE!"},{"$error":"#VALUE!"}]
[{"$f":"'CUADRO INFORMATIVO'!F116","v":0},{"$f":"'CUADRO INFORMATIVO'!G116","v":" "},{"$f":"'CUADRO INFORMATIVO'!H116","v":" "},{"$error":"#VALUE!"},{"$error":"#VALUE!"},{"$error":"#VALUE!"},"0 - 0",{"$error":"#VALUE!"},{"$error":"#VALUE!"},{"$error":"#VALUE!"},{"$error":"#VALUE!"},{"$error":"#VALUE!"},{"$error":"#VALUE!"},{"$error":"#VALUE!"},{"$error":"#VALUE!"},{"$error":"#VALUE!"},{"$error":"#VALUE!"},{"$error":"#VALUE!"}]
[{"$f":"'CUADRO INFORMATIVO'!F117","v":0},{"$f":"'CUADRO INFORMATIVO'!G117","v":" "},{"$f":"'CUADRO INFORMATIVO'!H117","v":" "},{"$error":"#VALUE!"},{"$error":"#VALUE!"},{"$error":"#VALUE!"},"0 - 0",{"$error":"#VALUE!"},{"$error":"#VALUE!"},{"$error":"#VALUE!"},{"$error":"#VALUE!"},{"$error":"#VALUE!"},{"$error":"#VALUE!"},{"$error":"#VALUE!"},{"$error":"#VALUE!"},{"$error":"#VALUE!"},{"$error":"#VALUE!"},{"$error":"#VALUE!"}]
[{"$f":"'CUADRO INFORMATIVO'!F118","v":0},{"$f":"'CUADRO INFORMATIVO'!G118","v":" "},{"$f":"'CUADRO INFORMATIVO'!H118","v":" "},{"$error":"#VALUE!"},{"$error":"#VALUE!"},{"$error":"#VALUE!"},"0 - 0",{"$error":"#VALUE!"},{"$error":"#VALUE!"},{"$error":"#VALUE!"},{"$error":"#VALUE!"},{"$error":"#VALUE!"},{"$error":"#VALUE!"},{"$error":"#VALUE!"},{"$error":"#VALUE!"},{"$error":"#VALUE!"},{"$error":"#VALUE!"},{"$error":"#VALUE!"}]
[{"$f":"'CUADRO INFORMATIVO'!F119","v":0},{"$f":"'CUADRO INFORMATIVO'!G119","v":" "},{"$f":"'CUADRO INFORMATIVO'!H119","v":" "},{"$error":"#VALUE!"},{"$error":"#VALUE!"},{"$error":"#VALUE!"},"0 - 0",{"$error":"#VALUE!"},{"$error":"#VALUE!"},{"$error":"#VALUE!"},{"$error":"#VALUE!"},{"$error":"#VALUE!"},{"$error":"#VALUE!"},{"$error":"#VALUE!"},{"$error":"#VALUE!"},{"$error":"#VALUE!"},{"$error":"#VALUE!"},{"$error":"#VALUE!"}]
[{"$f":"'CUADRO INFORMATIVO'!F120","v":0},{"$f":"'CUADRO INFORMATIVO'!G120","v":" "},{"$f":"'CUADRO INFORMATIVO'!H120","v":" "},{"$error":"#VALUE!"},{"$error":"#VALUE!"},{"$error":"#VALUE!"},"0 - 0",{"$error":"#VALUE!"},{"$error":"#VALUE!"},{"$error":"#VALUE!"},{"$error":"#VALUE!"},{"$error":"#VALUE!"},{"$error":"#VALUE!"},{"$error":"#VALUE!"},{"$error":"#VALUE!"},{"$error":"#VALUE!"},{"$error":"#VALUE!"},{"$error":"#VALUE!"}]
[{"$f":"'CUADRO INFORMATIVO'!F121","v":0},{"$f":"'CUADRO INFORMATIVO'!G121","v":" "},{"$f":"'CUADRO INFORMATIVO'!H121","v":" "},{"$error":"#VALUE!"},{"$error":"#VALUE!"},{"$error":"#VALUE!"},"0 - 0",{"$error":"#VALUE!"},{"$error":"#VALUE!"},{"$error":"#VALUE!"},{"$error":"#VALUE!"},{"$error":"#VALUE!"},{"$error":"#VALUE!"},{"$error":"#VALUE!"},{"$error":"#VALUE!"},{"$error":"#VALUE!"},{"$error":"#VALUE!"},{"$error":"#VALUE!"}]
[{"$f":"'CUADRO INFORMATIVO'!F122","v":0},{"$f":"'CUADRO INFORMATIVO'!G122","v":" "},{"$f":"'CUADRO INFORMATIVO'!H122","v":" "},{"$error":"#VALUE!"},{"$error":"#VALUE!"},{"$error":"#VALUE!"},"0 - 0",{"$error":"#VALUE!"},{"$error":"#VALUE!"},{"$error":"#VALUE!"},{"$error":"#VALUE!"},{"$error":"#VALUE!"},{"$error":"#VALUE!"},{"$error":"#VALUE!"},{"$error":"#VALUE!"},{"$error":"#VALUE!"},{"$error":"#VALUE!"},{"$error":"#VALUE!"}]
[{"$f":"'CUADRO INFORMATIVO'!F123","v":0},{"$f":"'CUADRO INFORMATIVO'!G123","v":" "},{"$f":"'CUADRO INFORMATIVO'!H123","v":" "},{"$error":"#VALUE!"},{"$error":"#VALUE!"},{"$error":"#VALUE!"},"0 - 0",{"$error":"#VALUE!"},{"$error":"#VALUE!"},{"$error":"#VALUE!"},{"$error":"#VALUE!"},{"$error":"#VALUE!"},{"$error":"#VALUE!"},{"$error":"#VALUE!"},{"$error":"#VALUE!"},{"$error":"#VALUE!"},{"$error":"#VALUE!"},{"$error":"#VALUE!"}]
[{"$f":"'CUADRO INFORMATIVO'!F124","v":0},{"$f":"'CUADRO INFORMATIVO'!G124","v":" "},{"$f":"'CUADRO INFORMATIVO'!H124","v":" "},{"$error":"#VALUE!"},{"$error":"#VALUE!"},{"$error":"#VALUE!"},"0 - 0",{"$error":"#VALUE!"},{"$error":"#VALUE!"},{"$error":"#VALUE!"},{"$error":"#VALUE!"},{"$error":"#VALUE!"},{"$error":"#VALUE!"},{"$error":"#VALUE!"},{"$error":"#VALUE!"},{"$error":"#VALUE!"},{"$error":"#VALUE!"},{"$error":"#VALUE!"}]
[{"$f":"'CUADRO INFORMATIVO'!F125","v":0},{"$f":"'CUADRO INFORMATIVO'!G125","v":" "},{"$f":"'CUADRO INFORMATIVO'!H125","v":" "},{"$error":"#VALUE!"},{"$error":"#VALUE!"},{"$error":"#VALUE!"},"0 - 0",{"$error":"#VALUE!"},{"$error":"#VALUE!"},{"$error":"#VALUE!"},{"$error":"#VALUE!"},{"$error":"#VALUE!"},{"$error":"#VALUE!"},{"$error":"#VALUE!"},{"$error":"#VALUE!"},{"$error":"#VALUE!"},{"$error":"#VALUE!"},{"$error":"#VALUE!"}]
[{"$f":"'CUADRO INFORMATIVO'!F126","v":0},{"$f":"'CUADRO INFORMATIVO'!G126","v":" "},{"$f":"'CUADRO INFORMATIVO'!H126","v":" "},{"$error":"#VALUE!"},{"$error":"#VALUE!"},{"$error":"#VALUE!"},"0 - 0",{"$error":"#VALUE!"},{"$error":"#VALUE!"},{"$error":"#VALUE!"},{"$error":"#VALUE!"},{"$error":"#VALUE!"},{"$error":"#VALUE!"},{"$error":"#VALUE!"},{"$error":"#VALUE!"},{"$error":"#VALUE!"},{"$error":"#VALUE!"},{"$error":"#VALUE!"}]
[{"$f":"'CUADRO INFORMATIVO'!F127","v":0},{"$f":"'CUADRO INFORMATIVO'!G127","v":" "},{"$f":"'CUADRO INFORMATIVO'!H127","v":" "},{"$error":"#VALUE!"},{"$error":"#VALUE!"},{"$error":"#VALUE!"},"0 - 0",{"$error":"#VALUE!"},{"$error":"#VALUE!"},{"$error":"#VALUE!"},{"$error":"#VALUE!"},{"$error":"#VALUE!"},{"$error":"#VALUE!"},{"$error":"#VALUE!"},{"$error":"#VALUE!"},{"$error":"#VALUE!"},{"$error":"#VALUE!"},{"$error":"#VALUE!"}]
[{"$f":"'CUADRO INFORMATIVO'!F128","v":0},{"$f":"'CUADRO INFORMATIVO'!G128","v":" "},{"$f":"'CUADRO INFORMATIVO'!H128","v":" "},{"$error":"#VALUE!"},{"$error":"#VALUE!"},{"$error":"#VALUE!"},"0 - 0",{"$error":"#VALUE!"},{"$error":"#VALUE!"},{"$error":"#VALUE!"},{"$error":"#VALUE!"},{"$error":"#VALUE!"},{"$error":"#VALUE!"},{"$error":"#VALUE!"},{"$error":"#VALUE!"},{"$error":"#VALUE!"},{"$error":"#VALUE!"},{"$error":"#VALUE!"}]
[{"$f":"'CUADRO INFORMATIVO'!F129","v":0},{"$f":"'CUADRO INFORMATIVO'!G129","v":" "},{"$f":"'CUADRO INFORMATIVO'!H129","v":" "},{"$error":"#VALUE!"},{"$error":"#VALUE!"},{"$error":"#VALUE!"},"0 - 0",{"$error":"#VALUE!"},{"$error":"#VALUE!"},{"$error":"#VALUE!"},{"$error":"#VALUE!"},{"$error":"#VALUE!"},{"$error":"#VALUE!"},{"$error":"#VALUE!"},{"$error":"#VALUE!"},{"$error":"#VALUE!"},{"$error":"#VALUE!"},{"$error":"#VALUE!"}]
[{"$f":"'CUADRO INFORMATIVO'!F130","v":0},{"$f":"'CUADRO INFORMATIVO'!G130","v":" "},{"$f":"'CUADRO INFORMATIVO'!H130","v":" "},{"$error":"#VALUE!"},{"$error":"#VALUE!"},{"$error":"#VALUE!"},"0 - 0",{"$error":"#VALUE!"},{"$error":"#VALUE!"},{"$error":"#VALUE!"},{"$error":"#VALUE!"},{"$error":"#VALUE!"},{"$error":"#VALUE!"},{"$error":"#VALUE!"},{"$error":"#VALUE!"},{"$error":"#VALUE!"},{"$error":"#VALUE!"},{"$error":"#VALUE!"}]
[{"$f":"'CUADRO INFORMATIVO'!F131","v":0},{"$f":"'CUADRO INFORMATIVO'!G131","v":" "},{"$f":"'CUADRO INFORMATIVO'!H131","v":" "},{"$error":"#VALUE!"},{"$error":"#VALUE!"},{"$error":"#VALUE!"},"0 - 0",{"$error":"#VALUE!"},{"$error":"#VALUE!"},{"$error":"#VALUE!"},{"$error":"#VALUE!"},{"$error":"#VALUE!"},{"$error":"#VALUE!"},{"$error":"#VALUE!"},{"$error":"#VALUE!"},{"$error":"#VALUE!"},{"$error":"#VALUE!"},{"$error":"#VALUE!"}]
[{"$f":"'CUADRO INFORMATIVO'!F132","v":0},{"$f":"'CUADRO INFORMATIVO'!G132","v":" "},{"$f":"'CUADRO INFORMATIVO'!H132","v":" "},{"$error":"#VALUE!"},{"$error":"#VALUE!"},{"$error":"#VALUE!"},"0 - 0",{"$error":"#VALUE!"},{"$error":"#VALUE!"},{"$error":"#VALUE!"},{"$error":"#VALUE!"},{"$error":"#VALUE!"},{"$error":"#VALUE!"},{"$error":"#VALUE!"},{"$error":"#VALUE!"},{"$error":"#VALUE!"},{"$error":"#VALUE!"},{"$error":"#VALUE!"}]
[{"$f":"'CUADRO INFORMATIVO'!F133","v":0},{"$f":"'CUADRO INFORMATIVO'!G133","v":" "},{"$f":"'CUADRO INFORMATIVO'!H133","v":" "},{"$error":"#VALUE!"},{"$error":"#VALUE!"},{"$error":"#VALUE!"},"0 - 0",{"$error":"#VALUE!"},{"$f":"DEGREES(ATAN(E130/D130))","v":{"$error":"#VALUE!"}},{"$error":"#VALUE!"},{"$error":"#VALUE!"},{"$error":"#VALUE!"},{"$error":"#VALUE!"},{"$error":"#VALUE!"},{"$f":"IF(L130=1,K130,IF(L130=2,180-K130,IF(L130=3,K130-180,IF(L130=4,360-K130))))","v":{"$error":"#VALUE!"}},{"$f":"ROUNDDOWN(K130,0)&\"°\"&ROUNDDOWN((K130-ROUNDDOWN(K130,0))*60,0)&\"'\"&(ROUNDDOWN((((K130-ROUNDDOWN(K130,0))*60)-(ROUNDDOWN(((K130-ROUNDDOWN(K130,0))*60),0)))*60,2))&\"''\"","v":{"$error":"#VALUE!"}},{"$error":"#VALUE!"},{"$error":"#VALUE!"}]
[{"$f":"'CUADRO INFORMATIVO'!F134","v":0},{"$f":"'CUADRO INFORMATIVO'!G134","v":" "},{"$f":"'CUADRO INFORMATIVO'!H134","v":" "},{"$error":"#VALUE!"},{"$error":"#VALUE!"},{"$f":"SQRT((D131^2)+(E131^2))","v":{"$error":"#VALUE!"}},{"$f":"A131&\" - \"&A132","v":"0 - 0"},{"$f":"IF(D131>=0,\"+\",\"-\")&IF(E131>=0,\"+\",\"-\")","v":{"$error":"#VALUE!"}},{"$error":"#VALUE!"},{"$f":"IF(H131=\"++\",I131,IF(H131=\"+-\",I131,IF(H131=\"-+\",I131-180,IF(H131=\"--\",I131+180))))","v":{"$error":"#VALUE!"}},{"$f":"IF(J131>=0,J131,360+J131)","v":{"$error":"#VALUE!"}},{"$f":"IF(K131<=90,1,IF(K131<=180,2,IF(K131<=270,3,IF(K131<=360,4))))","v":{"$error":"#VALUE!"}},{"$f":"IF(L131=1,\"N\",IF(L131=2,\"S\",IF(L131=3,\"S\",IF(L131=4,\"N\"))))","v":{"$error":"#VALUE!"}},{"$f":"IF(L131=1,\"E\",IF(L131=2,\"E\",IF(L131=3,\"W\",IF(L131=4,\"W\"))))","v":{"$error":"#VALUE!"}},{"$error":"#VALUE!"},{"$error":"#VALUE!"},{"$f":"ROUNDDOWN(O131,0)&\"°\"&ROUNDDOWN((O131-ROUNDDOWN(O131,0))*60,0)&\"'\"&(ROUNDDOWN((((O131-ROUNDDOWN(O131,0))*60)-(ROUNDDOWN(((O131-ROUNDDOWN(O131,0))*60),0)))*60,2))&\"''\"","v":{"$error":"#VALUE!"}},{"$f":"M131&\" \"&Q131&\" \"&N131","v":{"$error":"#VALUE!"}}]
[{"$f":"'CUADRO INFORMATIVO'!F135","v":0},{"$f":"'CUADRO INFORMATIVO'!G135","v":" "},{"$f":"'CUADRO INFORMATIVO'!H135","v":" "},{"$f":"IF(B132<>0,IF(B133=0,$B$2-B132,B133-B132),0)","v":{"$error":"#VALUE!"}},{"$f":"IF(C132<>0,IF(C133=0,$C$2-C132,C133-C132),0)","v":{"$error":"#VALUE!"}},{"$error":"#VALUE!"},"0 - 0",{"$error":"#VALUE!"},{"$error":"#VALUE!"},{"$error":"#VALUE!"},{"$error":"#VALUE!"},{"$error":"#VALUE!"},{"$error":"#VALUE!"},{"$error":"#VALUE!"},{"$error":"#VALUE!"},{"$error":"#VALUE!"},{"$error":"#VALUE!"},{"$error":"#VALUE!"}]
[{"$f":"'CUADRO INFORMATIVO'!F136","v":0},{"$f":"'CUADRO INFORMATIVO'!G136","v":" "},{"$f":"'CUADRO INFORMATIVO'!H136","v":" "},{"$error":"#VALUE!"},{"$error":"#VALUE!"},{"$error":"#VALUE!"},"0 - 0",{"$error":"#VALUE!"},{"$error":"#VALUE!"},{"$error":"#VALUE!"},{"$error":"#VALUE!"},{"$error":"#VALUE!"},{"$error":"#VALUE!"},{"$error":"#VALUE!"},{"$error":"#VALUE!"},{"$error":"#VALUE!"},{"$error":"#VALUE!"},{"$error":"#VALUE!"}]
[{"$f":"'CUADRO INFORMATIVO'!F137","v":0},{"$f":"'CUADRO INFORMATIVO'!G137","v":" "},{"$f":"'CUADRO INFORMATIVO'!H137","v":" "},{"$error":"#VALUE!"},{"$error":"#VALUE!"},{"$error":"#VALUE!"},"0 - 0",{"$error":"#VALUE!"},{"$error":"#VALUE!"},{"$error":"#VALUE!"},{"$error":"#VALUE!"},{"$error":"#VALUE!"},{"$error":"#VALUE!"},{"$error":"#VALUE!"},{"$error":"#VALUE!"},{"$error":"#VALUE!"},{"$error":"#VALUE!"},{"$error":"#VALUE!"}]
[{"$f":"'CUADRO INFORMATIVO'!F138","v":0},{"$f":"'CUADRO INFORMATIVO'!G138","v":" "},{"$f":"'CUADRO INFORMATIVO'!H138","v":" "},{"$error":"#VALUE!"},{"$error":"#VALUE!"},{"$error":"#VALUE!"},"0 - 0",{"$error":"#VALUE!"},{"$error":"#VALUE!"},{"$error":"#VALUE!"},{"$error":"#VALUE!"},{"$error":"#VALUE!"},{"$error":"#VALUE!"},{"$error":"#VALUE!"},{"$error":"#VALUE!"},{"$error":"#VALUE!"},{"$error":"#VALUE!"},{"$error":"#VALUE!"}]
[{"$f":"'CUADRO INFORMATIVO'!F139","v":0},{"$f":"'CUADRO INFORMATIVO'!G139","v":" "},{"$f":"'CUADRO INFORMATIVO'!H139","v":" "},{"$error":"#VALUE!"},{"$error":"#VALUE!"},{"$error":"#VALUE!"},"0 - 0",{"$error":"#VALUE!"},{"$error":"#VALUE!"},{"$error":"#VALUE!"},{"$error":"#VALUE!"},{"$error":"#VALUE!"},{"$error":"#VALUE!"},{"$error":"#VALUE!"},{"$error":"#VALUE!"},{"$error":"#VALUE!"},{"$error":"#VALUE!"},{"$error":"#VALUE!"}]
[{"$f":"'CUADRO INFORMATIVO'!F140","v":0},{"$f":"'CUADRO INFORMATIVO'!G140","v":" "},{"$f":"'CUADRO INFORMATIVO'!H140","v":" "},{"$error":"#VALUE!"},{"$error":"#VALUE!"},{"$error":"#VALUE!"},"0 - 0",{"$error":"#VALUE!"},{"$error":"#VALUE!"},{"$error":"#VALUE!"},{"$error":"#VALUE!"},{"$error":"#VALUE!"},{"$error":"#VALUE!"},{"$error":"#VALUE!"},{"$error":"#VALUE!"},{"$error":"#VALUE!"},{"$error":"#VALUE!"},{"$error":"#VALUE!"}]
[{"$f":"'CUADRO INFORMATIVO'!F141","v":0},{"$f":"'CUADRO INFORMATIVO'!G141","v":" "},{"$f":"'CUADRO INFORMATIVO'!H141","v":" "},{"$error":"#VALUE!"},{"$error":"#VALUE!"},{"$error":"#VALUE!"},"0 - 0",{"$error":"#VALUE!"},{"$error":"#VALUE!"},{"$error":"#VALUE!"},{"$error":"#VALUE!"},{"$error":"#VALUE!"},{"$error":"#VALUE!"},{"$error":"#VALUE!"},{"$error":"#VALUE!"},{"$error":"#VALUE!"},{"$error":"#VALUE!"},{"$error":"#VALUE!"}]
[{"$f":"'CUADRO INFORMATIVO'!F142","v":0},{"$f":"'CUADRO INFORMATIVO'!G142","v":" "},{"$f":"'CUADRO INFORMATIVO'!H142","v":" "},{"$error":"#VALUE!"},{"$error":"#VALUE!"},{"$error":"#VALUE!"},"0 - 0",{"$error":"#VALUE!"},{"$error":"#VALUE!"},{"$error":"#VALUE!"},{"$error":"#VALUE!"},{"$error":"#VALUE!"},{"$error":"#VALUE!"},{"$error":"#VALUE!"},{"$error":"#VALUE!"},{"$error":"#VALUE!"},{"$error":"#VALUE!"},{"$error":"#VALUE!"}]
[{"$f":"'CUADRO INFORMATIVO'!F143","v":0},{"$f":"'CUADRO INFORMATIVO'!G143","v":" "},{"$f":"'CUADRO INFORMATIVO'!H143","v":" "},{"$error":"#VALUE!"},{"$error":"#VALUE!"},{"$error":"#VALUE!"},"0 - 0",{"$error":"#VALUE!"},{"$error":"#VALUE!"},{"$error":"#VALUE!"},{"$error":"#VALUE!"},{"$error":"#VALUE!"},{"$error":"#VALUE!"},{"$error":"#VALUE!"},{"$error":"#VALUE!"},{"$error":"#VALUE!"},{"$error":"#VALUE!"},{"$error":"#VALUE!"}]
[{"$f":"'CUADRO INFORMATIVO'!F144","v":0},{"$f":"'CUADRO INFORMATIVO'!G144","v":" "},{"$f":"'CUADRO INFORMATIVO'!H144","v":" "},{"$error":"#VALUE!"},{"$error":"#VALUE!"},{"$error":"#VALUE!"},"0 - 0",{"$error":"#VALUE!"},{"$error":"#VALUE!"},{"$error":"#VALUE!"},{"$error":"#VALUE!"},{"$error":"#VALUE!"},{"$error":"#VALUE!"},{"$error":"#VALUE!"},{"$error":"#VALUE!"},{"$error":"#VALUE!"},{"$error":"#VALUE!"},{"$error":"#VALUE!"}]
[{"$f":"'CUADRO INFORMATIVO'!F145","v":0},{"$f":"'CUADRO INFORMATIVO'!G145","v":" "},{"$f":"'CUADRO INFORMATIVO'!H145","v":" "},{"$error":"#VALUE!"},{"$error":"#VALUE!"},{"$error":"#VALUE!"},"0 - 0",{"$error":"#VALUE!"},{"$error":"#VALUE!"},{"$error":"#VALUE!"},{"$error":"#VALUE!"},{"$error":"#VALUE!"},{"$error":"#VALUE!"},{"$error":"#VALUE!"},{"$error":"#VALUE!"},{"$error":"#VALUE!"},{"$error":"#VALUE!"},{"$error":"#VALUE!"}]
[{"$f":"'CUADRO INFORMATIVO'!F146","v":0},{"$f":"'CUADRO INFORMATIVO'!G146","v":" "},{"$f":"'CUADRO INFORMATIVO'!H146","v":" "},{"$error":"#VALUE!"},{"$error":"#VALUE!"},{"$error":"#VALUE!"},"0 - 0",{"$error":"#VALUE!"},{"$error":"#VALUE!"},{"$error":"#VALUE!"},{"$error":"#VALUE!"},{"$error":"#VALUE!"},{"$error":"#VALUE!"},{"$error":"#VALUE!"},{"$error":"#VALUE!"},{"$error":"#VALUE!"},{"$error":"#VALUE!"},{"$error":"#VALUE!"}]
[{"$f":"'CUADRO INFORMATIVO'!F147","v":0},{"$f":"'CUADRO INFORMATIVO'!G147","v":" "},{"$f":"'CUADRO INFORMATIVO'!H147","v":" "},{"$error":"#VALUE!"},{"$error":"#VALUE!"},{"$error":"#VALUE!"},"0 - 0",{"$error":"#VALUE!"},{"$error":"#VALUE!"},{"$error":"#VALUE!"},{"$error":"#VALUE!"},{"$error":"#VALUE!"},{"$error":"#VALUE!"},{"$error":"#VALUE!"},{"$error":"#VALUE!"},{"$error":"#VALUE!"},{"$error":"#VALUE!"},{"$error":"#VALUE!"}]
[{"$f":"'CUADRO INFORMATIVO'!F148","v":0},{"$f":"'CUADRO INFORMATIVO'!G148","v":" "},{"$f":"'CUADRO INFORMATIVO'!H148","v":" "},{"$error":"#VALUE!"},{"$error":"#VALUE!"},{"$error":"#VALUE!"},"0 - 0",{"$error":"#VALUE!"},{"$error":"#VALUE!"},{"$error":"#VALUE!"},{"$error":"#VALUE!"},{"$error":"#VALUE!"},{"$error":"#VALUE!"},{"$error":"#VALUE!"},{"$error":"#VALUE!"},{"$error":"#VALUE!"},{"$error":"#VALUE!"},{"$error":"#VALUE!"}]
[{"$f":"'CUADRO INFORMATIVO'!F149","v":0},{"$f":"'CUADRO INFORMATIVO'!G149","v":" "},{"$f":"'CUADRO INFORMATIVO'!H149","v":" "},{"$error":"#VALUE!"},{"$error":"#VALUE!"},{"$error":"#VALUE!"},"0 - 0",{"$error":"#VALUE!"},{"$error":"#VALUE!"},{"$error":"#VALUE!"},{"$error":"#VALUE!"},{"$error":"#VALUE!"},{"$error":"#VALUE!"},{"$error":"#VALUE!"},{"$error":"#VALUE!"},{"$error":"#VALUE!"},{"$error":"#VALUE!"},{"$error":"#VALUE!"}]
[{"$f":"'CUADRO INFORMATIVO'!F150","v":0},{"$f":"'CUADRO INFORMATIVO'!G150","v":" "},{"$f":"'CUADRO INFORMATIVO'!H150","v":" "},{"$error":"#VALUE!"},{"$error":"#VALUE!"},{"$error":"#VALUE!"},"0 - 0",{"$error":"#VALUE!"},{"$error":"#VALUE!"},{"$error":"#VALUE!"},{"$error":"#VALUE!"},{"$error":"#VALUE!"},{"$error":"#VALUE!"},{"$error":"#VALUE!"},{"$error":"#VALUE!"},{"$error":"#VALUE!"},{"$error":"#VALUE!"},{"$error":"#VALUE!"}]
[{"$f":"'CUADRO INFORMATIVO'!F151","v":0},{"$f":"'CUADRO INFORMATIVO'!G151","v":" "},{"$f":"'CUADRO INFORMATIVO'!H151","v":" "},{"$error":"#VALUE!"},{"$error":"#VALUE!"},{"$error":"#VALUE!"},"0 - 0",{"$error":"#VALUE!"},{"$error":"#VALUE!"},{"$error":"#VALUE!"},{"$error":"#VALUE!"},{"$error":"#VALUE!"},{"$error":"#VALUE!"},{"$error":"#VALUE!"},{"$error":"#VALUE!"},{"$error":"#VALUE!"},{"$error":"#VALUE!"},{"$error":"#VALUE!"}]
[{"$f":"'CUADRO INFORMATIVO'!F152","v":0},{"$f":"'CUADRO INFORMATIVO'!G152","v":" "},{"$f":"'CUADRO INFORMATIVO'!H152","v":" "},{"$error":"#VALUE!"},{"$error":"#VALUE!"},{"$error":"#VALUE!"},"0 - 0",{"$error":"#VALUE!"},{"$error":"#VALUE!"},{"$error":"#VALUE!"},{"$error":"#VALUE!"},{"$error":"#VALUE!"},{"$error":"#VALUE!"},{"$error":"#VALUE!"},{"$error":"#VALUE!"},{"$error":"#VALUE!"},{"$error":"#VALUE!"},{"$error":"#VALUE!"}]
[{"$f":"'CUADRO INFORMATIVO'!F153","v":0},{"$f":"'CUADRO INFORMATIVO'!G153","v":" "},{"$f":"'CUADRO INFORMATIVO'!H153","v":" "},{"$error":"#VALUE!"},{"$error":"#VALUE!"},{"$error":"#VALUE!"},"0 - 0",{"$error":"#VALUE!"},{"$error":"#VALUE!"},{"$error":"#VALUE!"},{"$error":"#VALUE!"},{"$error":"#VALUE!"},{"$error":"#VALUE!"},{"$error":"#VALUE!"},{"$error":"#VALUE!"},{"$error":"#VALUE!"},{"$error":"#VALUE!"},{"$error":"#VALUE!"}]
[{"$f":"'CUADRO INFORMATIVO'!F154","v":0},{"$f":"'CUADRO INFORMATIVO'!G154","v":" "},{"$f":"'CUADRO INFORMATIVO'!H154","v":" "},{"$error":"#VALUE!"},{"$error":"#VALUE!"},{"$error":"#VALUE!"},"0 - 0",{"$error":"#VALUE!"},{"$error":"#VALUE!"},{"$error":"#VALUE!"},{"$error":"#VALUE!"},{"$error":"#VALUE!"},{"$error":"#VALUE!"},{"$error":"#VALUE!"},{"$error":"#VALUE!"},{"$error":"#VALUE!"},{"$error":"#VALUE!"},{"$error":"#VALUE!"}]
[{"$f":"'CUADRO INFORMATIVO'!F155","v":0},{"$f":"'CUADRO INFORMATIVO'!G155","v":" "},{"$f":"'CUADRO INFORMATIVO'!H155","v":" "},{"$error":"#VALUE!"},{"$error":"#VALUE!"},{"$error":"#VALUE!"},"0 - 0",{"$error":"#VALUE!"},{"$error":"#VALUE!"},{"$error":"#VALUE!"},{"$error":"#VALUE!"},{"$error":"#VALUE!"},{"$error":"#VALUE!"},{"$error":"#VALUE!"},{"$error":"#VALUE!"},{"$error":"#VALUE!"},{"$error":"#VALUE!"},{"$error":"#VALUE!"}]
[{"$f":"'CUADRO INFORMATIVO'!F156","v":0},{"$f":"'CUADRO INFORMATIVO'!G156","v":" "},{"$f":"'CUADRO INFORMATIVO'!H156","v":" "},{"$error":"#VALUE!"},{"$error":"#VALUE!"},{"$error":"#VALUE!"},"0 - 0",{"$error":"#VALUE!"},{"$error":"#VALUE!"},{"$error":"#VALUE!"},{"$error":"#VALUE!"},{"$error":"#VALUE!"},{"$error":"#VALUE!"},{"$error":"#VALUE!"},{"$error":"#VALUE!"},{"$error":"#VALUE!"},{"$error":"#VALUE!"},{"$error":"#VALUE!"}]
[{"$f":"'CUADRO INFORMATIVO'!F157","v":0},{"$f":"'CUADRO INFORMATIVO'!G157","v":" "},{"$f":"'CUADRO INFORMATIVO'!H157","v":" "},{"$error":"#VALUE!"},{"$error":"#VALUE!"},{"$error":"#VALUE!"},"0 - 0",{"$error":"#VALUE!"},{"$error":"#VALUE!"},{"$error":"#VALUE!"},{"$error":"#VALUE!"},{"$error":"#VALUE!"},{"$error":"#VALUE!"},{"$error":"#VALUE!"},{"$error":"#VALUE!"},{"$error":"#VALUE!"},{"$error":"#VALUE!"},{"$error":"#VALUE!"}]
[{"$f":"'CUADRO INFORMATIVO'!F158","v":0},{"$f":"'CUADRO INFORMATIVO'!G158","v":" "},{"$f":"'CUADRO INFORMATIVO'!H158","v":" "},{"$error":"#VALUE!"},{"$error":"#VALUE!"},{"$error":"#VALUE!"},"0 - 0",{"$error":"#VALUE!"},{"$error":"#VALUE!"},{"$error":"#VALUE!"},{"$error":"#VALUE!"},{"$error":"#VALUE!"},{"$error":"#VALUE!"},{"$error":"#VALUE!"},{"$error":"#VALUE!"},{"$error":"#VALUE!"},{"$error":"#VALUE!"},{"$error":"#VALUE!"}]
[{"$f":"'CUADRO INFORMATIVO'!F159","v":0},{"$f":"'CUADRO INFORMATIVO'!G159","v":" "},{"$f":"'CUADRO INFORMATIVO'!H159","v":" "},{"$error":"#VALUE!"},{"$error":"#VALUE!"},{"$error":"#VALUE!"},"0 - 0",{"$error":"#VALUE!"},{"$error":"#VALUE!"},{"$error":"#VALUE!"},{"$error":"#VALUE!"},{"$error":"#VALUE!"},{"$error":"#VALUE!"},{"$error":"#VALUE!"},{"$error":"#VALUE!"},{"$error":"#VALUE!"},{"$error":"#VALUE!"},{"$error":"#VALUE!"}]
[{"$f":"'CUADRO INFORMATIVO'!F160","v":0},{"$f":"'CUADRO INFORMATIVO'!G160","v":" "},{"$f":"'CUADRO INFORMATIVO'!H160","v":" "},{"$error":"#VALUE!"},{"$error":"#VALUE!"},{"$error":"#VALUE!"},"0 - 0",{"$error":"#VALUE!"},{"$error":"#VALUE!"},{"$error":"#VALUE!"},{"$error":"#VALUE!"},{"$error":"#VALUE!"},{"$error":"#VALUE!"},{"$error":"#VALUE!"},{"$error":"#VALUE!"},{"$error":"#VALUE!"},{"$error":"#VALUE!"},{"$error":"#VALUE!"}]
[{"$f":"'CUADRO INFORMATIVO'!F161","v":0},{"$f":"'CUADRO INFORMATIVO'!G161","v":" "},{"$f":"'CUADRO INFORMATIVO'!H161","v":" "},{"$error":"#VALUE!"},{"$error":"#VALUE!"},{"$error":"#VALUE!"},"0 - 0",{"$error":"#VALUE!"},{"$error":"#VALUE!"},{"$error":"#VALUE!"},{"$error":"#VALUE!"},{"$error":"#VALUE!"},{"$error":"#VALUE!"},{"$error":"#VALUE!"},{"$error":"#VALUE!"},{"$error":"#VALUE!"},{"$error":"#VALUE!"},{"$error":"#VALUE!"}]
[{"$f":"'CUADRO INFORMATIVO'!F162","v":0},{"$f":"'CUADRO INFORMATIVO'!G162","v":" "},{"$f":"'CUADRO INFORMATIVO'!H162","v":" "},{"$error":"#VALUE!"},{"$error":"#VALUE!"},{"$error":"#VALUE!"},"0 - 0",{"$error":"#VALUE!"},{"$error":"#VALUE!"},{"$error":"#VALUE!"},{"$error":"#VALUE!"},{"$error":"#VALUE!"},{"$error":"#VALUE!"},{"$error":"#VALUE!"},{"$error":"#VALUE!"},{"$error":"#VALUE!"},{"$error":"#VALUE!"},{"$error":"#VALUE!"}]
[{"$f":"'CUADRO INFORMATIVO'!F163","v":0},{"$f":"'CUADRO INFORMATIVO'!G163","v":" "},{"$f":"'CUADRO INFORMATIVO'!H163","v":" "},{"$error":"#VALUE!"},{"$error":"#VALUE!"},{"$error":"#VALUE!"},"0 - 0",{"$error":"#VALUE!"},{"$error":"#VALUE!"},{"$error":"#VALUE!"},{"$error":"#VALUE!"},{"$error":"#VALUE!"},{"$error":"#VALUE!"},{"$error":"#VALUE!"},{"$error":"#VALUE!"},{"$error":"#VALUE!"},{"$error":"#VALUE!"},{"$error":"#VALUE!"}]
[{"$f":"'CUADRO INFORMATIVO'!F164","v":0},{"$f":"'CUADRO INFORMATIVO'!G164","v":" "},{"$f":"'CUADRO INFORMATIVO'!H164","v":" "},{"$error":"#VALUE!"},{"$error":"#VALUE!"},{"$error":"#VALUE!"},"0 - 0",{"$error":"#VALUE!"},{"$error":"#VALUE!"},{"$error":"#VALUE!"},{"$error":"#VALUE!"},{"$error":"#VALUE!"},{"$error":"#VALUE!"},{"$error":"#VALUE!"},{"$error":"#VALUE!"},{"$error":"#VALUE!"},{"$error":"#VALUE!"},{"$error":"#VALUE!"}]
[{"$f":"'CUADRO INFORMATIVO'!F165","v":0},{"$f":"'CUADRO INFORMATIVO'!G165","v":" "},{"$f":"'CUADRO INFORMATIVO'!H165","v":" "},{"$error":"#VALUE!"},{"$error":"#VALUE!"},{"$error":"#VALUE!"},"0 - 0",{"$error":"#VALUE!"},{"$error":"#VALUE!"},{"$error":"#VALUE!"},{"$error":"#VALUE!"},{"$error":"#VALUE!"},{"$error":"#VALUE!"},{"$error":"#VALUE!"},{"$error":"#VALUE!"},{"$error":"#VALUE!"},{"$error":"#VALUE!"},{"$error":"#VALUE!"}]
[{"$f":"'CUADRO INFORMATIVO'!F166","v":0},{"$f":"'CUADRO INFORMATIVO'!G166","v":" "},{"$f":"'CUADRO INFORMATIVO'!H166","v":" "},{"$error":"#VALUE!"},{"$error":"#VALUE!"},{"$error":"#VALUE!"},"0 - 0",{"$error":"#VALUE!"},{"$error":"#VALUE!"},{"$error":"#VALUE!"},{"$error":"#VALUE!"},{"$error":"#VALUE!"},{"$error":"#VALUE!"},{"$error":"#VALUE!"},{"$error":"#VALUE!"},{"$error":"#VALUE!"},{"$error":"#VALUE!"},{"$error":"#VALUE!"}]
[{"$f":"'CUADRO INFORMATIVO'!F167","v":0},{"$f":"'CUADRO INFORMATIVO'!G167","v":" "},{"$f":"'CUADRO INFORMATIVO'!H167","v":" "},{"$error":"#VALUE!"},{"$error":"#VALUE!"},{"$error":"#VALUE!"},"0 - 0",{"$error":"#VALUE!"},{"$error":"#VALUE!"},{"$error":"#VALUE!"},{"$error":"#VALUE!"},{"$error":"#VALUE!"},{"$error":"#VALUE!"},{"$error":"#VALUE!"},{"$error":"#VALUE!"},{"$error":"#VALUE!"},{"$error":"#VALUE!"},{"$error":"#VALUE!"}]
[{"$f":"'CUADRO INFORMATIVO'!F168","v":0},{"$f":"'CUADRO INFORMATIVO'!G168","v":" "},{"$f":"'CUADRO INFORMATIVO'!H168","v":" "},{"$error":"#VALUE!"},{"$error":"#VALUE!"},{"$error":"#VALUE!"},"0 - 0",{"$error":"#VALUE!"},{"$error":"#VALUE!"},{"$error":"#VALUE!"},{"$error":"#VALUE!"},{"$error":"#VALUE!"},{"$error":"#VALUE!"},{"$error":"#VALUE!"},{"$error":"#VALUE!"},{"$error":"#VALUE!"},{"$error":"#VALUE!"},{"$error":"#VALUE!"}]
[{"$f":"'CUADRO INFORMATIVO'!F169","v":0},{"$f":"'CUADRO INFORMATIVO'!G169","v":" "},{"$f":"'CUADRO INFORMATIVO'!H169","v":" "},{"$error":"#VALUE!"},{"$error":"#VALUE!"},{"$error":"#VALUE!"},"0 - 0",{"$error":"#VALUE!"},{"$error":"#VALUE!"},{"$error":"#VALUE!"},{"$error":"#VALUE!"},{"$error":"#VALUE!"},{"$error":"#VALUE!"},{"$error":"#VALUE!"},{"$error":"#VALUE!"},{"$error":"#VALUE!"},{"$error":"#VALUE!"},{"$error":"#VALUE!"}]
[{"$f":"'CUADRO INFORMATIVO'!F170","v":0},{"$f":"'CUADRO INFORMATIVO'!G170","v":" "},{"$f":"'CUADRO INFORMATIVO'!H170","v":" "},{"$error":"#VALUE!"},{"$error":"#VALUE!"},{"$error":"#VALUE!"},"0 - 0",{"$error":"#VALUE!"},{"$error":"#VALUE!"},{"$error":"#VALUE!"},{"$error":"#VALUE!"},{"$error":"#VALUE!"},{"$error":"#VALUE!"},{"$error":"#VALUE!"},{"$error":"#VALUE!"},{"$error":"#VALUE!"},{"$error":"#VALUE!"},{"$error":"#VALUE!"}]
[{"$f":"'CUADRO INFORMATIVO'!F171","v":0},{"$f":"'CUADRO INFORMATIVO'!G171","v":" "},{"$f":"'CUADRO INFORMATIVO'!H171","v":" "},{"$error":"#VALUE!"},{"$error":"#VALUE!"},{"$error":"#VALUE!"},"0 - 0",{"$error":"#VALUE!"},{"$error":"#VALUE!"},{"$error":"#VALUE!"},{"$error":"#VALUE!"},{"$error":"#VALUE!"},{"$error":"#VALUE!"},{"$error":"#VALUE!"},{"$error":"#VALUE!"},{"$error":"#VALUE!"},{"$error":"#VALUE!"},{"$error":"#VALUE!"}]
[{"$f":"'CUADRO INFORMATIVO'!F172","v":0},{"$f":"'CUADRO INFORMATIVO'!G172","v":" "},{"$f":"'CUADRO INFORMATIVO'!H172","v":" "},{"$error":"#VALUE!"},{"$error":"#VALUE!"},{"$error":"#VALUE!"},"0 - 0",{"$error":"#VALUE!"},{"$error":"#VALUE!"},{"$error":"#VALUE!"},{"$error":"#VALUE!"},{"$error":"#VALUE!"},{"$error":"#VALUE!"},{"$error":"#VALUE!"},{"$error":"#VALUE!"},{"$error":"#VALUE!"},{"$error":"#VALUE!"},{"$error":"#VALUE!"}]
[{"$f":"'CUADRO INFORMATIVO'!F173","v":0},{"$f":"'CUADRO INFORMATIVO'!G173","v":" "},{"$f":"'CUADRO INFORMATIVO'!H173","v":" "},{"$error":"#VALUE!"},{"$error":"#VALUE!"},{"$error":"#VALUE!"},"0 - 0",{"$error":"#VALUE!"},{"$error":"#VALUE!"},{"$error":"#VALUE!"},{"$error":"#VALUE!"},{"$error":"#VALUE!"},{"$error":"#VALUE!"},{"$error":"#VALUE!"},{"$error":"#VALUE!"},{"$error":"#VALUE!"},{"$error":"#VALUE!"},{"$error":"#VALUE!"}]
[{"$f":"'CUADRO INFORMATIVO'!F174","v":0},{"$f":"'CUADRO INFORMATIVO'!G174","v":" "},{"$f":"'CUADRO INFORMATIVO'!H174","v":" "},{"$error":"#VALUE!"},{"$error":"#VALUE!"},{"$error":"#VALUE!"},"0 - 0",{"$error":"#VALUE!"},{"$error":"#VALUE!"},{"$error":"#VALUE!"},{"$error":"#VALUE!"},{"$error":"#VALUE!"},{"$error":"#VALUE!"},{"$error":"#VALUE!"},{"$error":"#VALUE!"},{"$error":"#VALUE!"},{"$error":"#VALUE!"},{"$error":"#VALUE!"}]
[{"$f":"'CUADRO INFORMATIVO'!F175","v":0},{"$f":"'CUADRO INFORMATIVO'!G175","v":" "},{"$f":"'CUADRO INFORMATIVO'!H175","v":" "},{"$error":"#VALUE!"},{"$error":"#VALUE!"},{"$error":"#VALUE!"},"0 - 0",{"$error":"#VALUE!"},{"$error":"#VALUE!"},{"$error":"#VALUE!"},{"$error":"#VALUE!"},{"$error":"#VALUE!"},{"$error":"#VALUE!"},{"$error":"#VALUE!"},{"$error":"#VALUE!"},{"$error":"#VALUE!"},{"$error":"#VALUE!"},{"$error":"#VALUE!"}]
[{"$f":"'CUADRO INFORMATIVO'!F176","v":0},{"$f":"'CUADRO INFORMATIVO'!G176","v":" "},{"$f":"'CUADRO INFORMATIVO'!H176","v":" "},{"$error":"#VALUE!"},{"$error":"#VALUE!"},{"$error":"#VALUE!"},"0 - 0",{"$error":"#VALUE!"},{"$error":"#VALUE!"},{"$error":"#VALUE!"},{"$error":"#VALUE!"},{"$error":"#VALUE!"},{"$error":"#VALUE!"},{"$error":"#VALUE!"},{"$error":"#VALUE!"},{"$error":"#VALUE!"},{"$error":"#VALUE!"},{"$error":"#VALUE!"}]
[{"$f":"'CUADRO INFORMATIVO'!F177","v":0},{"$f":"'CUADRO INFORMATIVO'!G177","v":" "},{"$f":"'CUADRO INFORMATIVO'!H177","v":" "},{"$error":"#VALUE!"},{"$error":"#VALUE!"},{"$error":"#VALUE!"},"0 - 0",{"$error":"#VALUE!"},{"$error":"#VALUE!"},{"$error":"#VALUE!"},{"$error":"#VALUE!"},{"$error":"#VALUE!"},{"$error":"#VALUE!"},{"$error":"#VALUE!"},{"$error":"#VALUE!"},{"$error":"#VALUE!"},{"$error":"#VALUE!"},{"$error":"#VALUE!"}]
[{"$f":"'CUADRO INFORMATIVO'!F178","v":0},{"$f":"'CUADRO INFORMATIVO'!G178","v":" "},{"$f":"'CUADRO INFORMATIVO'!H178","v":" "},{"$error":"#VALUE!"},{"$error":"#VALUE!"},{"$error":"#VALUE!"},"0 - 0",{"$error":"#VALUE!"},{"$error":"#VALUE!"},{"$error":"#VALUE!"},{"$error":"#VALUE!"},{"$error":"#VALUE!"},{"$error":"#VALUE!"},{"$error":"#VALUE!"},{"$error":"#VALUE!"},{"$error":"#VALUE!"},{"$error":"#VALUE!"},{"$error":"#VALUE!"}]
[{"$f":"'CUADRO INFORMATIVO'!F179","v":0},{"$f":"'CUADRO INFORMATIVO'!G179","v":" "},{"$f":"'CUADRO INFORMATIVO'!H179","v":" "},{"$error":"#VALUE!"},{"$error":"#VALUE!"},{"$error":"#VALUE!"},"0 - 0",{"$error":"#VALUE!"},{"$error":"#VALUE!"},{"$error":"#VALUE!"},{"$error":"#VALUE!"},{"$error":"#VALUE!"},{"$error":"#VALUE!"},{"$error":"#VALUE!"},{"$error":"#VALUE!"},{"$error":"#VALUE!"},{"$error":"#VALUE!"},{"$error":"#VALUE!"}]
[{"$f":"'CUADRO INFORMATIVO'!F180","v":0},{"$f":"'CUADRO INFORMATIVO'!G180","v":" "},{"$f":"'CUADRO INFORMATIVO'!H180","v":" "},{"$error":"#VALUE!"},{"$error":"#VALUE!"},{"$error":"#VALUE!"},"0 - 0",{"$error":"#VALUE!"},{"$error":"#VALUE!"},{"$error":"#VALUE!"},{"$error":"#VALUE!"},{"$error":"#VALUE!"},{"$error":"#VALUE!"},{"$error":"#VALUE!"},{"$error":"#VALUE!"},{"$error":"#VALUE!"},{"$error":"#VALUE!"},{"$error":"#VALUE!"}]
[{"$f":"'CUADRO INFORMATIVO'!F181","v":0},{"$f":"'CUADRO INFORMATIVO'!G181","v":" "},{"$f":"'CUADRO INFORMATIVO'!H181","v":" "},{"$error":"#VALUE!"},{"$error":"#VALUE!"},{"$error":"#VALUE!"},"0 - 0",{"$error":"#VALUE!"},{"$error":"#VALUE!"},{"$error":"#VALUE!"},{"$error":"#VALUE!"},{"$error":"#VALUE!"},{"$error":"#VALUE!"},{"$error":"#VALUE!"},{"$error":"#VALUE!"},{"$error":"#VALUE!"},{"$error":"#VALUE!"},{"$error":"#VALUE!"}]
[{"$f":"'CUADRO INFORMATIVO'!F182","v":0},{"$f":"'CUADRO INFORMATIVO'!G182","v":" "},{"$f":"'CUADRO INFORMATIVO'!H182","v":" "},{"$error":"#VALUE!"},{"$error":"#VALUE!"},{"$error":"#VALUE!"},"0 - 0",{"$error":"#VALUE!"},{"$error":"#VALUE!"},{"$error":"#VALUE!"},{"$error":"#VALUE!"},{"$error":"#VALUE!"},{"$error":"#VALUE!"},{"$error":"#VALUE!"},{"$error":"#VALUE!"},{"$error":"#VALUE!"},{"$error":"#VALUE!"},{"$error":"#VALUE!"}]
[{"$f":"'CUADRO INFORMATIVO'!F183","v":0},{"$f":"'CUADRO INFORMATIVO'!G183","v":" "},{"$f":"'CUADRO INFORMATIVO'!H183","v":" "},{"$error":"#VALUE!"},{"$error":"#VALUE!"},{"$error":"#VALUE!"},"0 - 0",{"$error":"#VALUE!"},{"$error":"#VALUE!"},{"$error":"#VALUE!"},{"$error":"#VALUE!"},{"$error":"#VALUE!"},{"$error":"#VALUE!"},{"$error":"#VALUE!"},{"$error":"#VALUE!"},{"$error":"#VALUE!"},{"$error":"#VALUE!"},{"$error":"#VALUE!"}]
[{"$f":"'CUADRO INFORMATIVO'!F184","v":0},{"$f":"'CUADRO INFORMATIVO'!G184","v":" "},{"$f":"'CUADRO INFORMATIVO'!H184","v":" "},{"$error":"#VALUE!"},{"$error":"#VALUE!"},{"$error":"#VALUE!"},"0 - 0",{"$error":"#VALUE!"},{"$error":"#VALUE!"},{"$error":"#VALUE!"},{"$error":"#VALUE!"},{"$error":"#VALUE!"},{"$error":"#VALUE!"},{"$error":"#VALUE!"},{"$error":"#VALUE!"},{"$error":"#VALUE!"},{"$error":"#VALUE!"},{"$error":"#VALUE!"}]
[{"$f":"'CUADRO INFORMATIVO'!F185","v":0},{"$f":"'CUADRO INFORMATIVO'!G185","v":" "},{"$f":"'CUADRO INFORMATIVO'!H185","v":" "},{"$error":"#VALUE!"},{"$error":"#VALUE!"},{"$error":"#VALUE!"},"0 - 0",{"$error":"#VALUE!"},{"$error":"#VALUE!"},{"$error":"#VALUE!"},{"$error":"#VALUE!"},{"$error":"#VALUE!"},{"$error":"#VALUE!"},{"$error":"#VALUE!"},{"$error":"#VALUE!"},{"$error":"#VALUE!"},{"$error":"#VALUE!"},{"$error":"#VALUE!"}]
[{"$f":"'CUADRO INFORMATIVO'!F186","v":0},{"$f":"'CUADRO INFORMATIVO'!G186","v":" "},{"$f":"'CUADRO INFORMATIVO'!H186","v":" "},{"$error":"#VALUE!"},{"$error":"#VALUE!"},{"$error":"#VALUE!"},"0 - 0",{"$error":"#VALUE!"},{"$error":"#VALUE!"},{"$error":"#VALUE!"},{"$error":"#VALUE!"},{"$error":"#VALUE!"},{"$error":"#VALUE!"},{"$error":"#VALUE!"},{"$error":"#VALUE!"},{"$error":"#VALUE!"},{"$error":"#VALUE!"},{"$error":"#VALUE!"}]
[{"$f":"'CUADRO INFORMATIVO'!F187","v":0},{"$f":"'CUADRO INFORMATIVO'!G187","v":" "},{"$f":"'CUADRO INFORMATIVO'!H187","v":" "},{"$error":"#VALUE!"},{"$error":"#VALUE!"},{"$error":"#VALUE!"},"0 - 0",{"$error":"#VALUE!"},{"$error":"#VALUE!"},{"$error":"#VALUE!"},{"$error":"#VALUE!"},{"$error":"#VALUE!"},{"$error":"#VALUE!"},{"$error":"#VALUE!"},{"$error":"#VALUE!"},{"$error":"#VALUE!"},{"$error":"#VALUE!"},{"$error":"#VALUE!"}]
[{"$f":"'CUADRO INFORMATIVO'!F188","v":0},{"$f":"'CUADRO INFORMATIVO'!G188","v":" "},{"$f":"'CUADRO INFORMATIVO'!H188","v":" "},{"$error":"#VALUE!"},{"$error":"#VALUE!"},{"$error":"#VALUE!"},"0 - 0",{"$error":"#VALUE!"},{"$error":"#VALUE!"},{"$error":"#VALUE!"},{"$error":"#VALUE!"},{"$error":"#VALUE!"},{"$error":"#VALUE!"},{"$error":"#VALUE!"},{"$error":"#VALUE!"},{"$error":"#VALUE!"},{"$error":"#VALUE!"},{"$error":"#VALUE!"}]
[{"$f":"'CUADRO INFORMATIVO'!F189","v":0},{"$f":"'CUADRO INFORMATIVO'!G189","v":" "},{"$f":"'CUADRO INFORMATIVO'!H189","v":" "},{"$error":"#VALUE!"},{"$error":"#VALUE!"},{"$error":"#VALUE!"},"0 - 0",{"$error":"#VALUE!"},{"$error":"#VALUE!"},{"$error":"#VALUE!"},{"$error":"#VALUE!"},{"$error":"#VALUE!"},{"$error":"#VALUE!"},{"$error":"#VALUE!"},{"$error":"#VALUE!"},{"$error":"#VALUE!"},{"$error":"#VALUE!"},{"$error":"#VALUE!"}]
[{"$f":"'CUADRO INFORMATIVO'!F190","v":0},{"$f":"'CUADRO INFORMATIVO'!G190","v":" "},{"$f":"'CUADRO INFORMATIVO'!H190","v":" "},{"$error":"#VALUE!"},{"$error":"#VALUE!"},{"$error":"#VALUE!"},"0 - 0",{"$error":"#VALUE!"},{"$error":"#VALUE!"},{"$error":"#VALUE!"},{"$error":"#VALUE!"},{"$error":"#VALUE!"},{"$error":"#VALUE!"},{"$error":"#VALUE!"},{"$error":"#VALUE!"},{"$error":"#VALUE!"},{"$error":"#VALUE!"},{"$error":"#VALUE!"}]
[{"$f":"'CUADRO INFORMATIVO'!F191","v":0},{"$f":"'CUADRO INFORMATIVO'!G191","v":" "},{"$f":"'CUADRO INFORMATIVO'!H191","v":" "},{"$error":"#VALUE!"},{"$error":"#VALUE!"},{"$error":"#VALUE!"},"0 - 0",{"$error":"#VALUE!"},{"$error":"#VALUE!"},{"$error":"#VALUE!"},{"$error":"#VALUE!"},{"$error":"#VALUE!"},{"$error":"#VALUE!"},{"$error":"#VALUE!"},{"$error":"#VALUE!"},{"$error":"#VALUE!"},{"$error":"#VALUE!"},{"$error":"#VALUE!"}]
[{"$f":"'CUADRO INFORMATIVO'!F192","v":0},{"$f":"'CUADRO INFORMATIVO'!G192","v":" "},{"$f":"'CUADRO INFORMATIVO'!H192","v":" "},{"$error":"#VALUE!"},{"$error":"#VALUE!"},{"$error":"#VALUE!"},"0 - 0",{"$error":"#VALUE!"},{"$error":"#VALUE!"},{"$error":"#VALUE!"},{"$error":"#VALUE!"},{"$error":"#VALUE!"},{"$error":"#VALUE!"},{"$error":"#VALUE!"},{"$error":"#VALUE!"},{"$error":"#VALUE!"},{"$error":"#VALUE!"},{"$error":"#VALUE!"}]
[{"$f":"'CUADRO INFORMATIVO'!F193","v":0},{"$f":"'CUADRO INFORMATIVO'!G193","v":" "},{"$f":"'CUADRO INFORMATIVO'!H193","v":" "},{"$error":"#VALUE!"},{"$error":"#VALUE!"},{"$error":"#VALUE!"},"0 - 0",{"$error":"#VALUE!"},{"$error":"#VALUE!"},{"$error":"#VALUE!"},{"$error":"#VALUE!"},{"$error":"#VALUE!"},{"$error":"#VALUE!"},{"$error":"#VALUE!"},{"$error":"#VALUE!"},{"$error":"#VALUE!"},{"$error":"#VALUE!"},{"$error":"#VALUE!"}]
[{"$f":"'CUADRO INFORMATIVO'!F194","v":0},{"$f":"'CUADRO INFORMATIVO'!G194","v":" "},{"$f":"'CUADRO INFORMATIVO'!H194","v":" "},{"$error":"#VALUE!"},{"$error":"#VALUE!"},{"$error":"#VALUE!"},"0 - 0",{"$error":"#VALUE!"},{"$error":"#VALUE!"},{"$error":"#VALUE!"},{"$error":"#VALUE!"},{"$error":"#VALUE!"},{"$error":"#VALUE!"},{"$error":"#VALUE!"},{"$error":"#VALUE!"},{"$error":"#VALUE!"},{"$error":"#VALUE!"},{"$error":"#VALUE!"}]
[{"$f":"'CUADRO INFORMATIVO'!F195","v":0},{"$f":"'CUADRO INFORMATIVO'!G195","v":" "},{"$f":"'CUADRO INFORMATIVO'!H195","v":" "},{"$error":"#VALUE!"},{"$error":"#VALUE!"},{"$error":"#VALUE!"},"0 - 0",{"$error":"#VALUE!"},{"$error":"#VALUE!"},{"$error":"#VALUE!"},{"$error":"#VALUE!"},{"$error":"#VALUE!"},{"$error":"#VALUE!"},{"$error":"#VALUE!"},{"$error":"#VALUE!"},{"$error":"#VALUE!"},{"$error":"#VALUE!"},{"$error":"#VALUE!"}]
[{"$f":"'CUADRO INFORMATIVO'!F196","v":0},{"$f":"'CUADRO INFORMATIVO'!G196","v":" "},{"$f":"'CUADRO INFORMATIVO'!H196","v":" "},{"$error":"#VALUE!"},{"$error":"#VALUE!"},{"$error":"#VALUE!"},"0 - 0",{"$error":"#VALUE!"},{"$error":"#VALUE!"},{"$error":"#VALUE!"},{"$error":"#VALUE!"},{"$error":"#VALUE!"},{"$error":"#VALUE!"},{"$error":"#VALUE!"},{"$error":"#VALUE!"},{"$error":"#VALUE!"},{"$error":"#VALUE!"},{"$error":"#VALUE!"}]
[{"$f":"'CUADRO INFORMATIVO'!F197","v":0},{"$f":"'CUADRO INFORMATIVO'!G197","v":" "},{"$f":"'CUADRO INFORMATIVO'!H197","v":" "},{"$error":"#VALUE!"},{"$error":"#VALUE!"},{"$error":"#VALUE!"},"0 - 0",{"$error":"#VALUE!"},{"$f":"DEGREES(ATAN(E194/D194))","v":{"$error":"#VALUE!"}},{"$error":"#VALUE!"},{"$error":"#VALUE!"},{"$error":"#VALUE!"},{"$error":"#VALUE!"},{"$error":"#VALUE!"},{"$f":"IF(L194=1,K194,IF(L194=2,180-K194,IF(L194=3,K194-180,IF(L194=4,360-K194))))","v":{"$error":"#VALUE!"}},{"$f":"ROUNDDOWN(K194,0)&\"°\"&ROUNDDOWN((K194-ROUNDDOWN(K194,0))*60,0)&\"'\"&(ROUNDDOWN((((K194-ROUNDDOWN(K194,0))*60)-(ROUNDDOWN(((K194-ROUNDDOWN(K194,0))*60),0)))*60,2))&\"''\"","v":{"$error":"#VALUE!"}},{"$error":"#VALUE!"},{"$error":"#VALUE!"}]
[{"$f":"'CUADRO INFORMATIVO'!F198","v":0},{"$f":"'CUADRO INFORMATIVO'!G198","v":" "},{"$f":"'CUADRO INFORMATIVO'!H198","v":" "},{"$error":"#VALUE!"},{"$error":"#VALUE!"},{"$f":"SQRT((D195^2)+(E195^2))","v":{"$error":"#VALUE!"}},{"$f":"A195&\" - \"&A196","v":"0 - 0"},{"$f":"IF(D195>=0,\"+\",\"-\")&IF(E195>=0,\"+\",\"-\")","v":{"$error":"#VALUE!"}},{"$error":"#VALUE!"},{"$f":"IF(H195=\"++\",I195,IF(H195=\"+-\",I195,IF(H195=\"-+\",I195-180,IF(H195=\"--\",I195+180))))","v":{"$error":"#VALUE!"}},{"$f":"IF(J195>=0,J195,360+J195)","v":{"$error":"#VALUE!"}},{"$f":"IF(K195<=90,1,IF(K195<=180,2,IF(K195<=270,3,IF(K195<=360,4))))","v":{"$error":"#VALUE!"}},{"$f":"IF(L195=1,\"N\",IF(L195=2,\"S\",IF(L195=3,\"S\",IF(L195=4,\"N\"))))","v":{"$error":"#VALUE!"}},{"$f":"IF(L195=1,\"E\",IF(L195=2,\"E\",IF(L195=3,\"W\",IF(L195=4,\"W\"))))","v":{"$error":"#VALUE!"}},{"$error":"#VALUE!"},{"$error":"#VALUE!"},{"$f":"ROUNDDOWN(O195,0)&\"°\"&ROUNDDOWN((O195-ROUNDDOWN(O195,0))*60,0)&\"'\"&(ROUNDDOWN((((O195-ROUNDDOWN(O195,0))*60)-(ROUNDDOWN(((O195-ROUNDDOWN(O195,0))*60),0)))*60,2))&\"''\"","v":{"$error":"#VALUE!"}},{"$f":"M195&\" \"&Q195&\" \"&N195","v":{"$error":"#VALUE!"}}]
[{"$f":"'CUADRO INFORMATIVO'!F199","v":0},{"$f":"'CUADRO INFORMATIVO'!G199","v":" "},{"$f":"'CUADRO INFORMATIVO'!H199","v":" "},{"$f":"IF(B196<>0,IF(B197=0,$B$2-B196,B197-B196),0)","v":{"$error":"#VALUE!"}},{"$f":"IF(C196<>0,IF(C197=0,$C$2-C196,C197-C196),0)","v":{"$error":"#VALUE!"}},{"$error":"#VALUE!"},"0 - 0",{"$error":"#VALUE!"},{"$error":"#VALUE!"},{"$error":"#VALUE!"},{"$error":"#VALUE!"},{"$error":"#VALUE!"},{"$error":"#VALUE!"},{"$error":"#VALUE!"},{"$error":"#VALUE!"},{"$error":"#VALUE!"},{"$error":"#VALUE!"},{"$error":"#VALUE!"}]
[{"$f":"'CUADRO INFORMATIVO'!F200","v":0},{"$f":"'CUADRO INFORMATIVO'!G200","v":" "},{"$f":"'CUADRO INFORMATIVO'!H200","v":" "},{"$error":"#VALUE!"},{"$error":"#VALUE!"},{"$error":"#VALUE!"},"0 - 0",{"$error":"#VALUE!"},{"$error":"#VALUE!"},{"$error":"#VALUE!"},{"$error":"#VALUE!"},{"$error":"#VALUE!"},{"$error":"#VALUE!"},{"$error":"#VALUE!"},{"$error":"#VALUE!"},{"$error":"#VALUE!"},{"$error":"#VALUE!"},{"$error":"#VALUE!"}]
[{"$f":"'CUADRO INFORMATIVO'!F201","v":0},{"$f":"'CUADRO INFORMATIVO'!G201","v":" "},{"$f":"'CUADRO INFORMATIVO'!H201","v":" "},{"$error":"#VALUE!"},{"$error":"#VALUE!"},{"$error":"#VALUE!"},"0 - 0",{"$error":"#VALUE!"},{"$error":"#VALUE!"},{"$error":"#VALUE!"},{"$error":"#VALUE!"},{"$error":"#VALUE!"},{"$error":"#VALUE!"},{"$error":"#VALUE!"},{"$error":"#VALUE!"},{"$error":"#VALUE!"},{"$error":"#VALUE!"},{"$error":"#VALUE!"}]
[{"$f":"'CUADRO INFORMATIVO'!F202","v":0},{"$f":"'CUADRO INFORMATIVO'!G202","v":" "},{"$f":"'CUADRO INFORMATIVO'!H202","v":" "},{"$error":"#VALUE!"},{"$error":"#VALUE!"},{"$error":"#VALUE!"},"0 - 0",{"$error":"#VALUE!"},{"$error":"#VALUE!"},{"$error":"#VALUE!"},{"$error":"#VALUE!"},{"$error":"#VALUE!"},{"$error":"#VALUE!"},{"$error":"#VALUE!"},{"$error":"#VALUE!"},{"$error":"#VALUE!"},{"$error":"#VALUE!"},{"$error":"#VALUE!"}]
[{"$f":"'CUADRO INFORMATIVO'!F203","v":0},{"$f":"'CUADRO INFORMATIVO'!G203","v":" "},{"$f":"'CUADRO INFORMATIVO'!H203","v":" "},{"$error":"#VALUE!"},{"$error":"#VALUE!"},{"$error":"#VALUE!"},"0 - 0",{"$error":"#VALUE!"},{"$error":"#VALUE!"},{"$error":"#VALUE!"},{"$error":"#VALUE!"},{"$error":"#VALUE!"},{"$error":"#VALUE!"},{"$error":"#VALUE!"},{"$error":"#VALUE!"},{"$error":"#VALUE!"},{"$error":"#VALUE!"},{"$error":"#VALUE!"}]
[{"$f":"'CUADRO INFORMATIVO'!F204","v":0},{"$f":"'CUADRO INFORMATIVO'!G204","v":" "},{"$f":"'CUADRO INFORMATIVO'!H204","v":" "},{"$error":"#VALUE!"},{"$error":"#VALUE!"},{"$error":"#VALUE!"},"0 - 0",{"$error":"#VALUE!"},{"$error":"#VALUE!"},{"$error":"#VALUE!"},{"$error":"#VALUE!"},{"$error":"#VALUE!"},{"$error":"#VALUE!"},{"$error":"#VALUE!"},{"$error":"#VALUE!"},{"$error":"#VALUE!"},{"$error":"#VALUE!"},{"$error":"#VALUE!"}]
[{"$f":"'CUADRO INFORMATIVO'!F205","v":0},{"$f":"'CUADRO INFORMATIVO'!G205","v":" "},{"$f":"'CUADRO INFORMATIVO'!H205","v":" "},{"$error":"#VALUE!"},{"$error":"#VALUE!"},{"$error":"#VALUE!"},"0 - 0",{"$error":"#VALUE!"},{"$error":"#VALUE!"},{"$error":"#VALUE!"},{"$error":"#VALUE!"},{"$error":"#VALUE!"},{"$error":"#VALUE!"},{"$error":"#VALUE!"},{"$error":"#VALUE!"},{"$error":"#VALUE!"},{"$error":"#VALUE!"},{"$error":"#VALUE!"}]
[{"$f":"'CUADRO INFORMATIVO'!F206","v":0},{"$f":"'CUADRO INFORMATIVO'!G206","v":" "},{"$f":"'CUADRO INFORMATIVO'!H206","v":" "},{"$error":"#VALUE!"},{"$error":"#VALUE!"},{"$error":"#VALUE!"},"0 - 0",{"$error":"#VALUE!"},{"$error":"#VALUE!"},{"$error":"#VALUE!"},{"$error":"#VALUE!"},{"$error":"#VALUE!"},{"$error":"#VALUE!"},{"$error":"#VALUE!"},{"$error":"#VALUE!"},{"$error":"#VALUE!"},{"$error":"#VALUE!"},{"$error":"#VALUE!"}]
[{"$f":"'CUADRO INFORMATIVO'!F207","v":0},{"$f":"'CUADRO INFORMATIVO'!G207","v":" "},{"$f":"'CUADRO INFORMATIVO'!H207","v":" "},{"$error":"#VALUE!"},{"$error":"#VALUE!"},{"$error":"#VALUE!"},"0 - 0",{"$error":"#VALUE!"},{"$error":"#VALUE!"},{"$error":"#VALUE!"},{"$error":"#VALUE!"},{"$error":"#VALUE!"},{"$error":"#VALUE!"},{"$error":"#VALUE!"},{"$error":"#VALUE!"},{"$error":"#VALUE!"},{"$error":"#VALUE!"},{"$error":"#VALUE!"}]
[{"$f":"'CUADRO INFORMATIVO'!F208","v":0},{"$f":"'CUADRO INFORMATIVO'!G208","v":" "},{"$f":"'CUADRO INFORMATIVO'!H208","v":" "},{"$error":"#VALUE!"},{"$error":"#VALUE!"},{"$error":"#VALUE!"},"0 - 0",{"$error":"#VALUE!"},{"$error":"#VALUE!"},{"$error":"#VALUE!"},{"$error":"#VALUE!"},{"$error":"#VALUE!"},{"$error":"#VALUE!"},{"$error":"#VALUE!"},{"$error":"#VALUE!"},{"$error":"#VALUE!"},{"$error":"#VALUE!"},{"$error":"#VALUE!"}]
[{"$f":"'CUADRO INFORMATIVO'!F209","v":0},{"$f":"'CUADRO INFORMATIVO'!G209","v":" "},{"$f":"'CUADRO INFORMATIVO'!H209","v":" "},{"$error":"#VALUE!"},{"$error":"#VALUE!"},{"$error":"#VALUE!"},"0 - 0",{"$error":"#VALUE!"},{"$error":"#VALUE!"},{"$error":"#VALUE!"},{"$error":"#VALUE!"},{"$error":"#VALUE!"},{"$error":"#VALUE!"},{"$error":"#VALUE!"},{"$error":"#VALUE!"},{"$error":"#VALUE!"},{"$error":"#VALUE!"},{"$error":"#VALUE!"}]
[{"$f":"'CUADRO INFORMATIVO'!F210","v":0},{"$f":"'CUADRO INFORMATIVO'!G210","v":" "},{"$f":"'CUADRO INFORMATIVO'!H210","v":" "},{"$error":"#VALUE!"},{"$error":"#VALUE!"},{"$error":"#VALUE!"},"0 - 0",{"$error":"#VALUE!"},{"$error":"#VALUE!"},{"$error":"#VALUE!"},{"$error":"#VALUE!"},{"$error":"#VALUE!"},{"$error":"#VALUE!"},{"$error":"#VALUE!"},{"$error":"#VALUE!"},{"$error":"#VALUE!"},{"$error":"#VALUE!"},{"$error":"#VALUE!"}]
[{"$f":"'CUADRO INFORMATIVO'!F211","v":0},{"$f":"'CUADRO INFORMATIVO'!G211","v":" "},{"$f":"'CUADRO INFORMATIVO'!H211","v":" "},{"$error":"#VALUE!"},{"$error":"#VALUE!"},{"$error":"#VALUE!"},"0 - 0",{"$error":"#VALUE!"},{"$error":"#VALUE!"},{"$error":"#VALUE!"},{"$error":"#VALUE!"},{"$error":"#VALUE!"},{"$error":"#VALUE!"},{"$error":"#VALUE!"},{"$error":"#VALUE!"},{"$error":"#VALUE!"},{"$error":"#VALUE!"},{"$error":"#VALUE!"}]
[{"$f":"'CUADRO INFORMATIVO'!F212","v":0},{"$f":"'CUADRO INFORMATIVO'!G212","v":" "},{"$f":"'CUADRO INFORMATIVO'!H212","v":" "},{"$error":"#VALUE!"},{"$error":"#VALUE!"},{"$error":"#VALUE!"},"0 - 0",{"$error":"#VALUE!"},{"$error":"#VALUE!"},{"$error":"#VALUE!"},{"$error":"#VALUE!"},{"$error":"#VALUE!"},{"$error":"#VALUE!"},{"$error":"#VALUE!"},{"$error":"#VALUE!"},{"$error":"#VALUE!"},{"$error":"#VALUE!"},{"$error":"#VALUE!"}]
[{"$f":"'CUADRO INFORMATIVO'!F213","v":0},{"$f":"'CUADRO INFORMATIVO'!G213","v":" "},{"$f":"'CUADRO INFORMATIVO'!H213","v":" "},{"$error":"#VALUE!"},{"$error":"#VALUE!"},{"$error":"#VALUE!"},"0 - 0",{"$error":"#VALUE!"},{"$error":"#VALUE!"},{"$error":"#VALUE!"},{"$error":"#VALUE!"},{"$error":"#VALUE!"},{"$error":"#VALUE!"},{"$error":"#VALUE!"},{"$error":"#VALUE!"},{"$error":"#VALUE!"},{"$error":"#VALUE!"},{"$error":"#VALUE!"}]
[{"$f":"'CUADRO INFORMATIVO'!F214","v":0},{"$f":"'CUADRO INFORMATIVO'!G214","v":" "},{"$f":"'CUADRO INFORMATIVO'!H214","v":" "},{"$error":"#VALUE!"},{"$error":"#VALUE!"},{"$error":"#VALUE!"},"0 - 0",{"$error":"#VALUE!"},{"$error":"#VALUE!"},{"$error":"#VALUE!"},{"$error":"#VALUE!"},{"$error":"#VALUE!"},{"$error":"#VALUE!"},{"$error":"#VALUE!"},{"$error":"#VALUE!"},{"$error":"#VALUE!"},{"$error":"#VALUE!"},{"$error":"#VALUE!"}]
[{"$f":"'CUADRO INFORMATIVO'!F215","v":0},{"$f":"'CUADRO INFORMATIVO'!G215","v":" "},{"$f":"'CUADRO INFORMATIVO'!H215","v":" "},{"$error":"#VALUE!"},{"$error":"#VALUE!"},{"$error":"#VALUE!"},"0 - 0",{"$error":"#VALUE!"},{"$error":"#VALUE!"},{"$error":"#VALUE!"},{"$error":"#VALUE!"},{"$error":"#VALUE!"},{"$error":"#VALUE!"},{"$error":"#VALUE!"},{"$error":"#VALUE!"},{"$error":"#VALUE!"},{"$error":"#VALUE!"},{"$error":"#VALUE!"}]
[{"$f":"'CUADRO INFORMATIVO'!F216","v":0},{"$f":"'CUADRO INFORMATIVO'!G216","v":" "},{"$f":"'CUADRO INFORMATIVO'!H216","v":" "},{"$error":"#VALUE!"},{"$error":"#VALUE!"},{"$error":"#VALUE!"},"0 - 0",{"$error":"#VALUE!"},{"$error":"#VALUE!"},{"$error":"#VALUE!"},{"$error":"#VALUE!"},{"$error":"#VALUE!"},{"$error":"#VALUE!"},{"$error":"#VALUE!"},{"$error":"#VALUE!"},{"$error":"#VALUE!"},{"$error":"#VALUE!"},{"$error":"#VALUE!"}]
[{"$f":"'CUADRO INFORMATIVO'!F217","v":0},{"$f":"'CUADRO INFORMATIVO'!G217","v":" "},{"$f":"'CUADRO INFORMATIVO'!H217","v":" "},{"$error":"#VALUE!"},{"$error":"#VALUE!"},{"$error":"#VALUE!"},"0 - 0",{"$error":"#VALUE!"},{"$error":"#VALUE!"},{"$error":"#VALUE!"},{"$error":"#VALUE!"},{"$error":"#VALUE!"},{"$error":"#VALUE!"},{"$error":"#VALUE!"},{"$error":"#VALUE!"},{"$error":"#VALUE!"},{"$error":"#VALUE!"},{"$error":"#VALUE!"}]
[{"$f":"'CUADRO INFORMATIVO'!F218","v":0},{"$f":"'CUADRO INFORMATIVO'!G218","v":" "},{"$f":"'CUADRO INFORMATIVO'!H218","v":" "},{"$error":"#VALUE!"},{"$error":"#VALUE!"},{"$error":"#VALUE!"},"0 - 0",{"$error":"#VALUE!"},{"$error":"#VALUE!"},{"$error":"#VALUE!"},{"$error":"#VALUE!"},{"$error":"#VALUE!"},{"$error":"#VALUE!"},{"$error":"#VALUE!"},{"$error":"#VALUE!"},{"$error":"#VALUE!"},{"$error":"#VALUE!"},{"$error":"#VALUE!"}]
[{"$f":"'CUADRO INFORMATIVO'!F219","v":0},{"$f":"'CUADRO INFORMATIVO'!G219","v":" "},{"$f":"'CUADRO INFORMATIVO'!H219","v":" "},{"$error":"#VALUE!"},{"$error":"#VALUE!"},{"$error":"#VALUE!"},"0 - 0",{"$error":"#VALUE!"},{"$error":"#VALUE!"},{"$error":"#VALUE!"},{"$error":"#VALUE!"},{"$error":"#VALUE!"},{"$error":"#VALUE!"},{"$error":"#VALUE!"},{"$error":"#VALUE!"},{"$error":"#VALUE!"},{"$error":"#VALUE!"},{"$error":"#VALUE!"}]
[{"$f":"'CUADRO INFORMATIVO'!F220","v":0},{"$f":"'CUADRO INFORMATIVO'!G220","v":" "},{"$f":"'CUADRO INFORMATIVO'!H220","v":" "},{"$error":"#VALUE!"},{"$error":"#VALUE!"},{"$error":"#VALUE!"},"0 - 0",{"$error":"#VALUE!"},{"$error":"#VALUE!"},{"$error":"#VALUE!"},{"$error":"#VALUE!"},{"$error":"#VALUE!"},{"$error":"#VALUE!"},{"$error":"#VALUE!"},{"$error":"#VALUE!"},{"$error":"#VALUE!"},{"$error":"#VALUE!"},{"$error":"#VALUE!"}]
[{"$f":"'CUADRO INFORMATIVO'!F221","v":0},{"$f":"'CUADRO INFORMATIVO'!G221","v":" "},{"$f":"'CUADRO INFORMATIVO'!H221","v":" "},{"$error":"#VALUE!"},{"$error":"#VALUE!"},{"$error":"#VALUE!"},"0 - 0",{"$error":"#VALUE!"},{"$error":"#VALUE!"},{"$error":"#VALUE!"},{"$error":"#VALUE!"},{"$error":"#VALUE!"},{"$error":"#VALUE!"},{"$error":"#VALUE!"},{"$error":"#VALUE!"},{"$error":"#VALUE!"},{"$error":"#VALUE!"},{"$error":"#VALUE!"}]
[{"$f":"'CUADRO INFORMATIVO'!F222","v":0},{"$f":"'CUADRO INFORMATIVO'!G222","v":" "},{"$f":"'CUADRO INFORMATIVO'!H222","v":" "},{"$error":"#VALUE!"},{"$error":"#VALUE!"},{"$error":"#VALUE!"},"0 - 0",{"$error":"#VALUE!"},{"$error":"#VALUE!"},{"$error":"#VALUE!"},{"$error":"#VALUE!"},{"$error":"#VALUE!"},{"$error":"#VALUE!"},{"$error":"#VALUE!"},{"$error":"#VALUE!"},{"$error":"#VALUE!"},{"$error":"#VALUE!"},{"$error":"#VALUE!"}]
[{"$f":"'CUADRO INFORMATIVO'!F223","v":0},{"$f":"'CUADRO INFORMATIVO'!G223","v":" "},{"$f":"'CUADRO INFORMATIVO'!H223","v":" "},{"$error":"#VALUE!"},{"$error":"#VALUE!"},{"$error":"#VALUE!"},"0 - 0",{"$error":"#VALUE!"},{"$error":"#VALUE!"},{"$error":"#VALUE!"},{"$error":"#VALUE!"},{"$error":"#VALUE!"},{"$error":"#VALUE!"},{"$error":"#VALUE!"},{"$error":"#VALUE!"},{"$error":"#VALUE!"},{"$error":"#VALUE!"},{"$error":"#VALUE!"}]
[{"$f":"'CUADRO INFORMATIVO'!F224","v":0},{"$f":"'CUADRO INFORMATIVO'!G224","v":" "},{"$f":"'CUADRO INFORMATIVO'!H224","v":" "},{"$error":"#VALUE!"},{"$error":"#VALUE!"},{"$error":"#VALUE!"},"0 - 0",{"$error":"#VALUE!"},{"$error":"#VALUE!"},{"$error":"#VALUE!"},{"$error":"#VALUE!"},{"$error":"#VALUE!"},{"$error":"#VALUE!"},{"$error":"#VALUE!"},{"$error":"#VALUE!"},{"$error":"#VALUE!"},{"$error":"#VALUE!"},{"$error":"#VALUE!"}]
[{"$f":"'CUADRO INFORMATIVO'!F225","v":0},{"$f":"'CUADRO INFORMATIVO'!G225","v":" "},{"$f":"'CUADRO INFORMATIVO'!H225","v":" "},{"$error":"#VALUE!"},{"$error":"#VALUE!"},{"$error":"#VALUE!"},"0 - 0",{"$error":"#VALUE!"},{"$error":"#VALUE!"},{"$error":"#VALUE!"},{"$error":"#VALUE!"},{"$error":"#VALUE!"},{"$error":"#VALUE!"},{"$error":"#VALUE!"},{"$error":"#VALUE!"},{"$error":"#VALUE!"},{"$error":"#VALUE!"},{"$error":"#VALUE!"}]
[{"$f":"'CUADRO INFORMATIVO'!F226","v":0},{"$f":"'CUADRO INFORMATIVO'!G226","v":" "},{"$f":"'CUADRO INFORMATIVO'!H226","v":" "},{"$error":"#VALUE!"},{"$error":"#VALUE!"},{"$error":"#VALUE!"},"0 - 0",{"$error":"#VALUE!"},{"$error":"#VALUE!"},{"$error":"#VALUE!"},{"$error":"#VALUE!"},{"$error":"#VALUE!"},{"$error":"#VALUE!"},{"$error":"#VALUE!"},{"$error":"#VALUE!"},{"$error":"#VALUE!"},{"$error":"#VALUE!"},{"$error":"#VALUE!"}]
[{"$f":"'CUADRO INFORMATIVO'!F227","v":0},{"$f":"'CUADRO INFORMATIVO'!G227","v":" "},{"$f":"'CUADRO INFORMATIVO'!H227","v":" "},{"$error":"#VALUE!"},{"$error":"#VALUE!"},{"$error":"#VALUE!"},"0 - 0",{"$error":"#VALUE!"},{"$error":"#VALUE!"},{"$error":"#VALUE!"},{"$error":"#VALUE!"},{"$error":"#VALUE!"},{"$error":"#VALUE!"},{"$error":"#VALUE!"},{"$error":"#VALUE!"},{"$error":"#VALUE!"},{"$error":"#VALUE!"},{"$error":"#VALUE!"}]
[{"$f":"'CUADRO INFORMATIVO'!F228","v":0},{"$f":"'CUADRO INFORMATIVO'!G228","v":" "},{"$f":"'CUADRO INFORMATIVO'!H228","v":" "},{"$error":"#VALUE!"},{"$error":"#VALUE!"},{"$error":"#VALUE!"},"0 - 0",{"$error":"#VALUE!"},{"$error":"#VALUE!"},{"$error":"#VALUE!"},{"$error":"#VALUE!"},{"$error":"#VALUE!"},{"$error":"#VALUE!"},{"$error":"#VALUE!"},{"$error":"#VALUE!"},{"$error":"#VALUE!"},{"$error":"#VALUE!"},{"$error":"#VALUE!"}]
[{"$f":"'CUADRO INFORMATIVO'!F229","v":0},{"$f":"'CUADRO INFORMATIVO'!G229","v":" "},{"$f":"'CUADRO INFORMATIVO'!H229","v":" "},{"$error":"#VALUE!"},{"$error":"#VALUE!"},{"$error":"#VALUE!"},"0 - 0",{"$error":"#VALUE!"},{"$error":"#VALUE!"},{"$error":"#VALUE!"},{"$error":"#VALUE!"},{"$error":"#VALUE!"},{"$error":"#VALUE!"},{"$error":"#VALUE!"},{"$error":"#VALUE!"},{"$error":"#VALUE!"},{"$error":"#VALUE!"},{"$error":"#VALUE!"}]
[{"$f":"'CUADRO INFORMATIVO'!F230","v":0},{"$f":"'CUADRO INFORMATIVO'!G230","v":" "},{"$f":"'CUADRO INFORMATIVO'!H230","v":" "},{"$error":"#VALUE!"},{"$error":"#VALUE!"},{"$error":"#VALUE!"},"0 - 0",{"$error":"#VALUE!"},{"$error":"#VALUE!"},{"$error":"#VALUE!"},{"$error":"#VALUE!"},{"$error":"#VALUE!"},{"$error":"#VALUE!"},{"$error":"#VALUE!"},{"$error":"#VALUE!"},{"$error":"#VALUE!"},{"$error":"#VALUE!"},{"$error":"#VALUE!"}]
[{"$f":"'CUADRO INFORMATIVO'!F231","v":0},{"$f":"'CUADRO INFORMATIVO'!G231","v":" "},{"$f":"'CUADRO INFORMATIVO'!H231","v":" "},{"$error":"#VALUE!"},{"$error":"#VALUE!"},{"$error":"#VALUE!"},"0 - 0",{"$error":"#VALUE!"},{"$error":"#VALUE!"},{"$error":"#VALUE!"},{"$error":"#VALUE!"},{"$error":"#VALUE!"},{"$error":"#VALUE!"},{"$error":"#VALUE!"},{"$error":"#VALUE!"},{"$error":"#VALUE!"},{"$error":"#VALUE!"},{"$error":"#VALUE!"}]
[{"$f":"'CUADRO INFORMATIVO'!F232","v":0},{"$f":"'CUADRO INFORMATIVO'!G232","v":" "},{"$f":"'CUADRO INFORMATIVO'!H232","v":" "},{"$error":"#VALUE!"},{"$error":"#VALUE!"},{"$error":"#VALUE!"},"0 - 0",{"$error":"#VALUE!"},{"$error":"#VALUE!"},{"$error":"#VALUE!"},{"$error":"#VALUE!"},{"$error":"#VALUE!"},{"$error":"#VALUE!"},{"$error":"#VALUE!"},{"$error":"#VALUE!"},{"$error":"#VALUE!"},{"$error":"#VALUE!"},{"$error":"#VALUE!"}]
[{"$f":"'CUADRO INFORMATIVO'!F233","v":0},{"$f":"'CUADRO INFORMATIVO'!G233","v":" "},{"$f":"'CUADRO INFORMATIVO'!H233","v":" "},{"$error":"#VALUE!"},{"$error":"#VALUE!"},{"$error":"#VALUE!"},"0 - 0",{"$error":"#VALUE!"},{"$error":"#VALUE!"},{"$error":"#VALUE!"},{"$error":"#VALUE!"},{"$error":"#VALUE!"},{"$error":"#VALUE!"},{"$error":"#VALUE!"},{"$error":"#VALUE!"},{"$error":"#VALUE!"},{"$error":"#VALUE!"},{"$error":"#VALUE!"}]
[{"$f":"'CUADRO INFORMATIVO'!F234","v":0},{"$f":"'CUADRO INFORMATIVO'!G234","v":" "},{"$f":"'CUADRO INFORMATIVO'!H234","v":" "},{"$error":"#VALUE!"},{"$error":"#VALUE!"},{"$error":"#VALUE!"},"0 - 0",{"$error":"#VALUE!"},{"$error":"#VALUE!"},{"$error":"#VALUE!"},{"$error":"#VALUE!"},{"$error":"#VALUE!"},{"$error":"#VALUE!"},{"$error":"#VALUE!"},{"$error":"#VALUE!"},{"$error":"#VALUE!"},{"$error":"#VALUE!"},{"$error":"#VALUE!"}]
[{"$f":"'CUADRO INFORMATIVO'!F235","v":0},{"$f":"'CUADRO INFORMATIVO'!G235","v":" "},{"$f":"'CUADRO INFORMATIVO'!H235","v":" "},{"$error":"#VALUE!"},{"$error":"#VALUE!"},{"$error":"#VALUE!"},"0 - 0",{"$error":"#VALUE!"},{"$error":"#VALUE!"},{"$error":"#VALUE!"},{"$error":"#VALUE!"},{"$error":"#VALUE!"},{"$error":"#VALUE!"},{"$error":"#VALUE!"},{"$error":"#VALUE!"},{"$error":"#VALUE!"},{"$error":"#VALUE!"},{"$error":"#VALUE!"}]
[{"$f":"'CUADRO INFORMATIVO'!F236","v":0},{"$f":"'CUADRO INFORMATIVO'!G236","v":" "},{"$f":"'CUADRO INFORMATIVO'!H236","v":" "},{"$error":"#VALUE!"},{"$error":"#VALUE!"},{"$error":"#VALUE!"},"0 - 0",{"$error":"#VALUE!"},{"$error":"#VALUE!"},{"$error":"#VALUE!"},{"$error":"#VALUE!"},{"$error":"#VALUE!"},{"$error":"#VALUE!"},{"$error":"#VALUE!"},{"$error":"#VALUE!"},{"$error":"#VALUE!"},{"$error":"#VALUE!"},{"$error":"#VALUE!"}]
[{"$f":"'CUADRO INFORMATIVO'!F237","v":0},{"$f":"'CUADRO INFORMATIVO'!G237","v":" "},{"$f":"'CUADRO INFORMATIVO'!H237","v":" "},{"$error":"#VALUE!"},{"$error":"#VALUE!"},{"$error":"#VALUE!"},"0 - 0",{"$error":"#VALUE!"},{"$error":"#VALUE!"},{"$error":"#VALUE!"},{"$error":"#VALUE!"},{"$error":"#VALUE!"},{"$error":"#VALUE!"},{"$error":"#VALUE!"},{"$error":"#VALUE!"},{"$error":"#VALUE!"},{"$error":"#VALUE!"},{"$error":"#VALUE!"}]
[{"$f":"'CUADRO INFORMATIVO'!F238","v":0},{"$f":"'CUADRO INFORMATIVO'!G238","v":" "},{"$f":"'CUADRO INFORMATIVO'!H238","v":" "},{"$error":"#VALUE!"},{"$error":"#VALUE!"},{"$error":"#VALUE!"},"0 - 0",{"$error":"#VALUE!"},{"$error":"#VALUE!"},{"$error":"#VALUE!"},{"$error":"#VALUE!"},{"$error":"#VALUE!"},{"$error":"#VALUE!"},{"$error":"#VALUE!"},{"$error":"#VALUE!"},{"$error":"#VALUE!"},{"$error":"#VALUE!"},{"$error":"#VALUE!"}]
[{"$f":"'CUADRO INFORMATIVO'!F239","v":0},{"$f":"'CUADRO INFORMATIVO'!G239","v":" "},{"$f":"'CUADRO INFORMATIVO'!H239","v":" "},{"$error":"#VALUE!"},{"$error":"#VALUE!"},{"$error":"#VALUE!"},"0 - 0",{"$error":"#VALUE!"},{"$error":"#VALUE!"},{"$error":"#VALUE!"},{"$error":"#VALUE!"},{"$error":"#VALUE!"},{"$error":"#VALUE!"},{"$error":"#VALUE!"},{"$error":"#VALUE!"},{"$error":"#VALUE!"},{"$error":"#VALUE!"},{"$error":"#VALUE!"}]
[{"$f":"'CUADRO INFORMATIVO'!F240","v":0},{"$f":"'CUADRO INFORMATIVO'!G240","v":" "},{"$f":"'CUADRO INFORMATIVO'!H240","v":" "},{"$error":"#VALUE!"},{"$error":"#VALUE!"},{"$error":"#VALUE!"},"0 - 0",{"$error":"#VALUE!"},{"$error":"#VALUE!"},{"$error":"#VALUE!"},{"$error":"#VALUE!"},{"$error":"#VALUE!"},{"$error":"#VALUE!"},{"$error":"#VALUE!"},{"$error":"#VALUE!"},{"$error":"#VALUE!"},{"$error":"#VALUE!"},{"$error":"#VALUE!"}]
[{"$f":"'CUADRO INFORMATIVO'!F241","v":0},{"$f":"'CUADRO INFORMATIVO'!G241","v":" "},{"$f":"'CUADRO INFORMATIVO'!H241","v":" "},{"$error":"#VALUE!"},{"$error":"#VALUE!"},{"$error":"#VALUE!"},"0 - 0",{"$error":"#VALUE!"},{"$error":"#VALUE!"},{"$error":"#VALUE!"},{"$error":"#VALUE!"},{"$error":"#VALUE!"},{"$error":"#VALUE!"},{"$error":"#VALUE!"},{"$error":"#VALUE!"},{"$error":"#VALUE!"},{"$error":"#VALUE!"},{"$error":"#VALUE!"}]
[{"$f":"'CUADRO INFORMATIVO'!F242","v":0},{"$f":"'CUADRO INFORMATIVO'!G242","v":" "},{"$f":"'CUADRO INFORMATIVO'!H242","v":" "},{"$error":"#VALUE!"},{"$error":"#VALUE!"},{"$error":"#VALUE!"},"0 - 0",{"$error":"#VALUE!"},{"$error":"#VALUE!"},{"$error":"#VALUE!"},{"$error":"#VALUE!"},{"$error":"#VALUE!"},{"$error":"#VALUE!"},{"$error":"#VALUE!"},{"$error":"#VALUE!"},{"$error":"#VALUE!"},{"$error":"#VALUE!"},{"$error":"#VALUE!"}]
[{"$f":"'CUADRO INFORMATIVO'!F243","v":0},{"$f":"'CUADRO INFORMATIVO'!G243","v":" "},{"$f":"'CUADRO INFORMATIVO'!H243","v":" "},{"$error":"#VALUE!"},{"$error":"#VALUE!"},{"$error":"#VALUE!"},"0 - 0",{"$error":"#VALUE!"},{"$error":"#VALUE!"},{"$error":"#VALUE!"},{"$error":"#VALUE!"},{"$error":"#VALUE!"},{"$error":"#VALUE!"},{"$error":"#VALUE!"},{"$error":"#VALUE!"},{"$error":"#VALUE!"},{"$error":"#VALUE!"},{"$error":"#VALUE!"}]
[{"$f":"'CUADRO INFORMATIVO'!F244","v":0},{"$f":"'CUADRO INFORMATIVO'!G244","v":" "},{"$f":"'CUADRO INFORMATIVO'!H244","v":" "},{"$error":"#VALUE!"},{"$error":"#VALUE!"},{"$error":"#VALUE!"},"0 - 0",{"$error":"#VALUE!"},{"$error":"#VALUE!"},{"$error":"#VALUE!"},{"$error":"#VALUE!"},{"$error":"#VALUE!"},{"$error":"#VALUE!"},{"$error":"#VALUE!"},{"$error":"#VALUE!"},{"$error":"#VALUE!"},{"$error":"#VALUE!"},{"$error":"#VALUE!"}]
[{"$f":"'CUADRO INFORMATIVO'!F245","v":0},{"$f":"'CUADRO INFORMATIVO'!G245","v":" "},{"$f":"'CUADRO INFORMATIVO'!H245","v":" "},{"$error":"#VALUE!"},{"$error":"#VALUE!"},{"$error":"#VALUE!"},"0 - 0",{"$error":"#VALUE!"},{"$error":"#VALUE!"},{"$error":"#VALUE!"},{"$error":"#VALUE!"},{"$error":"#VALUE!"},{"$error":"#VALUE!"},{"$error":"#VALUE!"},{"$error":"#VALUE!"},{"$error":"#VALUE!"},{"$error":"#VALUE!"},{"$error":"#VALUE!"}]
[{"$f":"'CUADRO INFORMATIVO'!F246","v":0},{"$f":"'CUADRO INFORMATIVO'!G246","v":" "},{"$f":"'CUADRO INFORMATIVO'!H246","v":" "},{"$error":"#VALUE!"},{"$error":"#VALUE!"},{"$error":"#VALUE!"},"0 - 0",{"$error":"#VALUE!"},{"$error":"#VALUE!"},{"$error":"#VALUE!"},{"$error":"#VALUE!"},{"$error":"#VALUE!"},{"$error":"#VALUE!"},{"$error":"#VALUE!"},{"$error":"#VALUE!"},{"$error":"#VALUE!"},{"$error":"#VALUE!"},{"$error":"#VALUE!"}]
[{"$f":"'CUADRO INFORMATIVO'!F247","v":0},{"$f":"'CUADRO INFORMATIVO'!G247","v":" "},{"$f":"'CUADRO INFORMATIVO'!H247","v":" "},{"$error":"#VALUE!"},{"$error":"#VALUE!"},{"$error":"#VALUE!"},"0 - 0",{"$error":"#VALUE!"},{"$error":"#VALUE!"},{"$error":"#VALUE!"},{"$error":"#VALUE!"},{"$error":"#VALUE!"},{"$error":"#VALUE!"},{"$error":"#VALUE!"},{"$error":"#VALUE!"},{"$error":"#VALUE!"},{"$error":"#VALUE!"},{"$error":"#VALUE!"}]
[{"$f":"'CUADRO INFORMATIVO'!F248","v":0},{"$f":"'CUADRO INFORMATIVO'!G248","v":" "},{"$f":"'CUADRO INFORMATIVO'!H248","v":" "},{"$error":"#VALUE!"},{"$error":"#VALUE!"},{"$error":"#VALUE!"},"0 - 0",{"$error":"#VALUE!"},{"$error":"#VALUE!"},{"$error":"#VALUE!"},{"$error":"#VALUE!"},{"$error":"#VALUE!"},{"$error":"#VALUE!"},{"$error":"#VALUE!"},{"$error":"#VALUE!"},{"$error":"#VALUE!"},{"$error":"#VALUE!"},{"$error":"#VALUE!"}]
[{"$f":"'CUADRO INFORMATIVO'!F249","v":0},{"$f":"'CUADRO INFORMATIVO'!G249","v":" "},{"$f":"'CUADRO INFORMATIVO'!H249","v":" "},{"$error":"#VALUE!"},{"$error":"#VALUE!"},{"$error":"#VALUE!"},"0 - 0",{"$error":"#VALUE!"},{"$error":"#VALUE!"},{"$error":"#VALUE!"},{"$error":"#VALUE!"},{"$error":"#VALUE!"},{"$error":"#VALUE!"},{"$error":"#VALUE!"},{"$error":"#VALUE!"},{"$error":"#VALUE!"},{"$error":"#VALUE!"},{"$error":"#VALUE!"}]
[{"$f":"'CUADRO INFORMATIVO'!F250","v":0},{"$f":"'CUADRO INFORMATIVO'!G250","v":" "},{"$f":"'CUADRO INFORMATIVO'!H250","v":" "},{"$error":"#VALUE!"},{"$error":"#VALUE!"},{"$error":"#VALUE!"},"0 - 0",{"$error":"#VALUE!"},{"$error":"#VALUE!"},{"$error":"#VALUE!"},{"$error":"#VALUE!"},{"$error":"#VALUE!"},{"$error":"#VALUE!"},{"$error":"#VALUE!"},{"$error":"#VALUE!"},{"$error":"#VALUE!"},{"$error":"#VALUE!"},{"$error":"#VALUE!"}]
[{"$f":"'CUADRO INFORMATIVO'!F251","v":0},{"$f":"'CUADRO INFORMATIVO'!G251","v":" "},{"$f":"'CUADRO INFORMATIVO'!H251","v":" "},{"$error":"#VALUE!"},{"$error":"#VALUE!"},{"$error":"#VALUE!"},"0 - 0",{"$error":"#VALUE!"},{"$error":"#VALUE!"},{"$error":"#VALUE!"},{"$error":"#VALUE!"},{"$error":"#VALUE!"},{"$error":"#VALUE!"},{"$error":"#VALUE!"},{"$error":"#VALUE!"},{"$error":"#VALUE!"},{"$error":"#VALUE!"},{"$error":"#VALUE!"}]
[{"$f":"'CUADRO INFORMATIVO'!F252","v":0},{"$f":"'CUADRO INFORMATIVO'!G252","v":" "},{"$f":"'CUADRO INFORMATIVO'!H252","v":" "},{"$error":"#VALUE!"},{"$error":"#VALUE!"},{"$error":"#VALUE!"},"0 - 0",{"$error":"#VALUE!"},{"$error":"#VALUE!"},{"$error":"#VALUE!"},{"$error":"#VALUE!"},{"$error":"#VALUE!"},{"$error":"#VALUE!"},{"$error":"#VALUE!"},{"$error":"#VALUE!"},{"$error":"#VALUE!"},{"$error":"#VALUE!"},{"$error":"#VALUE!"}]
[{"$f":"'CUADRO INFORMATIVO'!F253","v":0},{"$f":"'CUADRO INFORMATIVO'!G253","v":" "},{"$f":"'CUADRO INFORMATIVO'!H253","v":" "},{"$error":"#VALUE!"},{"$error":"#VALUE!"},{"$error":"#VALUE!"},"0 - 0",{"$error":"#VALUE!"},{"$error":"#VALUE!"},{"$error":"#VALUE!"},{"$error":"#VALUE!"},{"$error":"#VALUE!"},{"$error":"#VALUE!"},{"$error":"#VALUE!"},{"$error":"#VALUE!"},{"$error":"#VALUE!"},{"$error":"#VALUE!"},{"$error":"#VALUE!"}]
[{"$f":"'CUADRO INFORMATIVO'!F254","v":0},{"$f":"'CUADRO INFORMATIVO'!G254","v":" "},{"$f":"'CUADRO INFORMATIVO'!H254","v":" "},{"$error":"#VALUE!"},{"$error":"#VALUE!"},{"$error":"#VALUE!"},"0 - 0",{"$error":"#VALUE!"},{"$error":"#VALUE!"},{"$error":"#VALUE!"},{"$error":"#VALUE!"},{"$error":"#VALUE!"},{"$error":"#VALUE!"},{"$error":"#VALUE!"},{"$error":"#VALUE!"},{"$error":"#VALUE!"},{"$error":"#VALUE!"},{"$error":"#VALUE!"}]
[{"$f":"'CUADRO INFORMATIVO'!F255","v":0},{"$f":"'CUADRO INFORMATIVO'!G255","v":" "},{"$f":"'CUADRO INFORMATIVO'!H255","v":" "},{"$error":"#VALUE!"},{"$error":"#VALUE!"},{"$error":"#VALUE!"},"0 - 0",{"$error":"#VALUE!"},{"$error":"#VALUE!"},{"$error":"#VALUE!"},{"$error":"#VALUE!"},{"$error":"#VALUE!"},{"$error":"#VALUE!"},{"$error":"#VALUE!"},{"$error":"#VALUE!"},{"$error":"#VALUE!"},{"$error":"#VALUE!"},{"$error":"#VALUE!"}]
[{"$f":"'CUADRO INFORMATIVO'!F256","v":0},{"$f":"'CUADRO INFORMATIVO'!G256","v":" "},{"$f":"'CUADRO INFORMATIVO'!H256","v":" "},{"$error":"#VALUE!"},{"$error":"#VALUE!"},{"$error":"#VALUE!"},"0 - 0",{"$error":"#VALUE!"},{"$error":"#VALUE!"},{"$error":"#VALUE!"},{"$error":"#VALUE!"},{"$error":"#VALUE!"},{"$error":"#VALUE!"},{"$error":"#VALUE!"},{"$error":"#VALUE!"},{"$error":"#VALUE!"},{"$error":"#VALUE!"},{"$error":"#VALUE!"}]
[{"$f":"'CUADRO INFORMATIVO'!F257","v":0},{"$f":"'CUADRO INFORMATIVO'!G257","v":" "},{"$f":"'CUADRO INFORMATIVO'!H257","v":" "},{"$error":"#VALUE!"},{"$error":"#VALUE!"},{"$error":"#VALUE!"},"0 - 0",{"$error":"#VALUE!"},{"$error":"#VALUE!"},{"$error":"#VALUE!"},{"$error":"#VALUE!"},{"$error":"#VALUE!"},{"$error":"#VALUE!"},{"$error":"#VALUE!"},{"$error":"#VALUE!"},{"$error":"#VALUE!"},{"$error":"#VALUE!"},{"$error":"#VALUE!"}]
[{"$f":"'CUADRO INFORMATIVO'!F258","v":0},{"$f":"'CUADRO INFORMATIVO'!G258","v":" "},{"$f":"'CUADRO INFORMATIVO'!H258","v":" "},{"$error":"#VALUE!"},{"$error":"#VALUE!"},{"$error":"#VALUE!"},"0 - 0",{"$error":"#VALUE!"},{"$error":"#VALUE!"},{"$error":"#VALUE!"},{"$error":"#VALUE!"},{"$error":"#VALUE!"},{"$error":"#VALUE!"},{"$error":"#VALUE!"},{"$error":"#VALUE!"},{"$error":"#VALUE!"},{"$error":"#VALUE!"},{"$error":"#VALUE!"}]
[{"$f":"'CUADRO INFORMATIVO'!F259","v":0},{"$f":"'CUADRO INFORMATIVO'!G259","v":" "},{"$f":"'CUADRO INFORMATIVO'!H259","v":" "},{"$error":"#VALUE!"},{"$error":"#VALUE!"},{"$error":"#VALUE!"},"0 - 0",{"$error":"#VALUE!"},{"$error":"#VALUE!"},{"$error":"#VALUE!"},{"$error":"#VALUE!"},{"$error":"#VALUE!"},{"$error":"#VALUE!"},{"$error":"#VALUE!"},{"$error":"#VALUE!"},{"$error":"#VALUE!"},{"$error":"#VALUE!"},{"$error":"#VALUE!"}]
[{"$f":"'CUADRO INFORMATIVO'!F260","v":0},{"$f":"'CUADRO INFORMATIVO'!G260","v":" "},{"$f":"'CUADRO INFORMATIVO'!H260","v":" "},{"$error":"#VALUE!"},{"$error":"#VALUE!"},{"$error":"#VALUE!"},"0 - 0",{"$error":"#VALUE!"},{"$error":"#VALUE!"},{"$error":"#VALUE!"},{"$error":"#VALUE!"},{"$error":"#VALUE!"},{"$error":"#VALUE!"},{"$error":"#VALUE!"},{"$error":"#VALUE!"},{"$error":"#VALUE!"},{"$error":"#VALUE!"},{"$error":"#VALUE!"}]
[{"$f":"'CUADRO INFORMATIVO'!F261","v":0},{"$f":"'CUADRO INFORMATIVO'!G261","v":" "},{"$f":"'CUADRO INFORMATIVO'!H261","v":" "},{"$error":"#VALUE!"},{"$error":"#VALUE!"},{"$error":"#VALUE!"},"0 - 0",{"$error":"#VALUE!"},{"$f":"DEGREES(ATAN(E258/D258))","v":{"$error":"#VALUE!"}},{"$error":"#VALUE!"},{"$error":"#VALUE!"},{"$error":"#VALUE!"},{"$error":"#VALUE!"},{"$error":"#VALUE!"},{"$f":"IF(L258=1,K258,IF(L258=2,180-K258,IF(L258=3,K258-180,IF(L258=4,360-K258))))","v":{"$error":"#VALUE!"}},{"$f":"ROUNDDOWN(K258,0)&\"°\"&ROUNDDOWN((K258-ROUNDDOWN(K258,0))*60,0)&\"'\"&(ROUNDDOWN((((K258-ROUNDDOWN(K258,0))*60)-(ROUNDDOWN(((K258-ROUNDDOWN(K258,0))*60),0)))*60,2))&\"''\"","v":{"$error":"#VALUE!"}},{"$error":"#VALUE!"},{"$error":"#VALUE!"}]
[{"$f":"'CUADRO INFORMATIVO'!F262","v":0},{"$f":"'CUADRO INFORMATIVO'!G262","v":" "},{"$f":"'CUADRO INFORMATIVO'!H262","v":" "},{"$error":"#VALUE!"},{"$error":"#VALUE!"},{"$f":"SQRT((D259^2)+(E259^2))","v":{"$error":"#VALUE!"}},{"$f":"A259&\" - \"&A260","v":"0 - 0"},{"$f":"IF(D259>=0,\"+\",\"-\")&IF(E259>=0,\"+\",\"-\")","v":{"$error":"#VALUE!"}},{"$error":"#VALUE!"},{"$f":"IF(H259=\"++\",I259,IF(H259=\"+-\",I259,IF(H259=\"-+\",I259-180,IF(H259=\"--\",I259+180))))","v":{"$error":"#VALUE!"}},{"$f":"IF(J259>=0,J259,360+J259)","v":{"$error":"#VALUE!"}},{"$f":"IF(K259<=90,1,IF(K259<=180,2,IF(K259<=270,3,IF(K259<=360,4))))","v":{"$error":"#VALUE!"}},{"$f":"IF(L259=1,\"N\",IF(L259=2,\"S\",IF(L259=3,\"S\",IF(L259=4,\"N\"))))","v":{"$error":"#VALUE!"}},{"$f":"IF(L259=1,\"E\",IF(L259=2,\"E\",IF(L259=3,\"W\",IF(L259=4,\"W\"))))","v":{"$error":"#VALUE!"}},{"$error":"#VALUE!"},{"$error":"#VALUE!"},{"$f":"ROUNDDOWN(O259,0)&\"°\"&ROUNDDOWN((O259-ROUNDDOWN(O259,0))*60,0)&\"'\"&(ROUNDDOWN((((O259-ROUNDDOWN(O259,0))*60)-(ROUNDDOWN(((O259-ROUNDDOWN(O259,0))*60),0)))*60,2))&\"''\"","v":{"$error":"#VALUE!"}},{"$f":"M259&\" \"&Q259&\" \"&N259","v":{"$error":"#VALUE!"}}]
[{"$f":"'CUADRO INFORMATIVO'!F263","v":0},{"$f":"'CUADRO INFORMATIVO'!G263","v":" "},{"$f":"'CUADRO INFORMATIVO'!H263","v":" "},{"$f":"IF(B260<>0,IF(B261=0,$B$2-B260,B261-B260),0)","v":{"$error":"#VALUE!"}},{"$f":"IF(C260<>0,IF(C261=0,$C$2-C260,C261-C260),0)","v":{"$error":"#VALUE!"}},{"$error":"#VALUE!"},"0 - 0",{"$error":"#VALUE!"},{"$error":"#VALUE!"},{"$error":"#VALUE!"},{"$error":"#VALUE!"},{"$error":"#VALUE!"},{"$error":"#VALUE!"},{"$error":"#VALUE!"},{"$error":"#VALUE!"},{"$error":"#VALUE!"},{"$error":"#VALUE!"},{"$error":"#VALUE!"}]
[{"$f":"'CUADRO INFORMATIVO'!F264","v":0},{"$f":"'CUADRO INFORMATIVO'!G264","v":" "},{"$f":"'CUADRO INFORMATIVO'!H264","v":" "},{"$error":"#VALUE!"},{"$error":"#VALUE!"},{"$error":"#VALUE!"},"0 - 0",{"$error":"#VALUE!"},{"$error":"#VALUE!"},{"$error":"#VALUE!"},{"$error":"#VALUE!"},{"$error":"#VALUE!"},{"$error":"#VALUE!"},{"$error":"#VALUE!"},{"$error":"#VALUE!"},{"$error":"#VALUE!"},{"$error":"#VALUE!"},{"$error":"#VALUE!"}]
[{"$f":"'CUADRO INFORMATIVO'!F265","v":0},{"$f":"'CUADRO INFORMATIVO'!G265","v":" "},{"$f":"'CUADRO INFORMATIVO'!H265","v":" "},{"$error":"#VALUE!"},{"$error":"#VALUE!"},{"$error":"#VALUE!"},"0 - 0",{"$error":"#VALUE!"},{"$error":"#VALUE!"},{"$error":"#VALUE!"},{"$error":"#VALUE!"},{"$error":"#VALUE!"},{"$error":"#VALUE!"},{"$error":"#VALUE!"},{"$error":"#VALUE!"},{"$error":"#VALUE!"},{"$error":"#VALUE!"},{"$error":"#VALUE!"}]
[{"$f":"'CUADRO INFORMATIVO'!F266","v":0},{"$f":"'CUADRO INFORMATIVO'!G266","v":" "},{"$f":"'CUADRO INFORMATIVO'!H266","v":" "},{"$error":"#VALUE!"},{"$error":"#VALUE!"},{"$error":"#VALUE!"},"0 - 0",{"$error":"#VALUE!"},{"$error":"#VALUE!"},{"$error":"#VALUE!"},{"$error":"#VALUE!"},{"$error":"#VALUE!"},{"$error":"#VALUE!"},{"$error":"#VALUE!"},{"$error":"#VALUE!"},{"$error":"#VALUE!"},{"$error":"#VALUE!"},{"$error":"#VALUE!"}]
[{"$f":"'CUADRO INFORMATIVO'!F267","v":0},{"$f":"'CUADRO INFORMATIVO'!G267","v":" "},{"$f":"'CUADRO INFORMATIVO'!H267","v":" "},{"$error":"#VALUE!"},{"$error":"#VALUE!"},{"$error":"#VALUE!"},"0 - 0",{"$error":"#VALUE!"},{"$error":"#VALUE!"},{"$error":"#VALUE!"},{"$error":"#VALUE!"},{"$error":"#VALUE!"},{"$error":"#VALUE!"},{"$error":"#VALUE!"},{"$error":"#VALUE!"},{"$error":"#VALUE!"},{"$error":"#VALUE!"},{"$error":"#VALUE!"}]
[{"$f":"'CUADRO INFORMATIVO'!F268","v":0},{"$f":"'CUADRO INFORMATIVO'!G268","v":" "},{"$f":"'CUADRO INFORMATIVO'!H268","v":" "},{"$error":"#VALUE!"},{"$error":"#VALUE!"},{"$error":"#VALUE!"},"0 - 0",{"$error":"#VALUE!"},{"$error":"#VALUE!"},{"$error":"#VALUE!"},{"$error":"#VALUE!"},{"$error":"#VALUE!"},{"$error":"#VALUE!"},{"$error":"#VALUE!"},{"$error":"#VALUE!"},{"$error":"#VALUE!"},{"$error":"#VALUE!"},{"$error":"#VALUE!"}]
[{"$f":"'CUADRO INFORMATIVO'!F269","v":0},{"$f":"'CUADRO INFORMATIVO'!G269","v":" "},{"$f":"'CUADRO INFORMATIVO'!H269","v":" "},{"$error":"#VALUE!"},{"$error":"#VALUE!"},{"$error":"#VALUE!"},"0 - 0",{"$error":"#VALUE!"},{"$error":"#VALUE!"},{"$error":"#VALUE!"},{"$error":"#VALUE!"},{"$error":"#VALUE!"},{"$error":"#VALUE!"},{"$error":"#VALUE!"},{"$error":"#VALUE!"},{"$error":"#VALUE!"},{"$error":"#VALUE!"},{"$error":"#VALUE!"}]
[{"$f":"'CUADRO INFORMATIVO'!F270","v":0},{"$f":"'CUADRO INFORMATIVO'!G270","v":" "},{"$f":"'CUADRO INFORMATIVO'!H270","v":" "},{"$error":"#VALUE!"},{"$error":"#VALUE!"},{"$error":"#VALUE!"},"0 - 0",{"$error":"#VALUE!"},{"$error":"#VALUE!"},{"$error":"#VALUE!"},{"$error":"#VALUE!"},{"$error":"#VALUE!"},{"$error":"#VALUE!"},{"$error":"#VALUE!"},{"$error":"#VALUE!"},{"$error":"#VALUE!"},{"$error":"#VALUE!"},{"$error":"#VALUE!"}]
[{"$f":"'CUADRO INFORMATIVO'!F271","v":0},{"$f":"'CUADRO INFORMATIVO'!G271","v":" "},{"$f":"'CUADRO INFORMATIVO'!H271","v":" "},{"$error":"#VALUE!"},{"$error":"#VALUE!"},{"$error":"#VALUE!"},"0 - 0",{"$error":"#VALUE!"},{"$error":"#VALUE!"},{"$error":"#VALUE!"},{"$error":"#VALUE!"},{"$error":"#VALUE!"},{"$error":"#VALUE!"},{"$error":"#VALUE!"},{"$error":"#VALUE!"},{"$error":"#VALUE!"},{"$error":"#VALUE!"},{"$error":"#VALUE!"}]
[{"$f":"'CUADRO INFORMATIVO'!F272","v":0},{"$f":"'CUADRO INFORMATIVO'!G272","v":" "},{"$f":"'CUADRO INFORMATIVO'!H272","v":" "},{"$error":"#VALUE!"},{"$error":"#VALUE!"},{"$error":"#VALUE!"},"0 - 0",{"$error":"#VALUE!"},{"$error":"#VALUE!"},{"$error":"#VALUE!"},{"$error":"#VALUE!"},{"$error":"#VALUE!"},{"$error":"#VALUE!"},{"$error":"#VALUE!"},{"$error":"#VALUE!"},{"$error":"#VALUE!"},{"$error":"#VALUE!"},{"$error":"#VALUE!"}]
[{"$f":"'CUADRO INFORMATIVO'!F273","v":0},{"$f":"'CUADRO INFORMATIVO'!G273","v":" "},{"$f":"'CUADRO INFORMATIVO'!H273","v":" "},{"$error":"#VALUE!"},{"$error":"#VALUE!"},{"$error":"#VALUE!"},"0 - 0",{"$error":"#VALUE!"},{"$error":"#VALUE!"},{"$error":"#VALUE!"},{"$error":"#VALUE!"},{"$error":"#VALUE!"},{"$error":"#VALUE!"},{"$error":"#VALUE!"},{"$error":"#VALUE!"},{"$error":"#VALUE!"},{"$error":"#VALUE!"},{"$error":"#VALUE!"}]
[{"$f":"'CUADRO INFORMATIVO'!F274","v":0},{"$f":"'CUADRO INFORMATIVO'!G274","v":" "},{"$f":"'CUADRO INFORMATIVO'!H274","v":" "},{"$error":"#VALUE!"},{"$error":"#VALUE!"},{"$error":"#VALUE!"},"0 - 0",{"$error":"#VALUE!"},{"$error":"#VALUE!"},{"$error":"#VALUE!"},{"$error":"#VALUE!"},{"$error":"#VALUE!"},{"$error":"#VALUE!"},{"$error":"#VALUE!"},{"$error":"#VALUE!"},{"$error":"#VALUE!"},{"$error":"#VALUE!"},{"$error":"#VALUE!"}]
[{"$f":"'CUADRO INFORMATIVO'!F275","v":0},{"$f":"'CUADRO INFORMATIVO'!G275","v":" "},{"$f":"'CUADRO INFORMATIVO'!H275","v":" "},{"$error":"#VALUE!"},{"$error":"#VALUE!"},{"$error":"#VALUE!"},"0 - 0",{"$error":"#VALUE!"},{"$error":"#VALUE!"},{"$error":"#VALUE!"},{"$error":"#VALUE!"},{"$error":"#VALUE!"},{"$error":"#VALUE!"},{"$error":"#VALUE!"},{"$error":"#VALUE!"},{"$error":"#VALUE!"},{"$error":"#VALUE!"},{"$error":"#VALUE!"}]
[{"$f":"'CUADRO INFORMATIVO'!F276","v":0},{"$f":"'CUADRO INFORMATIVO'!G276","v":" "},{"$f":"'CUADRO INFORMATIVO'!H276","v":" "},{"$error":"#VALUE!"},{"$error":"#VALUE!"},{"$error":"#VALUE!"},"0 - 0",{"$error":"#VALUE!"},{"$error":"#VALUE!"},{"$error":"#VALUE!"},{"$error":"#VALUE!"},{"$error":"#VALUE!"},{"$error":"#VALUE!"},{"$error":"#VALUE!"},{"$error":"#VALUE!"},{"$error":"#VALUE!"},{"$error":"#VALUE!"},{"$error":"#VALUE!"}]
[{"$f":"'CUADRO INFORMATIVO'!F277","v":0},{"$f":"'CUADRO INFORMATIVO'!G277","v":" "},{"$f":"'CUADRO INFORMATIVO'!H277","v":" "},{"$error":"#VALUE!"},{"$error":"#VALUE!"},{"$error":"#VALUE!"},"0 - 0",{"$error":"#VALUE!"},{"$error":"#VALUE!"},{"$error":"#VALUE!"},{"$error":"#VALUE!"},{"$error":"#VALUE!"},{"$error":"#VALUE!"},{"$error":"#VALUE!"},{"$error":"#VALUE!"},{"$error":"#VALUE!"},{"$error":"#VALUE!"},{"$error":"#VALUE!"}]
[{"$f":"'CUADRO INFORMATIVO'!F278","v":0},{"$f":"'CUADRO INFORMATIVO'!G278","v":" "},{"$f":"'CUADRO INFORMATIVO'!H278","v":" "},{"$error":"#VALUE!"},{"$error":"#VALUE!"},{"$error":"#VALUE!"},"0 - 0",{"$error":"#VALUE!"},{"$error":"#VALUE!"},{"$error":"#VALUE!"},{"$error":"#VALUE!"},{"$error":"#VALUE!"},{"$error":"#VALUE!"},{"$error":"#VALUE!"},{"$error":"#VALUE!"},{"$error":"#VALUE!"},{"$error":"#VALUE!"},{"$error":"#VALUE!"}]
[{"$f":"'CUADRO INFORMATIVO'!F279","v":0},{"$f":"'CUADRO INFORMATIVO'!G279","v":" "},{"$f":"'CUADRO INFORMATIVO'!H279","v":" "},{"$error":"#VALUE!"},{"$error":"#VALUE!"},{"$error":"#VALUE!"},"0 - 0",{"$error":"#VALUE!"},{"$error":"#VALUE!"},{"$error":"#VALUE!"},{"$error":"#VALUE!"},{"$error":"#VALUE!"},{"$error":"#VALUE!"},{"$error":"#VALUE!"},{"$error":"#VALUE!"},{"$error":"#VALUE!"},{"$error":"#VALUE!"},{"$error":"#VALUE!"}]
[{"$f":"'CUADRO INFORMATIVO'!F280","v":0},{"$f":"'CUADRO INFORMATIVO'!G280","v":" "},{"$f":"'CUADRO INFORMATIVO'!H280","v":" "},{"$error":"#VALUE!"},{"$error":"#VALUE!"},{"$error":"#VALUE!"},"0 - 0",{"$error":"#VALUE!"},{"$error":"#VALUE!"},{"$error":"#VALUE!"},{"$error":"#VALUE!"},{"$error":"#VALUE!"},{"$error":"#VALUE!"},{"$error":"#VALUE!"},{"$error":"#VALUE!"},{"$error":"#VALUE!"},{"$error":"#VALUE!"},{"$error":"#VALUE!"}]
[{"$f":"'CUADRO INFORMATIVO'!F281","v":0},{"$f":"'CUADRO INFORMATIVO'!G281","v":" "},{"$f":"'CUADRO INFORMATIVO'!H281","v":" "},{"$error":"#VALUE!"},{"$error":"#VALUE!"},{"$error":"#VALUE!"},"0 - 0",{"$error":"#VALUE!"},{"$error":"#VALUE!"},{"$error":"#VALUE!"},{"$error":"#VALUE!"},{"$error":"#VALUE!"},{"$error":"#VALUE!"},{"$error":"#VALUE!"},{"$error":"#VALUE!"},{"$error":"#VALUE!"},{"$error":"#VALUE!"},{"$error":"#VALUE!"}]
[{"$f":"'CUADRO INFORMATIVO'!F282","v":0},{"$f":"'CUADRO INFORMATIVO'!G282","v":" "},{"$f":"'CUADRO INFORMATIVO'!H282","v":" "},{"$error":"#VALUE!"},{"$error":"#VALUE!"},{"$error":"#VALUE!"},"0 - 0",{"$error":"#VALUE!"},{"$error":"#VALUE!"},{"$error":"#VALUE!"},{"$error":"#VALUE!"},{"$error":"#VALUE!"},{"$error":"#VALUE!"},{"$error":"#VALUE!"},{"$error":"#VALUE!"},{"$error":"#VALUE!"},{"$error":"#VALUE!"},{"$error":"#VALUE!"}]
[{"$f":"'CUADRO INFORMATIVO'!F283","v":0},{"$f":"'CUADRO INFORMATIVO'!G283","v":" "},{"$f":"'CUADRO INFORMATIVO'!H283","v":" "},{"$error":"#VALUE!"},{"$error":"#VALUE!"},{"$error":"#VALUE!"},"0 - 0",{"$error":"#VALUE!"},{"$error":"#VALUE!"},{"$error":"#VALUE!"},{"$error":"#VALUE!"},{"$error":"#VALUE!"},{"$error":"#VALUE!"},{"$error":"#VALUE!"},{"$error":"#VALUE!"},{"$error":"#VALUE!"},{"$error":"#VALUE!"},{"$error":"#VALUE!"}]
[{"$f":"'CUADRO INFORMATIVO'!F284","v":0},{"$f":"'CUADRO INFORMATIVO'!G284","v":" "},{"$f":"'CUADRO INFORMATIVO'!H284","v":" "},{"$error":"#VALUE!"},{"$error":"#VALUE!"},{"$error":"#VALUE!"},"0 - 0",{"$error":"#VALUE!"},{"$error":"#VALUE!"},{"$error":"#VALUE!"},{"$error":"#VALUE!"},{"$error":"#VALUE!"},{"$error":"#VALUE!"},{"$error":"#VALUE!"},{"$error":"#VALUE!"},{"$error":"#VALUE!"},{"$error":"#VALUE!"},{"$error":"#VALUE!"}]
[{"$f":"'CUADRO INFORMATIVO'!F285","v":0},{"$f":"'CUADRO INFORMATIVO'!G285","v":" "},{"$f":"'CUADRO INFORMATIVO'!H285","v":" "},{"$error":"#VALUE!"},{"$error":"#VALUE!"},{"$error":"#VALUE!"},"0 - 0",{"$error":"#VALUE!"},{"$error":"#VALUE!"},{"$error":"#VALUE!"},{"$error":"#VALUE!"},{"$error":"#VALUE!"},{"$error":"#VALUE!"},{"$error":"#VALUE!"},{"$error":"#VALUE!"},{"$error":"#VALUE!"},{"$error":"#VALUE!"},{"$error":"#VALUE!"}]
[{"$f":"'CUADRO INFORMATIVO'!F286","v":0},{"$f":"'CUADRO INFORMATIVO'!G286","v":" "},{"$f":"'CUADRO INFORMATIVO'!H286","v":" "},{"$error":"#VALUE!"},{"$error":"#VALUE!"},{"$error":"#VALUE!"},"0 - 0",{"$error":"#VALUE!"},{"$error":"#VALUE!"},{"$error":"#VALUE!"},{"$error":"#VALUE!"},{"$error":"#VALUE!"},{"$error":"#VALUE!"},{"$error":"#VALUE!"},{"$error":"#VALUE!"},{"$error":"#VALUE!"},{"$error":"#VALUE!"},{"$error":"#VALUE!"}]
[{"$f":"'CUADRO INFORMATIVO'!F287","v":0},{"$f":"'CUADRO INFORMATIVO'!G287","v":" "},{"$f":"'CUADRO INFORMATIVO'!H287","v":" "},{"$error":"#VALUE!"},{"$error":"#VALUE!"},{"$error":"#VALUE!"},"0 - 0",{"$error":"#VALUE!"},{"$error":"#VALUE!"},{"$error":"#VALUE!"},{"$error":"#VALUE!"},{"$error":"#VALUE!"},{"$error":"#VALUE!"},{"$error":"#VALUE!"},{"$error":"#VALUE!"},{"$error":"#VALUE!"},{"$error":"#VALUE!"},{"$error":"#VALUE!"}]
[{"$f":"'CUADRO INFORMATIVO'!F288","v":0},{"$f":"'CUADRO INFORMATIVO'!G288","v":" "},{"$f":"'CUADRO INFORMATIVO'!H288","v":" "},{"$error":"#VALUE!"},{"$error":"#VALUE!"},{"$error":"#VALUE!"},"0 - 0",{"$error":"#VALUE!"},{"$error":"#VALUE!"},{"$error":"#VALUE!"},{"$error":"#VALUE!"},{"$error":"#VALUE!"},{"$error":"#VALUE!"},{"$error":"#VALUE!"},{"$error":"#VALUE!"},{"$error":"#VALUE!"},{"$error":"#VALUE!"},{"$error":"#VALUE!"}]
[{"$f":"'CUADRO INFORMATIVO'!F289","v":0},{"$f":"'CUADRO INFORMATIVO'!G289","v":" "},{"$f":"'CUADRO INFORMATIVO'!H289","v":" "},{"$error":"#VALUE!"},{"$error":"#VALUE!"},{"$error":"#VALUE!"},"0 - 0",{"$error":"#VALUE!"},{"$error":"#VALUE!"},{"$error":"#VALUE!"},{"$error":"#VALUE!"},{"$error":"#VALUE!"},{"$error":"#VALUE!"},{"$error":"#VALUE!"},{"$error":"#VALUE!"},{"$error":"#VALUE!"},{"$error":"#VALUE!"},{"$error":"#VALUE!"}]
[{"$f":"'CUADRO INFORMATIVO'!F290","v":0},{"$f":"'CUADRO INFORMATIVO'!G290","v":" "},{"$f":"'CUADRO INFORMATIVO'!H290","v":" "},{"$error":"#VALUE!"},{"$error":"#VALUE!"},{"$error":"#VALUE!"},"0 - 0",{"$error":"#VALUE!"},{"$error":"#VALUE!"},{"$error":"#VALUE!"},{"$error":"#VALUE!"},{"$error":"#VALUE!"},{"$error":"#VALUE!"},{"$error":"#VALUE!"},{"$error":"#VALUE!"},{"$error":"#VALUE!"},{"$error":"#VALUE!"},{"$error":"#VALUE!"}]
[{"$f":"'CUADRO INFORMATIVO'!F291","v":0},{"$f":"'CUADRO INFORMATIVO'!G291","v":" "},{"$f":"'CUADRO INFORMATIVO'!H291","v":" "},{"$error":"#VALUE!"},{"$error":"#VALUE!"},{"$error":"#VALUE!"},"0 - 0",{"$error":"#VALUE!"},{"$error":"#VALUE!"},{"$error":"#VALUE!"},{"$error":"#VALUE!"},{"$error":"#VALUE!"},{"$error":"#VALUE!"},{"$error":"#VALUE!"},{"$error":"#VALUE!"},{"$error":"#VALUE!"},{"$error":"#VALUE!"},{"$error":"#VALUE!"}]
[{"$f":"'CUADRO INFORMATIVO'!F292","v":0},{"$f":"'CUADRO INFORMATIVO'!G292","v":" "},{"$f":"'CUADRO INFORMATIVO'!H292","v":" "},{"$error":"#VALUE!"},{"$error":"#VALUE!"},{"$error":"#VALUE!"},"0 - 0",{"$error":"#VALUE!"},{"$error":"#VALUE!"},{"$error":"#VALUE!"},{"$error":"#VALUE!"},{"$error":"#VALUE!"},{"$error":"#VALUE!"},{"$error":"#VALUE!"},{"$error":"#VALUE!"},{"$error":"#VALUE!"},{"$error":"#VALUE!"},{"$error":"#VALUE!"}]
[{"$f":"'CUADRO INFORMATIVO'!F293","v":0},{"$f":"'CUADRO INFORMATIVO'!G293","v":" "},{"$f":"'CUADRO INFORMATIVO'!H293","v":" "},{"$error":"#VALUE!"},{"$error":"#VALUE!"},{"$error":"#VALUE!"},"0 - 0",{"$error":"#VALUE!"},{"$error":"#VALUE!"},{"$error":"#VALUE!"},{"$error":"#VALUE!"},{"$error":"#VALUE!"},{"$error":"#VALUE!"},{"$error":"#VALUE!"},{"$error":"#VALUE!"},{"$error":"#VALUE!"},{"$error":"#VALUE!"},{"$error":"#VALUE!"}]
[{"$f":"'CUADRO INFORMATIVO'!F294","v":0},{"$f":"'CUADRO INFORMATIVO'!G294","v":" "},{"$f":"'CUADRO INFORMATIVO'!H294","v":" "},{"$error":"#VALUE!"},{"$error":"#VALUE!"},{"$error":"#VALUE!"},"0 - 0",{"$error":"#VALUE!"},{"$error":"#VALUE!"},{"$error":"#VALUE!"},{"$error":"#VALUE!"},{"$error":"#VALUE!"},{"$error":"#VALUE!"},{"$error":"#VALUE!"},{"$error":"#VALUE!"},{"$error":"#VALUE!"},{"$error":"#VALUE!"},{"$error":"#VALUE!"}]
[{"$f":"'CUADRO INFORMATIVO'!F295","v":0},{"$f":"'CUADRO INFORMATIVO'!G295","v":" "},{"$f":"'CUADRO INFORMATIVO'!H295","v":" "},{"$error":"#VALUE!"},{"$error":"#VALUE!"},{"$error":"#VALUE!"},"0 - 0",{"$error":"#VALUE!"},{"$error":"#VALUE!"},{"$error":"#VALUE!"},{"$error":"#VALUE!"},{"$error":"#VALUE!"},{"$error":"#VALUE!"},{"$error":"#VALUE!"},{"$error":"#VALUE!"},{"$error":"#VALUE!"},{"$error":"#VALUE!"},{"$error":"#VALUE!"}]
[{"$f":"'CUADRO INFORMATIVO'!F296","v":0},{"$f":"'CUADRO INFORMATIVO'!G296","v":" "},{"$f":"'CUADRO INFORMATIVO'!H296","v":" "},{"$error":"#VALUE!"},{"$error":"#VALUE!"},{"$error":"#VALUE!"},"0 - 0",{"$error":"#VALUE!"},{"$error":"#VALUE!"},{"$error":"#VALUE!"},{"$error":"#VALUE!"},{"$error":"#VALUE!"},{"$error":"#VALUE!"},{"$error":"#VALUE!"},{"$error":"#VALUE!"},{"$error":"#VALUE!"},{"$error":"#VALUE!"},{"$error":"#VALUE!"}]
[{"$f":"'CUADRO INFORMATIVO'!F297","v":0},{"$f":"'CUADRO INFORMATIVO'!G297","v":" "},{"$f":"'CUADRO INFORMATIVO'!H297","v":" "},{"$error":"#VALUE!"},{"$error":"#VALUE!"},{"$error":"#VALUE!"},"0 - 0",{"$error":"#VALUE!"},{"$error":"#VALUE!"},{"$error":"#VALUE!"},{"$error":"#VALUE!"},{"$error":"#VALUE!"},{"$error":"#VALUE!"},{"$error":"#VALUE!"},{"$error":"#VALUE!"},{"$error":"#VALUE!"},{"$error":"#VALUE!"},{"$error":"#VALUE!"}]
[{"$f":"'CUADRO INFORMATIVO'!F298","v":0},{"$f":"'CUADRO INFORMATIVO'!G298","v":" "},{"$f":"'CUADRO INFORMATIVO'!H298","v":" "},{"$error":"#VALUE!"},{"$error":"#VALUE!"},{"$error":"#VALUE!"},"0 - 0",{"$error":"#VALUE!"},{"$error":"#VALUE!"},{"$error":"#VALUE!"},{"$error":"#VALUE!"},{"$error":"#VALUE!"},{"$error":"#VALUE!"},{"$error":"#VALUE!"},{"$error":"#VALUE!"},{"$error":"#VALUE!"},{"$error":"#VALUE!"},{"$error":"#VALUE!"}]
[{"$f":"'CUADRO INFORMATIVO'!F299","v":0},{"$f":"'CUADRO INFORMATIVO'!G299","v":" "},{"$f":"'CUADRO INFORMATIVO'!H299","v":" "},{"$error":"#VALUE!"},{"$error":"#VALUE!"},{"$error":"#VALUE!"},"0 - 0",{"$error":"#VALUE!"},{"$error":"#VALUE!"},{"$error":"#VALUE!"},{"$error":"#VALUE!"},{"$error":"#VALUE!"},{"$error":"#VALUE!"},{"$error":"#VALUE!"},{"$error":"#VALUE!"},{"$error":"#VALUE!"},{"$error":"#VALUE!"},{"$error":"#VALUE!"}]
[{"$f":"'CUADRO INFORMATIVO'!F300","v":0},{"$f":"'CUADRO INFORMATIVO'!G300","v":" "},{"$f":"'CUADRO INFORMATIVO'!H300","v":" "},{"$error":"#VALUE!"},{"$error":"#VALUE!"},{"$error":"#VALUE!"},"0 - 0",{"$error":"#VALUE!"},{"$error":"#VALUE!"},{"$error":"#VALUE!"},{"$error":"#VALUE!"},{"$error":"#VALUE!"},{"$error":"#VALUE!"},{"$error":"#VALUE!"},{"$error":"#VALUE!"},{"$error":"#VALUE!"},{"$error":"#VALUE!"},{"$error":"#VALUE!"}]
[{"$f":"'CUADRO INFORMATIVO'!F301","v":0},{"$f":"'CUADRO INFORMATIVO'!G301","v":" "},{"$f":"'CUADRO INFORMATIVO'!H301","v":" "},{"$error":"#VALUE!"},{"$error":"#VALUE!"},{"$error":"#VALUE!"},"0 - 0",{"$error":"#VALUE!"},{"$error":"#VALUE!"},{"$error":"#VALUE!"},{"$error":"#VALUE!"},{"$error":"#VALUE!"},{"$error":"#VALUE!"},{"$error":"#VALUE!"},{"$error":"#VALUE!"},{"$error":"#VALUE!"},{"$error":"#VALUE!"},{"$error":"#VALUE!"}]
[{"$f":"'CUADRO INFORMATIVO'!F302","v":0},{"$f":"'CUADRO INFORMATIVO'!G302","v":" "},{"$f":"'CUADRO INFORMATIVO'!H302","v":" "},{"$error":"#VALUE!"},{"$error":"#VALUE!"},{"$error":"#VALUE!"},"0 - 0",{"$error":"#VALUE!"},{"$error":"#VALUE!"},{"$error":"#VALUE!"},{"$error":"#VALUE!"},{"$error":"#VALUE!"},{"$error":"#VALUE!"},{"$error":"#VALUE!"},{"$error":"#VALUE!"},{"$error":"#VALUE!"},{"$error":"#VALUE!"},{"$error":"#VALUE!"}]
[{"$f":"'CUADRO INFORMATIVO'!F303","v":0},{"$f":"'CUADRO INFORMATIVO'!G303","v":" "},{"$f":"'CUADRO INFORMATIVO'!H303","v":" "},{"$error":"#VALUE!"},{"$error":"#VALUE!"},{"$error":"#VALUE!"},"0 - 0",{"$error":"#VALUE!"},{"$error":"#VALUE!"},{"$error":"#VALUE!"},{"$error":"#VALUE!"},{"$error":"#VALUE!"},{"$error":"#VALUE!"},{"$error":"#VALUE!"},{"$error":"#VALUE!"},{"$error":"#VALUE!"},{"$error":"#VALUE!"},{"$error":"#VALUE!"}]
[{"$f":"'CUADRO INFORMATIVO'!F304","v":0},{"$f":"'CUADRO INFORMATIVO'!G304","v":" "},{"$f":"'CUADRO INFORMATIVO'!H304","v":" "},{"$error":"#VALUE!"},{"$error":"#VALUE!"},{"$error":"#VALUE!"},"0 - 0",{"$error":"#VALUE!"},{"$error":"#VALUE!"},{"$error":"#VALUE!"},{"$error":"#VALUE!"},{"$error":"#VALUE!"},{"$error":"#VALUE!"},{"$error":"#VALUE!"},{"$error":"#VALUE!"},{"$error":"#VALUE!"},{"$error":"#VALUE!"},{"$error":"#VALUE!"}]
[{"$f":"'CUADRO INFORMATIVO'!F305","v":0},{"$f":"'CUADRO INFORMATIVO'!G305","v":" "},{"$f":"'CUADRO INFORMATIVO'!H305","v":" "},{"$error":"#VALUE!"},{"$error":"#VALUE!"},{"$error":"#VALUE!"},"0 - 0",{"$error":"#VALUE!"},{"$error":"#VALUE!"},{"$error":"#VALUE!"},{"$error":"#VALUE!"},{"$error":"#VALUE!"},{"$error":"#VALUE!"},{"$error":"#VALUE!"},{"$error":"#VALUE!"},{"$error":"#VALUE!"},{"$error":"#VALUE!"},{"$error":"#VALUE!"}]
[{"$f":"'CUADRO INFORMATIVO'!F306","v":0},{"$f":"'CUADRO INFORMATIVO'!G306","v":" "},{"$f":"'CUADRO INFORMATIVO'!H306","v":" "},{"$error":"#VALUE!"},{"$error":"#VALUE!"},{"$error":"#VALUE!"},"0 - 0",{"$error":"#VALUE!"},{"$error":"#VALUE!"},{"$error":"#VALUE!"},{"$error":"#VALUE!"},{"$error":"#VALUE!"},{"$error":"#VALUE!"},{"$error":"#VALUE!"},{"$error":"#VALUE!"},{"$error":"#VALUE!"},{"$error":"#VALUE!"},{"$error":"#VALUE!"}]
[{"$f":"'CUADRO INFORMATIVO'!F307","v":0},{"$f":"'CUADRO INFORMATIVO'!G307","v":" "},{"$f":"'CUADRO INFORMATIVO'!H307","v":" "},{"$error":"#VALUE!"},{"$error":"#VALUE!"},{"$error":"#VALUE!"},"0 - 0",{"$error":"#VALUE!"},{"$error":"#VALUE!"},{"$error":"#VALUE!"},{"$error":"#VALUE!"},{"$error":"#VALUE!"},{"$error":"#VALUE!"},{"$error":"#VALUE!"},{"$error":"#VALUE!"},{"$error":"#VALUE!"},{"$error":"#VALUE!"},{"$error":"#VALUE!"}]
[{"$f":"'CUADRO INFORMATIVO'!F308","v":0},{"$f":"'CUADRO INFORMATIVO'!G308","v":" "},{"$f":"'CUADRO INFORMATIVO'!H308","v":" "},{"$error":"#VALUE!"},{"$error":"#VALUE!"},{"$error":"#VALUE!"},"0 - 0",{"$error":"#VALUE!"},{"$error":"#VALUE!"},{"$error":"#VALUE!"},{"$error":"#VALUE!"},{"$error":"#VALUE!"},{"$error":"#VALUE!"},{"$error":"#VALUE!"},{"$error":"#VALUE!"},{"$error":"#VALUE!"},{"$error":"#VALUE!"},{"$error":"#VALUE!"}]
[{"$f":"'CUADRO INFORMATIVO'!F309","v":0},{"$f":"'CUADRO INFORMATIVO'!G309","v":" "},{"$f":"'CUADRO INFORMATIVO'!H309","v":" "},{"$error":"#VALUE!"},{"$error":"#VALUE!"},{"$error":"#VALUE!"},"0 - 0",{"$error":"#VALUE!"},{"$error":"#VALUE!"},{"$error":"#VALUE!"},{"$error":"#VALUE!"},{"$error":"#VALUE!"},{"$error":"#VALUE!"},{"$error":"#VALUE!"},{"$error":"#VALUE!"},{"$error":"#VALUE!"},{"$error":"#VALUE!"},{"$error":"#VALUE!"}]
[{"$f":"'CUADRO INFORMATIVO'!F310","v":0},{"$f":"'CUADRO INFORMATIVO'!G310","v":" "},{"$f":"'CUADRO INFORMATIVO'!H310","v":" "},{"$error":"#VALUE!"},{"$error":"#VALUE!"},{"$error":"#VALUE!"},"0 - 0",{"$error":"#VALUE!"},{"$error":"#VALUE!"},{"$error":"#VALUE!"},{"$error":"#VALUE!"},{"$error":"#VALUE!"},{"$error":"#VALUE!"},{"$error":"#VALUE!"},{"$error":"#VALUE!"},{"$error":"#VALUE!"},{"$error":"#VALUE!"},{"$error":"#VALUE!"}]
[{"$f":"'CUADRO INFORMATIVO'!F311","v":0},{"$f":"'CUADRO INFORMATIVO'!G311","v":" "},{"$f":"'CUADRO INFORMATIVO'!H311","v":" "},{"$error":"#VALUE!"},{"$error":"#VALUE!"},{"$error":"#VALUE!"},"0 - 0",{"$error":"#VALUE!"},{"$error":"#VALUE!"},{"$error":"#VALUE!"},{"$error":"#VALUE!"},{"$error":"#VALUE!"},{"$error":"#VALUE!"},{"$error":"#VALUE!"},{"$error":"#VALUE!"},{"$error":"#VALUE!"},{"$error":"#VALUE!"},{"$error":"#VALUE!"}]
[{"$f":"'CUADRO INFORMATIVO'!F312","v":0},{"$f":"'CUADRO INFORMATIVO'!G312","v":" "},{"$f":"'CUADRO INFORMATIVO'!H312","v":" "},{"$error":"#VALUE!"},{"$error":"#VALUE!"},{"$error":"#VALUE!"},"0 - 0",{"$error":"#VALUE!"},{"$error":"#VALUE!"},{"$error":"#VALUE!"},{"$error":"#VALUE!"},{"$error":"#VALUE!"},{"$error":"#VALUE!"},{"$error":"#VALUE!"},{"$error":"#VALUE!"},{"$error":"#VALUE!"},{"$error":"#VALUE!"},{"$error":"#VALUE!"}]
[{"$f":"'CUADRO INFORMATIVO'!F313","v":0},{"$f":"'CUADRO INFORMATIVO'!G313","v":" "},{"$f":"'CUADRO INFORMATIVO'!H313","v":" "},{"$error":"#VALUE!"},{"$error":"#VALUE!"},{"$error":"#VALUE!"},"0 - 0",{"$error":"#VALUE!"},{"$error":"#VALUE!"},{"$error":"#VALUE!"},{"$error":"#VALUE!"},{"$error":"#VALUE!"},{"$error":"#VALUE!"},{"$error":"#VALUE!"},{"$error":"#VALUE!"},{"$error":"#VALUE!"},{"$error":"#VALUE!"},{"$error":"#VALUE!"}]
[{"$f":"'CUADRO INFORMATIVO'!F314","v":0},{"$f":"'CUADRO INFORMATIVO'!G314","v":" "},{"$f":"'CUADRO INFORMATIVO'!H314","v":" "},{"$error":"#VALUE!"},{"$error":"#VALUE!"},{"$error":"#VALUE!"},"0 - 0",{"$error":"#VALUE!"},{"$error":"#VALUE!"},{"$error":"#VALUE!"},{"$error":"#VALUE!"},{"$error":"#VALUE!"},{"$error":"#VALUE!"},{"$error":"#VALUE!"},{"$error":"#VALUE!"},{"$error":"#VALUE!"},{"$error":"#VALUE!"},{"$error":"#VALUE!"}]
[{"$f":"'CUADRO INFORMATIVO'!F315","v":0},{"$f":"'CUADRO INFORMATIVO'!G315","v":" "},{"$f":"'CUADRO INFORMATIVO'!H315","v":" "},{"$error":"#VALUE!"},{"$error":"#VALUE!"},{"$error":"#VALUE!"},"0 - 0",{"$error":"#VALUE!"},{"$error":"#VALUE!"},{"$error":"#VALUE!"},{"$error":"#VALUE!"},{"$error":"#VALUE!"},{"$error":"#VALUE!"},{"$error":"#VALUE!"},{"$error":"#VALUE!"},{"$error":"#VALUE!"},{"$error":"#VALUE!"},{"$error":"#VALUE!"}]
[{"$f":"'CUADRO INFORMATIVO'!F316","v":0},{"$f":"'CUADRO INFORMATIVO'!G316","v":" "},{"$f":"'CUADRO INFORMATIVO'!H316","v":" "},{"$error":"#VALUE!"},{"$error":"#VALUE!"},{"$error":"#VALUE!"},"0 - 0",{"$error":"#VALUE!"},{"$error":"#VALUE!"},{"$error":"#VALUE!"},{"$error":"#VALUE!"},{"$error":"#VALUE!"},{"$error":"#VALUE!"},{"$error":"#VALUE!"},{"$error":"#VALUE!"},{"$error":"#VALUE!"},{"$error":"#VALUE!"},{"$error":"#VALUE!"}]
[{"$f":"'CUADRO INFORMATIVO'!F317","v":0},{"$f":"'CUADRO INFORMATIVO'!G317","v":" "},{"$f":"'CUADRO INFORMATIVO'!H317","v":" "},{"$error":"#VALUE!"},{"$error":"#VALUE!"},{"$error":"#VALUE!"},"0 - 0",{"$error":"#VALUE!"},{"$error":"#VALUE!"},{"$error":"#VALUE!"},{"$error":"#VALUE!"},{"$error":"#VALUE!"},{"$error":"#VALUE!"},{"$error":"#VALUE!"},{"$error":"#VALUE!"},{"$error":"#VALUE!"},{"$error":"#VALUE!"},{"$error":"#VALUE!"}]
[{"$f":"'CUADRO INFORMATIVO'!F318","v":0},{"$f":"'CUADRO INFORMATIVO'!G318","v":" "},{"$f":"'CUADRO INFORMATIVO'!H318","v":" "},{"$error":"#VALUE!"},{"$error":"#VALUE!"},{"$error":"#VALUE!"},"0 - 0",{"$error":"#VALUE!"},{"$error":"#VALUE!"},{"$error":"#VALUE!"},{"$error":"#VALUE!"},{"$error":"#VALUE!"},{"$error":"#VALUE!"},{"$error":"#VALUE!"},{"$error":"#VALUE!"},{"$error":"#VALUE!"},{"$error":"#VALUE!"},{"$error":"#VALUE!"}]
[{"$f":"'CUADRO INFORMATIVO'!F319","v":0},{"$f":"'CUADRO INFORMATIVO'!G319","v":" "},{"$f":"'CUADRO INFORMATIVO'!H319","v":" "},{"$error":"#VALUE!"},{"$error":"#VALUE!"},{"$error":"#VALUE!"},"0 - 0",{"$error":"#VALUE!"},{"$error":"#VALUE!"},{"$error":"#VALUE!"},{"$error":"#VALUE!"},{"$error":"#VALUE!"},{"$error":"#VALUE!"},{"$error":"#VALUE!"},{"$error":"#VALUE!"},{"$error":"#VALUE!"},{"$error":"#VALUE!"},{"$error":"#VALUE!"}]
[{"$f":"'CUADRO INFORMATIVO'!F320","v":0},{"$f":"'CUADRO INFORMATIVO'!G320","v":" "},{"$f":"'CUADRO INFORMATIVO'!H320","v":" "},{"$error":"#VALUE!"},{"$error":"#VALUE!"},{"$error":"#VALUE!"},"0 - 0",{"$error":"#VALUE!"},{"$error":"#VALUE!"},{"$error":"#VALUE!"},{"$error":"#VALUE!"},{"$error":"#VALUE!"},{"$error":"#VALUE!"},{"$error":"#VALUE!"},{"$error":"#VALUE!"},{"$error":"#VALUE!"},{"$error":"#VALUE!"},{"$error":"#VALUE!"}]
[{"$f":"'CUADRO INFORMATIVO'!F321","v":0},{"$f":"'CUADRO INFORMATIVO'!G321","v":" "},{"$f":"'CUADRO INFORMATIVO'!H321","v":" "},{"$error":"#VALUE!"},{"$error":"#VALUE!"},{"$error":"#VALUE!"},"0 - 0",{"$error":"#VALUE!"},{"$error":"#VALUE!"},{"$error":"#VALUE!"},{"$error":"#VALUE!"},{"$error":"#VALUE!"},{"$error":"#VALUE!"},{"$error":"#VALUE!"},{"$error":"#VALUE!"},{"$error":"#VALUE!"},{"$error":"#VALUE!"},{"$error":"#VALUE!"}]
[{"$f":"'CUADRO INFORMATIVO'!F322","v":0},{"$f":"'CUADRO INFORMATIVO'!G322","v":" "},{"$f":"'CUADRO INFORMATIVO'!H322","v":" "},{"$error":"#VALUE!"},{"$error":"#VALUE!"},{"$error":"#VALUE!"},"0 - ",{"$error":"#VALUE!"},{"$error":"#VALUE!"},{"$error":"#VALUE!"},{"$error":"#VALUE!"},{"$error":"#VALUE!"},{"$error":"#VALUE!"},{"$error":"#VALUE!"},{"$error":"#VALUE!"},{"$error":"#VALUE!"},{"$error":"#VALUE!"},{"$error":"#VALUE!"}]